BEGIN:VCALENDAR
VERSION:2.0
PRODID:-//achurchnearyou.com//eventfeed//EN
CALSCALE:GREGORIAN
METHOD:PUBLISH
X-WR-TIMEZONE:UTC
BEGIN:VEVENT
SUMMARY:Camping at the foot of the cross
DTSTART:20260403T180000Z
DTEND:20260403T190000Z
DTSTAMP:20260422T105631Z
UID:13145052026-04-03 18:00:00+00:00achurchnearyou
CATEGORIES:
DESCRIPTION:Followed by church open for prayer
GEO:-1.504108;53.388197
LOCATION:St Timothy's\, Crookes
URL:https://www.achurchnearyou.com/church/17496/service-and-events/events/
 1314505/
END:VEVENT
END:VCALENDAR
