BEGIN:VCALENDAR
VERSION:2.0
PRODID:-//achurchnearyou.com//eventfeed//EN
CALSCALE:GREGORIAN
METHOD:PUBLISH
X-WR-TIMEZONE:UTC
BEGIN:VEVENT
SUMMARY:Easter Vigil on Easter Eve
DTSTART:20250419T193000Z
DTEND:20250419T203000Z
DTSTAMP:20260424T105432Z
UID:11800892025-04-19 19:30:00+00:00achurchnearyou
CATEGORIES:
DESCRIPTION:Join us at St John's Church\, Ranmoor for a special Easter Eve
  service on Saturday\, 19th April\, at 8 pm.\n\n🔥 Lighting of the Easte
 r Fire and Vigil\n\nAttend in church or online via YouTube.\nMore info: ww
 w.stjohnsranmoor.org.uk\n\n#EasterEve #StJohnsRanmoor #Easter
GEO:-1.521327;53.372448
LOCATION:St John the Evangelist\, Ranmoor
URL:http://www.stjohnsranmoor.org.uk/easter
END:VEVENT
END:VCALENDAR
