BEGIN:VCALENDAR
VERSION:2.0
PRODID:-//achurchnearyou.com//eventfeed//EN
CALSCALE:GREGORIAN
METHOD:PUBLISH
X-WR-TIMEZONE:UTC
BEGIN:VEVENT
SUMMARY:Whats it like to be a Film and TV Extra - Talk?
DTSTART:20260320T190000Z
DTEND:20260320T210000Z
DTSTAMP:20260423T115402Z
UID:12902282026-03-20 19:00:00+00:00achurchnearyou
CATEGORIES:
DESCRIPTION:Mike Newbold from Nottingham shares his 17 years of experience
  working behind the scenes in TV and film. With stories that are fascinat
 ing\, funny\, and sometimes surprising\, Mike lifts the curtain on the rea
 l world of being an extra.\nFriday 20th March at 7pm\, Ranmoor Parish Cen
 tre\nA lively\, informative\, and entertaining talk not to be missed!  Re
 freshments provided.\nTickets £10 available from the Church Office or tic
 ketsource www.ticketsource.co.uk/st-johns-church\nAll proceeds to our SAVE
  OUR SPIRE Appeal.
GEO:-1.521327;53.372448
LOCATION:St John the Evangelist\, Ranmoor
URL:https://www.achurchnearyou.com/church/17504/service-and-events/events/
 1290228/
END:VEVENT
END:VCALENDAR
