BEGIN:VCALENDAR
VERSION:2.0
PRODID:-//achurchnearyou.com//eventfeed//EN
CALSCALE:GREGORIAN
METHOD:PUBLISH
X-WR-TIMEZONE:UTC
BEGIN:VEVENT
SUMMARY:Compline for Holy Week
DTSTART:20260331T190000Z
DTEND:20260331T200000Z
DTSTAMP:20260423T150719Z
UID:13067722026-03-31 19:00:00+00:00achurchnearyou
CATEGORIES:
DESCRIPTION:You are warmly invited to join us for Compline during Holy Wee
 k.\nThis quiet and reflective service at the close of the day offers a pea
 ceful space for prayer and stillness as we journey through this most sacre
 d week together. It is a beautiful opportunity to pause\, reflect\, and re
 st in God’s presence.\nWe would be delighted if you could join us
GEO:-1.521327;53.372448
LOCATION:St John the Evangelist\, Ranmoor
URL:https://www.stjohnsranmoor.org.uk
END:VEVENT
END:VCALENDAR
