BEGIN:VCALENDAR
VERSION:2.0
PRODID:-//achurchnearyou.com//eventfeed//EN
CALSCALE:GREGORIAN
METHOD:PUBLISH
X-WR-TIMEZONE:UTC
BEGIN:VEVENT
SUMMARY:Easter Sunday
DTSTART:20260405T093000Z
DTEND:20260405T103000Z
DTSTAMP:20260423T193155Z
UID:13067792026-04-05 09:30:00+00:00achurchnearyou
CATEGORIES:
DESCRIPTION:Alleluia! You are warmly invited to join us for our Easter Sun
 day Parish Communion as we gather to celebrate the joy of the Resurrection
 .\nThis is the most wonderful and hope-filled day of the Christian year\, 
 and we would love you to share in this special celebration with us.
GEO:-1.521327;53.372448
LOCATION:St John the Evangelist\, Ranmoor
URL:https://www.stjohnsranmoor.org.uk
END:VEVENT
END:VCALENDAR
