BEGIN:VCALENDAR
VERSION:2.0
PRODID:-//achurchnearyou.com//eventfeed//EN
CALSCALE:GREGORIAN
METHOD:PUBLISH
X-WR-TIMEZONE:UTC
BEGIN:VEVENT
SUMMARY:Messy Church - resuming at a later date - check our website for de
 tails
DTSTART;TZID=Europe/London:20260503T103000
DTEND;TZID=Europe/London:20260503T113000
DTSTAMP:20260423T090003Z
UID:2957962026-05-03 10:30:00+01:00achurchnearyou
CATEGORIES:
DESCRIPTION:For all ages ... an interactive\, short service on the first S
 unday of each month at 10.30am.  Come along and enjoy!
GEO:-1.371768;53.456212
LOCATION:St Mary's Church\, Greasbrough
URL:http://stmarygreasbrough.webplus.net
END:VEVENT
BEGIN:VEVENT
SUMMARY:Messy Church - resuming at a later date - check our website for de
 tails
DTSTART;TZID=Europe/London:20260607T103000
DTEND;TZID=Europe/London:20260607T113000
DTSTAMP:20260423T090003Z
UID:2957962026-06-07 10:30:00+01:00achurchnearyou
CATEGORIES:
DESCRIPTION:For all ages ... an interactive\, short service on the first S
 unday of each month at 10.30am.  Come along and enjoy!
GEO:-1.371768;53.456212
LOCATION:St Mary's Church\, Greasbrough
URL:http://stmarygreasbrough.webplus.net
END:VEVENT
BEGIN:VEVENT
SUMMARY:Messy Church - resuming at a later date - check our website for de
 tails
DTSTART;TZID=Europe/London:20260705T103000
DTEND;TZID=Europe/London:20260705T113000
DTSTAMP:20260423T090003Z
UID:2957962026-07-05 10:30:00+01:00achurchnearyou
CATEGORIES:
DESCRIPTION:For all ages ... an interactive\, short service on the first S
 unday of each month at 10.30am.  Come along and enjoy!
GEO:-1.371768;53.456212
LOCATION:St Mary's Church\, Greasbrough
URL:http://stmarygreasbrough.webplus.net
END:VEVENT
BEGIN:VEVENT
SUMMARY:Messy Church - resuming at a later date - check our website for de
 tails
DTSTART;TZID=Europe/London:20260802T103000
DTEND;TZID=Europe/London:20260802T113000
DTSTAMP:20260423T090003Z
UID:2957962026-08-02 10:30:00+01:00achurchnearyou
CATEGORIES:
DESCRIPTION:For all ages ... an interactive\, short service on the first S
 unday of each month at 10.30am.  Come along and enjoy!
GEO:-1.371768;53.456212
LOCATION:St Mary's Church\, Greasbrough
URL:http://stmarygreasbrough.webplus.net
END:VEVENT
BEGIN:VEVENT
SUMMARY:Messy Church - resuming at a later date - check our website for de
 tails
DTSTART;TZID=Europe/London:20260906T103000
DTEND;TZID=Europe/London:20260906T113000
DTSTAMP:20260423T090003Z
UID:2957962026-09-06 10:30:00+01:00achurchnearyou
CATEGORIES:
DESCRIPTION:For all ages ... an interactive\, short service on the first S
 unday of each month at 10.30am.  Come along and enjoy!
GEO:-1.371768;53.456212
LOCATION:St Mary's Church\, Greasbrough
URL:http://stmarygreasbrough.webplus.net
END:VEVENT
BEGIN:VEVENT
SUMMARY:Messy Church - resuming at a later date - check our website for de
 tails
DTSTART;TZID=Europe/London:20261004T103000
DTEND;TZID=Europe/London:20261004T113000
DTSTAMP:20260423T090003Z
UID:2957962026-10-04 10:30:00+01:00achurchnearyou
CATEGORIES:
DESCRIPTION:For all ages ... an interactive\, short service on the first S
 unday of each month at 10.30am.  Come along and enjoy!
GEO:-1.371768;53.456212
LOCATION:St Mary's Church\, Greasbrough
URL:http://stmarygreasbrough.webplus.net
END:VEVENT
BEGIN:VEVENT
SUMMARY:Messy Church - resuming at a later date - check our website for de
 tails
DTSTART;TZID=Europe/London:20261101T103000
DTEND;TZID=Europe/London:20261101T113000
DTSTAMP:20260423T090003Z
UID:2957962026-11-01 10:30:00+00:00achurchnearyou
CATEGORIES:
DESCRIPTION:For all ages ... an interactive\, short service on the first S
 unday of each month at 10.30am.  Come along and enjoy!
GEO:-1.371768;53.456212
LOCATION:St Mary's Church\, Greasbrough
URL:http://stmarygreasbrough.webplus.net
END:VEVENT
BEGIN:VEVENT
SUMMARY:Messy Church - resuming at a later date - check our website for de
 tails
DTSTART;TZID=Europe/London:20261206T103000
DTEND;TZID=Europe/London:20261206T113000
DTSTAMP:20260423T090003Z
UID:2957962026-12-06 10:30:00+00:00achurchnearyou
CATEGORIES:
DESCRIPTION:For all ages ... an interactive\, short service on the first S
 unday of each month at 10.30am.  Come along and enjoy!
GEO:-1.371768;53.456212
LOCATION:St Mary's Church\, Greasbrough
URL:http://stmarygreasbrough.webplus.net
END:VEVENT
BEGIN:VEVENT
SUMMARY:Messy Church - resuming at a later date - check our website for de
 tails
DTSTART;TZID=Europe/London:20270103T103000
DTEND;TZID=Europe/London:20270103T113000
DTSTAMP:20260423T090003Z
UID:2957962027-01-03 10:30:00+00:00achurchnearyou
CATEGORIES:
DESCRIPTION:For all ages ... an interactive\, short service on the first S
 unday of each month at 10.30am.  Come along and enjoy!
GEO:-1.371768;53.456212
LOCATION:St Mary's Church\, Greasbrough
URL:http://stmarygreasbrough.webplus.net
END:VEVENT
BEGIN:VEVENT
SUMMARY:Messy Church - resuming at a later date - check our website for de
 tails
DTSTART;TZID=Europe/London:20270207T103000
DTEND;TZID=Europe/London:20270207T113000
DTSTAMP:20260423T090003Z
UID:2957962027-02-07 10:30:00+00:00achurchnearyou
CATEGORIES:
DESCRIPTION:For all ages ... an interactive\, short service on the first S
 unday of each month at 10.30am.  Come along and enjoy!
GEO:-1.371768;53.456212
LOCATION:St Mary's Church\, Greasbrough
URL:http://stmarygreasbrough.webplus.net
END:VEVENT
BEGIN:VEVENT
SUMMARY:Messy Church - resuming at a later date - check our website for de
 tails
DTSTART;TZID=Europe/London:20270307T103000
DTEND;TZID=Europe/London:20270307T113000
DTSTAMP:20260423T090003Z
UID:2957962027-03-07 10:30:00+00:00achurchnearyou
CATEGORIES:
DESCRIPTION:For all ages ... an interactive\, short service on the first S
 unday of each month at 10.30am.  Come along and enjoy!
GEO:-1.371768;53.456212
LOCATION:St Mary's Church\, Greasbrough
URL:http://stmarygreasbrough.webplus.net
END:VEVENT
BEGIN:VEVENT
SUMMARY:Messy Church - resuming at a later date - check our website for de
 tails
DTSTART;TZID=Europe/London:20270404T103000
DTEND;TZID=Europe/London:20270404T113000
DTSTAMP:20260423T090003Z
UID:2957962027-04-04 10:30:00+01:00achurchnearyou
CATEGORIES:
DESCRIPTION:For all ages ... an interactive\, short service on the first S
 unday of each month at 10.30am.  Come along and enjoy!
GEO:-1.371768;53.456212
LOCATION:St Mary's Church\, Greasbrough
URL:http://stmarygreasbrough.webplus.net
END:VEVENT
END:VCALENDAR
