BEGIN:VCALENDAR
VERSION:2.0
PRODID:-//achurchnearyou.com//eventfeed//EN
CALSCALE:GREGORIAN
METHOD:PUBLISH
X-WR-TIMEZONE:UTC
BEGIN:VEVENT
SUMMARY:Blue Christmas
DTSTART;TZID=Europe/London:20251221T160000
DTEND;TZID=Europe/London:20251221T173000
DTSTAMP:20260424T024658Z
UID:12700922025-12-21 16:00:00+00:00achurchnearyou
CATEGORIES:
DESCRIPTION:A service of comfort and peace\, for those experiencing loss\,
  loneliness\, or anxiety at Christmas.
GEO:-1.34501;53.458301
LOCATION:St Mary the Virgin\, Rawmarsh with Parkgate
URL:https://www.achurchnearyou.com/church/17540/service-and-events/events/
 1270092/
END:VEVENT
END:VCALENDAR
