BEGIN:VCALENDAR
VERSION:2.0
PRODID:-//achurchnearyou.com//eventfeed//EN
CALSCALE:GREGORIAN
METHOD:PUBLISH
X-WR-TIMEZONE:UTC
BEGIN:VEVENT
SUMMARY:Good Friday
DTSTART:20260403T100000Z
DTEND:20260403T110000Z
DTSTAMP:20260423T174058Z
UID:13094902026-04-03 10:00:00+00:00achurchnearyou
CATEGORIES:
DESCRIPTION:A time of reflection and prayers on Good Friday Morning.
GEO:-1.34501;53.458301
LOCATION:St Mary the Virgin\, Rawmarsh with Parkgate
URL:https://www.achurchnearyou.com/church/17540/service-and-events/events/
 1309490/
END:VEVENT
END:VCALENDAR
