BEGIN:VCALENDAR
VERSION:2.0
PRODID:-//achurchnearyou.com//eventfeed//EN
CALSCALE:GREGORIAN
METHOD:PUBLISH
X-WR-TIMEZONE:UTC
BEGIN:VEVENT
SUMMARY:Maundy Thursday Bring and share meal.
DTSTART;TZID=Europe/London:20260402T184500
DTEND;TZID=Europe/London:20260402T200000
DTSTAMP:20260423T100706Z
UID:13094751775151900.0achurchnearyou
CATEGORIES:
DESCRIPTION:Join us for a bring and share meal on Thursday the 2nd of Apri
 l at 7pm in St Marys Rawmarsh Church hall. You are welcome to bring food t
 o share with others. Or just come and join in fellowship and share what is
  on offer.
GEO:-1.34501;53.458301
LOCATION:St Mary the Virgin\, Rawmarsh with Parkgate
URL:https://www.achurchnearyou.com/church/17540/service-and-events/events/
 1309475/
END:VEVENT
BEGIN:VEVENT
SUMMARY:Good Friday
DTSTART;TZID=Europe/London:20260403T110000
DTEND;TZID=Europe/London:20260403T120000
DTSTAMP:20260423T100706Z
UID:13094901775210400.0achurchnearyou
CATEGORIES:
DESCRIPTION:A time of reflection and prayers on Good Friday Morning.
GEO:-1.34501;53.458301
LOCATION:St Mary the Virgin\, Rawmarsh with Parkgate
URL:https://www.achurchnearyou.com/church/17540/service-and-events/events/
 1309490/
END:VEVENT
BEGIN:VEVENT
SUMMARY:Sunrise Service
DTSTART;TZID=Europe/London:20260405T060000
DTEND;TZID=Europe/London:20260405T070000
DTSTAMP:20260423T100706Z
UID:13094881775365200.0achurchnearyou
CATEGORIES:
DESCRIPTION:Join us for an open air sunrise service on Easter Sunday morni
 ng. Meeting at 6 am at Rawmarsh community library car park Barbers Ave\, P
 arkgate\, Rotherham S62 6AE. We will then walk across the sports field to 
 watch the sun rise and hold an open air time of worship. Suitable footwear
  is recommended and a degree of mobility is required for the terrain
LOCATION:Rawmarsh community library car park
URL:https://www.achurchnearyou.com/church/17540/service-and-events/events/
 1309488/
END:VEVENT
BEGIN:VEVENT
SUMMARY:Easter Sunday
DTSTART;TZID=Europe/London:20260405T093000
DTEND;TZID=Europe/London:20260405T110000
DTSTAMP:20260423T100706Z
UID:10585701775377800.0achurchnearyou
CATEGORIES:
DESCRIPTION:Join us to celebrate Easter for a Holy Communion service.
GEO:-1.34501;53.458301
LOCATION:St Mary the Virgin\, Rawmarsh with Parkgate
URL:https://www.achurchnearyou.com/church/17540/service-and-events/events/
 1058570/
END:VEVENT
BEGIN:VEVENT
SUMMARY:Service each Sunday at 10.30am
DTSTART;TZID=Europe/London:20260412T103000
DTEND;TZID=Europe/London:20260412T120000
DTSTAMP:20260423T100706Z
UID:6592851775986200.0achurchnearyou
CATEGORIES:
DESCRIPTION:A service of Holy communion or service of the word each week i
 ncluding prayers\, Bible readings and reflection.
LOCATION:Sunday services
URL:http://www.rawmarsh-st-mary.website
END:VEVENT
BEGIN:VEVENT
SUMMARY:Service each Sunday at 10.30am
DTSTART;TZID=Europe/London:20260419T103000
DTEND;TZID=Europe/London:20260419T120000
DTSTAMP:20260423T100706Z
UID:6592851776591000.0achurchnearyou
CATEGORIES:
DESCRIPTION:A service of Holy communion or service of the word each week i
 ncluding prayers\, Bible readings and reflection.
LOCATION:Sunday services
URL:http://www.rawmarsh-st-mary.website
END:VEVENT
BEGIN:VEVENT
SUMMARY:Service each Sunday at 10.30am
DTSTART;TZID=Europe/London:20260426T103000
DTEND;TZID=Europe/London:20260426T120000
DTSTAMP:20260423T100706Z
UID:6592851777195800.0achurchnearyou
CATEGORIES:
DESCRIPTION:A service of Holy communion or service of the word each week i
 ncluding prayers\, Bible readings and reflection.
LOCATION:Sunday services
URL:http://www.rawmarsh-st-mary.website
END:VEVENT
BEGIN:VEVENT
SUMMARY:Service each Sunday at 10.30am
DTSTART;TZID=Europe/London:20260503T103000
DTEND;TZID=Europe/London:20260503T120000
DTSTAMP:20260423T100706Z
UID:6592851777800600.0achurchnearyou
CATEGORIES:
DESCRIPTION:A service of Holy communion or service of the word each week i
 ncluding prayers\, Bible readings and reflection.
LOCATION:Sunday services
URL:http://www.rawmarsh-st-mary.website
END:VEVENT
BEGIN:VEVENT
SUMMARY:Service each Sunday at 10.30am
DTSTART;TZID=Europe/London:20260510T103000
DTEND;TZID=Europe/London:20260510T120000
DTSTAMP:20260423T100706Z
UID:6592851778405400.0achurchnearyou
CATEGORIES:
DESCRIPTION:A service of Holy communion or service of the word each week i
 ncluding prayers\, Bible readings and reflection.
LOCATION:Sunday services
URL:http://www.rawmarsh-st-mary.website
END:VEVENT
BEGIN:VEVENT
SUMMARY:Service each Sunday at 10.30am
DTSTART;TZID=Europe/London:20260517T103000
DTEND;TZID=Europe/London:20260517T120000
DTSTAMP:20260423T100706Z
UID:6592851779010200.0achurchnearyou
CATEGORIES:
DESCRIPTION:A service of Holy communion or service of the word each week i
 ncluding prayers\, Bible readings and reflection.
LOCATION:Sunday services
URL:http://www.rawmarsh-st-mary.website
END:VEVENT
BEGIN:VEVENT
SUMMARY:Service each Sunday at 10.30am
DTSTART;TZID=Europe/London:20260524T103000
DTEND;TZID=Europe/London:20260524T120000
DTSTAMP:20260423T100706Z
UID:6592851779615000.0achurchnearyou
CATEGORIES:
DESCRIPTION:A service of Holy communion or service of the word each week i
 ncluding prayers\, Bible readings and reflection.
LOCATION:Sunday services
URL:http://www.rawmarsh-st-mary.website
END:VEVENT
BEGIN:VEVENT
SUMMARY:Service each Sunday at 10.30am
DTSTART;TZID=Europe/London:20260531T103000
DTEND;TZID=Europe/London:20260531T120000
DTSTAMP:20260423T100706Z
UID:6592851780219800.0achurchnearyou
CATEGORIES:
DESCRIPTION:A service of Holy communion or service of the word each week i
 ncluding prayers\, Bible readings and reflection.
LOCATION:Sunday services
URL:http://www.rawmarsh-st-mary.website
END:VEVENT
BEGIN:VEVENT
SUMMARY:Service each Sunday at 10.30am
DTSTART;TZID=Europe/London:20260607T103000
DTEND;TZID=Europe/London:20260607T120000
DTSTAMP:20260423T100706Z
UID:6592851780824600.0achurchnearyou
CATEGORIES:
DESCRIPTION:A service of Holy communion or service of the word each week i
 ncluding prayers\, Bible readings and reflection.
LOCATION:Sunday services
URL:http://www.rawmarsh-st-mary.website
END:VEVENT
BEGIN:VEVENT
SUMMARY:Service each Sunday at 10.30am
DTSTART;TZID=Europe/London:20260614T103000
DTEND;TZID=Europe/London:20260614T120000
DTSTAMP:20260423T100706Z
UID:6592851781429400.0achurchnearyou
CATEGORIES:
DESCRIPTION:A service of Holy communion or service of the word each week i
 ncluding prayers\, Bible readings and reflection.
LOCATION:Sunday services
URL:http://www.rawmarsh-st-mary.website
END:VEVENT
BEGIN:VEVENT
SUMMARY:Service each Sunday at 10.30am
DTSTART;TZID=Europe/London:20260621T103000
DTEND;TZID=Europe/London:20260621T120000
DTSTAMP:20260423T100706Z
UID:6592851782034200.0achurchnearyou
CATEGORIES:
DESCRIPTION:A service of Holy communion or service of the word each week i
 ncluding prayers\, Bible readings and reflection.
LOCATION:Sunday services
URL:http://www.rawmarsh-st-mary.website
END:VEVENT
BEGIN:VEVENT
SUMMARY:Service each Sunday at 10.30am
DTSTART;TZID=Europe/London:20260628T103000
DTEND;TZID=Europe/London:20260628T120000
DTSTAMP:20260423T100706Z
UID:6592851782639000.0achurchnearyou
CATEGORIES:
DESCRIPTION:A service of Holy communion or service of the word each week i
 ncluding prayers\, Bible readings and reflection.
LOCATION:Sunday services
URL:http://www.rawmarsh-st-mary.website
END:VEVENT
BEGIN:VEVENT
SUMMARY:Service each Sunday at 10.30am
DTSTART;TZID=Europe/London:20260705T103000
DTEND;TZID=Europe/London:20260705T120000
DTSTAMP:20260423T100706Z
UID:6592851783243800.0achurchnearyou
CATEGORIES:
DESCRIPTION:A service of Holy communion or service of the word each week i
 ncluding prayers\, Bible readings and reflection.
LOCATION:Sunday services
URL:http://www.rawmarsh-st-mary.website
END:VEVENT
BEGIN:VEVENT
SUMMARY:Service each Sunday at 10.30am
DTSTART;TZID=Europe/London:20260712T103000
DTEND;TZID=Europe/London:20260712T120000
DTSTAMP:20260423T100706Z
UID:6592851783848600.0achurchnearyou
CATEGORIES:
DESCRIPTION:A service of Holy communion or service of the word each week i
 ncluding prayers\, Bible readings and reflection.
LOCATION:Sunday services
URL:http://www.rawmarsh-st-mary.website
END:VEVENT
BEGIN:VEVENT
SUMMARY:Service each Sunday at 10.30am
DTSTART;TZID=Europe/London:20260719T103000
DTEND;TZID=Europe/London:20260719T120000
DTSTAMP:20260423T100706Z
UID:6592851784453400.0achurchnearyou
CATEGORIES:
DESCRIPTION:A service of Holy communion or service of the word each week i
 ncluding prayers\, Bible readings and reflection.
LOCATION:Sunday services
URL:http://www.rawmarsh-st-mary.website
END:VEVENT
BEGIN:VEVENT
SUMMARY:Service each Sunday at 10.30am
DTSTART;TZID=Europe/London:20260726T103000
DTEND;TZID=Europe/London:20260726T120000
DTSTAMP:20260423T100706Z
UID:6592851785058200.0achurchnearyou
CATEGORIES:
DESCRIPTION:A service of Holy communion or service of the word each week i
 ncluding prayers\, Bible readings and reflection.
LOCATION:Sunday services
URL:http://www.rawmarsh-st-mary.website
END:VEVENT
BEGIN:VEVENT
SUMMARY:Service each Sunday at 10.30am
DTSTART;TZID=Europe/London:20260802T103000
DTEND;TZID=Europe/London:20260802T120000
DTSTAMP:20260423T100706Z
UID:6592851785663000.0achurchnearyou
CATEGORIES:
DESCRIPTION:A service of Holy communion or service of the word each week i
 ncluding prayers\, Bible readings and reflection.
LOCATION:Sunday services
URL:http://www.rawmarsh-st-mary.website
END:VEVENT
BEGIN:VEVENT
SUMMARY:Service each Sunday at 10.30am
DTSTART;TZID=Europe/London:20260809T103000
DTEND;TZID=Europe/London:20260809T120000
DTSTAMP:20260423T100706Z
UID:6592851786267800.0achurchnearyou
CATEGORIES:
DESCRIPTION:A service of Holy communion or service of the word each week i
 ncluding prayers\, Bible readings and reflection.
LOCATION:Sunday services
URL:http://www.rawmarsh-st-mary.website
END:VEVENT
BEGIN:VEVENT
SUMMARY:Service each Sunday at 10.30am
DTSTART;TZID=Europe/London:20260816T103000
DTEND;TZID=Europe/London:20260816T120000
DTSTAMP:20260423T100706Z
UID:6592851786872600.0achurchnearyou
CATEGORIES:
DESCRIPTION:A service of Holy communion or service of the word each week i
 ncluding prayers\, Bible readings and reflection.
LOCATION:Sunday services
URL:http://www.rawmarsh-st-mary.website
END:VEVENT
BEGIN:VEVENT
SUMMARY:Service each Sunday at 10.30am
DTSTART;TZID=Europe/London:20260823T103000
DTEND;TZID=Europe/London:20260823T120000
DTSTAMP:20260423T100706Z
UID:6592851787477400.0achurchnearyou
CATEGORIES:
DESCRIPTION:A service of Holy communion or service of the word each week i
 ncluding prayers\, Bible readings and reflection.
LOCATION:Sunday services
URL:http://www.rawmarsh-st-mary.website
END:VEVENT
BEGIN:VEVENT
SUMMARY:Service each Sunday at 10.30am
DTSTART;TZID=Europe/London:20260830T103000
DTEND;TZID=Europe/London:20260830T120000
DTSTAMP:20260423T100706Z
UID:6592851788082200.0achurchnearyou
CATEGORIES:
DESCRIPTION:A service of Holy communion or service of the word each week i
 ncluding prayers\, Bible readings and reflection.
LOCATION:Sunday services
URL:http://www.rawmarsh-st-mary.website
END:VEVENT
BEGIN:VEVENT
SUMMARY:Service each Sunday at 10.30am
DTSTART;TZID=Europe/London:20260906T103000
DTEND;TZID=Europe/London:20260906T120000
DTSTAMP:20260423T100706Z
UID:6592851788687000.0achurchnearyou
CATEGORIES:
DESCRIPTION:A service of Holy communion or service of the word each week i
 ncluding prayers\, Bible readings and reflection.
LOCATION:Sunday services
URL:http://www.rawmarsh-st-mary.website
END:VEVENT
BEGIN:VEVENT
SUMMARY:Service each Sunday at 10.30am
DTSTART;TZID=Europe/London:20260913T103000
DTEND;TZID=Europe/London:20260913T120000
DTSTAMP:20260423T100706Z
UID:6592851789291800.0achurchnearyou
CATEGORIES:
DESCRIPTION:A service of Holy communion or service of the word each week i
 ncluding prayers\, Bible readings and reflection.
LOCATION:Sunday services
URL:http://www.rawmarsh-st-mary.website
END:VEVENT
BEGIN:VEVENT
SUMMARY:Service each Sunday at 10.30am
DTSTART;TZID=Europe/London:20260920T103000
DTEND;TZID=Europe/London:20260920T120000
DTSTAMP:20260423T100706Z
UID:6592851789896600.0achurchnearyou
CATEGORIES:
DESCRIPTION:A service of Holy communion or service of the word each week i
 ncluding prayers\, Bible readings and reflection.
LOCATION:Sunday services
URL:http://www.rawmarsh-st-mary.website
END:VEVENT
BEGIN:VEVENT
SUMMARY:Service each Sunday at 10.30am
DTSTART;TZID=Europe/London:20260927T103000
DTEND;TZID=Europe/London:20260927T120000
DTSTAMP:20260423T100706Z
UID:6592851790501400.0achurchnearyou
CATEGORIES:
DESCRIPTION:A service of Holy communion or service of the word each week i
 ncluding prayers\, Bible readings and reflection.
LOCATION:Sunday services
URL:http://www.rawmarsh-st-mary.website
END:VEVENT
END:VCALENDAR
