BEGIN:VCALENDAR
VERSION:2.0
PRODID:-//achurchnearyou.com//eventfeed//EN
CALSCALE:GREGORIAN
METHOD:PUBLISH
X-WR-TIMEZONE:UTC
BEGIN:VEVENT
SUMMARY:Maundy Thursday - A Service Of Holy Communion
DTSTART:20250417T183000Z
DTEND:20250417T193000Z
DTSTAMP:20260424T193854Z
UID:10327022025-04-17 18:30:00+00:00achurchnearyou
CATEGORIES:
DESCRIPTION:A service of Holy Communion for Maundy Thursday followed by a 
 silent watch
GEO:-1.356621;53.430965
LOCATION:All Saints (Rotherham Minster)
URL:https://www.achurchnearyou.com/church/17542/service-and-events/events/
 1032702/
END:VEVENT
END:VCALENDAR
