BEGIN:VCALENDAR
VERSION:2.0
PRODID:-//achurchnearyou.com//eventfeed//EN
CALSCALE:GREGORIAN
METHOD:PUBLISH
X-WR-TIMEZONE:UTC
BEGIN:VEVENT
SUMMARY:Family Praise Service
DTSTART;TZID=Europe/London:20260111T150000
DTEND;TZID=Europe/London:20260111T160000
DTSTAMP:20260422T072239Z
UID:12779152026-01-11 15:00:00+00:00achurchnearyou
CATEGORIES:
DESCRIPTION:This is a service for young children and their parents or care
 rs.
GEO:-1.073911;53.580592
LOCATION:Barnby Dun Church
URL:https://www.achurchnearyou.com/church/17554/service-and-events/events/
 1277915/
END:VEVENT
BEGIN:VEVENT
SUMMARY:Family Praise Service
DTSTART;TZID=Europe/London:20260208T150000
DTEND;TZID=Europe/London:20260208T160000
DTSTAMP:20260422T072239Z
UID:12779152026-02-08 15:00:00+00:00achurchnearyou
CATEGORIES:
DESCRIPTION:This is a service for young children and their parents or care
 rs.
GEO:-1.073911;53.580592
LOCATION:Barnby Dun Church
URL:https://www.achurchnearyou.com/church/17554/service-and-events/events/
 1277915/
END:VEVENT
BEGIN:VEVENT
SUMMARY:Family Praise Service
DTSTART;TZID=Europe/London:20260308T150000
DTEND;TZID=Europe/London:20260308T160000
DTSTAMP:20260422T072239Z
UID:12779152026-03-08 15:00:00+00:00achurchnearyou
CATEGORIES:
DESCRIPTION:This is a service for young children and their parents or care
 rs.
GEO:-1.073911;53.580592
LOCATION:Barnby Dun Church
URL:https://www.achurchnearyou.com/church/17554/service-and-events/events/
 1277915/
END:VEVENT
BEGIN:VEVENT
SUMMARY:Family Praise Service
DTSTART;TZID=Europe/London:20260412T150000
DTEND;TZID=Europe/London:20260412T160000
DTSTAMP:20260422T072239Z
UID:12779152026-04-12 15:00:00+01:00achurchnearyou
CATEGORIES:
DESCRIPTION:This is a service for young children and their parents or care
 rs.
GEO:-1.073911;53.580592
LOCATION:Barnby Dun Church
URL:https://www.achurchnearyou.com/church/17554/service-and-events/events/
 1277915/
END:VEVENT
BEGIN:VEVENT
SUMMARY:Family Praise Service
DTSTART;TZID=Europe/London:20260510T150000
DTEND;TZID=Europe/London:20260510T160000
DTSTAMP:20260422T072239Z
UID:12779152026-05-10 15:00:00+01:00achurchnearyou
CATEGORIES:
DESCRIPTION:This is a service for young children and their parents or care
 rs.
GEO:-1.073911;53.580592
LOCATION:Barnby Dun Church
URL:https://www.achurchnearyou.com/church/17554/service-and-events/events/
 1277915/
END:VEVENT
BEGIN:VEVENT
SUMMARY:Family Praise Service
DTSTART;TZID=Europe/London:20260614T150000
DTEND;TZID=Europe/London:20260614T160000
DTSTAMP:20260422T072239Z
UID:12779152026-06-14 15:00:00+01:00achurchnearyou
CATEGORIES:
DESCRIPTION:This is a service for young children and their parents or care
 rs.
GEO:-1.073911;53.580592
LOCATION:Barnby Dun Church
URL:https://www.achurchnearyou.com/church/17554/service-and-events/events/
 1277915/
END:VEVENT
BEGIN:VEVENT
SUMMARY:Family Praise Service
DTSTART;TZID=Europe/London:20260712T150000
DTEND;TZID=Europe/London:20260712T160000
DTSTAMP:20260422T072239Z
UID:12779152026-07-12 15:00:00+01:00achurchnearyou
CATEGORIES:
DESCRIPTION:This is a service for young children and their parents or care
 rs.
GEO:-1.073911;53.580592
LOCATION:Barnby Dun Church
URL:https://www.achurchnearyou.com/church/17554/service-and-events/events/
 1277915/
END:VEVENT
BEGIN:VEVENT
SUMMARY:Family Praise Service
DTSTART;TZID=Europe/London:20260809T150000
DTEND;TZID=Europe/London:20260809T160000
DTSTAMP:20260422T072239Z
UID:12779152026-08-09 15:00:00+01:00achurchnearyou
CATEGORIES:
DESCRIPTION:This is a service for young children and their parents or care
 rs.
GEO:-1.073911;53.580592
LOCATION:Barnby Dun Church
URL:https://www.achurchnearyou.com/church/17554/service-and-events/events/
 1277915/
END:VEVENT
BEGIN:VEVENT
SUMMARY:Family Praise Service
DTSTART;TZID=Europe/London:20260913T150000
DTEND;TZID=Europe/London:20260913T160000
DTSTAMP:20260422T072239Z
UID:12779152026-09-13 15:00:00+01:00achurchnearyou
CATEGORIES:
DESCRIPTION:This is a service for young children and their parents or care
 rs.
GEO:-1.073911;53.580592
LOCATION:Barnby Dun Church
URL:https://www.achurchnearyou.com/church/17554/service-and-events/events/
 1277915/
END:VEVENT
BEGIN:VEVENT
SUMMARY:Family Praise Service
DTSTART;TZID=Europe/London:20261011T150000
DTEND;TZID=Europe/London:20261011T160000
DTSTAMP:20260422T072239Z
UID:12779152026-10-11 15:00:00+01:00achurchnearyou
CATEGORIES:
DESCRIPTION:This is a service for young children and their parents or care
 rs.
GEO:-1.073911;53.580592
LOCATION:Barnby Dun Church
URL:https://www.achurchnearyou.com/church/17554/service-and-events/events/
 1277915/
END:VEVENT
BEGIN:VEVENT
SUMMARY:Family Praise Service
DTSTART;TZID=Europe/London:20261108T150000
DTEND;TZID=Europe/London:20261108T160000
DTSTAMP:20260422T072239Z
UID:12779152026-11-08 15:00:00+00:00achurchnearyou
CATEGORIES:
DESCRIPTION:This is a service for young children and their parents or care
 rs.
GEO:-1.073911;53.580592
LOCATION:Barnby Dun Church
URL:https://www.achurchnearyou.com/church/17554/service-and-events/events/
 1277915/
END:VEVENT
BEGIN:VEVENT
SUMMARY:Family Praise Service
DTSTART;TZID=Europe/London:20261213T150000
DTEND;TZID=Europe/London:20261213T160000
DTSTAMP:20260422T072239Z
UID:12779152026-12-13 15:00:00+00:00achurchnearyou
CATEGORIES:
DESCRIPTION:This is a service for young children and their parents or care
 rs.
GEO:-1.073911;53.580592
LOCATION:Barnby Dun Church
URL:https://www.achurchnearyou.com/church/17554/service-and-events/events/
 1277915/
END:VEVENT
BEGIN:VEVENT
SUMMARY:Family Praise Service
DTSTART;TZID=Europe/London:20270110T150000
DTEND;TZID=Europe/London:20270110T160000
DTSTAMP:20260422T072239Z
UID:12779152027-01-10 15:00:00+00:00achurchnearyou
CATEGORIES:
DESCRIPTION:This is a service for young children and their parents or care
 rs.
GEO:-1.073911;53.580592
LOCATION:Barnby Dun Church
URL:https://www.achurchnearyou.com/church/17554/service-and-events/events/
 1277915/
END:VEVENT
END:VCALENDAR
