BEGIN:VCALENDAR
VERSION:2.0
PRODID:-//achurchnearyou.com//eventfeed//EN
CALSCALE:GREGORIAN
METHOD:PUBLISH
X-WR-TIMEZONE:UTC
BEGIN:VEVENT
SUMMARY:Community Coffee Morning
DTSTART;TZID=Europe/London:20260502T100000
DTEND;TZID=Europe/London:20260502T113000
DTSTAMP:20260422T071923Z
UID:7716982026-05-02 10:00:00+01:00achurchnearyou
CATEGORIES:
DESCRIPTION:Community Coffee Morning
GEO:-1.071178;53.55626
LOCATION:The Church of the Good Shepherd
URL:https://www.cogsdoncaster.co.uk/
END:VEVENT
BEGIN:VEVENT
SUMMARY:Community Coffee Morning
DTSTART;TZID=Europe/London:20260606T100000
DTEND;TZID=Europe/London:20260606T113000
DTSTAMP:20260422T071923Z
UID:7716982026-06-06 10:00:00+01:00achurchnearyou
CATEGORIES:
DESCRIPTION:Community Coffee Morning
GEO:-1.071178;53.55626
LOCATION:The Church of the Good Shepherd
URL:https://www.cogsdoncaster.co.uk/
END:VEVENT
BEGIN:VEVENT
SUMMARY:Community Coffee Morning
DTSTART;TZID=Europe/London:20260704T100000
DTEND;TZID=Europe/London:20260704T113000
DTSTAMP:20260422T071923Z
UID:7716982026-07-04 10:00:00+01:00achurchnearyou
CATEGORIES:
DESCRIPTION:Community Coffee Morning
GEO:-1.071178;53.55626
LOCATION:The Church of the Good Shepherd
URL:https://www.cogsdoncaster.co.uk/
END:VEVENT
BEGIN:VEVENT
SUMMARY:Community Coffee Morning
DTSTART;TZID=Europe/London:20260801T100000
DTEND;TZID=Europe/London:20260801T113000
DTSTAMP:20260422T071923Z
UID:7716982026-08-01 10:00:00+01:00achurchnearyou
CATEGORIES:
DESCRIPTION:Community Coffee Morning
GEO:-1.071178;53.55626
LOCATION:The Church of the Good Shepherd
URL:https://www.cogsdoncaster.co.uk/
END:VEVENT
BEGIN:VEVENT
SUMMARY:Community Coffee Morning
DTSTART;TZID=Europe/London:20260905T100000
DTEND;TZID=Europe/London:20260905T113000
DTSTAMP:20260422T071923Z
UID:7716982026-09-05 10:00:00+01:00achurchnearyou
CATEGORIES:
DESCRIPTION:Community Coffee Morning
GEO:-1.071178;53.55626
LOCATION:The Church of the Good Shepherd
URL:https://www.cogsdoncaster.co.uk/
END:VEVENT
BEGIN:VEVENT
SUMMARY:Community Coffee Morning
DTSTART;TZID=Europe/London:20261003T100000
DTEND;TZID=Europe/London:20261003T113000
DTSTAMP:20260422T071923Z
UID:7716982026-10-03 10:00:00+01:00achurchnearyou
CATEGORIES:
DESCRIPTION:Community Coffee Morning
GEO:-1.071178;53.55626
LOCATION:The Church of the Good Shepherd
URL:https://www.cogsdoncaster.co.uk/
END:VEVENT
BEGIN:VEVENT
SUMMARY:Community Coffee Morning
DTSTART;TZID=Europe/London:20261107T100000
DTEND;TZID=Europe/London:20261107T113000
DTSTAMP:20260422T071923Z
UID:7716982026-11-07 10:00:00+00:00achurchnearyou
CATEGORIES:
DESCRIPTION:Community Coffee Morning
GEO:-1.071178;53.55626
LOCATION:The Church of the Good Shepherd
URL:https://www.cogsdoncaster.co.uk/
END:VEVENT
BEGIN:VEVENT
SUMMARY:Community Coffee Morning
DTSTART;TZID=Europe/London:20261205T100000
DTEND;TZID=Europe/London:20261205T113000
DTSTAMP:20260422T071923Z
UID:7716982026-12-05 10:00:00+00:00achurchnearyou
CATEGORIES:
DESCRIPTION:Community Coffee Morning
GEO:-1.071178;53.55626
LOCATION:The Church of the Good Shepherd
URL:https://www.cogsdoncaster.co.uk/
END:VEVENT
BEGIN:VEVENT
SUMMARY:Community Coffee Morning
DTSTART;TZID=Europe/London:20270102T100000
DTEND;TZID=Europe/London:20270102T113000
DTSTAMP:20260422T071923Z
UID:7716982027-01-02 10:00:00+00:00achurchnearyou
CATEGORIES:
DESCRIPTION:Community Coffee Morning
GEO:-1.071178;53.55626
LOCATION:The Church of the Good Shepherd
URL:https://www.cogsdoncaster.co.uk/
END:VEVENT
BEGIN:VEVENT
SUMMARY:Community Coffee Morning
DTSTART;TZID=Europe/London:20270206T100000
DTEND;TZID=Europe/London:20270206T113000
DTSTAMP:20260422T071923Z
UID:7716982027-02-06 10:00:00+00:00achurchnearyou
CATEGORIES:
DESCRIPTION:Community Coffee Morning
GEO:-1.071178;53.55626
LOCATION:The Church of the Good Shepherd
URL:https://www.cogsdoncaster.co.uk/
END:VEVENT
BEGIN:VEVENT
SUMMARY:Community Coffee Morning
DTSTART;TZID=Europe/London:20270306T100000
DTEND;TZID=Europe/London:20270306T113000
DTSTAMP:20260422T071923Z
UID:7716982027-03-06 10:00:00+00:00achurchnearyou
CATEGORIES:
DESCRIPTION:Community Coffee Morning
GEO:-1.071178;53.55626
LOCATION:The Church of the Good Shepherd
URL:https://www.cogsdoncaster.co.uk/
END:VEVENT
BEGIN:VEVENT
SUMMARY:Community Coffee Morning
DTSTART;TZID=Europe/London:20270403T100000
DTEND;TZID=Europe/London:20270403T113000
DTSTAMP:20260422T071923Z
UID:7716982027-04-03 10:00:00+01:00achurchnearyou
CATEGORIES:
DESCRIPTION:Community Coffee Morning
GEO:-1.071178;53.55626
LOCATION:The Church of the Good Shepherd
URL:https://www.cogsdoncaster.co.uk/
END:VEVENT
END:VCALENDAR
