BEGIN:VCALENDAR
VERSION:2.0
PRODID:-//achurchnearyou.com//eventfeed//EN
CALSCALE:GREGORIAN
METHOD:PUBLISH
X-WR-TIMEZONE:UTC
BEGIN:VEVENT
SUMMARY:VJ Day Remembrance Service
DTSTART:20250817T094500Z
DTEND:20250817T104500Z
DTSTAMP:20260424T134836Z
UID:12077102025-08-17 09:45:00+00:00achurchnearyou
CATEGORIES:
DESCRIPTION:A Holy Communion service reflecting on the 80th Anniversary of
  the ceasing of hostilities in the Far East
GEO:-1.030827;53.69198
LOCATION:Snaith Church - St Laurence Priory
URL:https://www.achurchnearyou.com/church/17586/service-and-events/events/
 1207710/
END:VEVENT
END:VCALENDAR
