BEGIN:VCALENDAR
VERSION:2.0
PRODID:-//achurchnearyou.com//eventfeed//EN
CALSCALE:GREGORIAN
METHOD:PUBLISH
X-WR-TIMEZONE:UTC
BEGIN:VEVENT
SUMMARY:Men's breakfast
DTSTART;TZID=Europe/London:20250111T083000
DTEND;TZID=Europe/London:20250111T100000
DTSTAMP:20260423T042022Z
UID:11501272025-01-11 08:30:00+00:00achurchnearyou
CATEGORIES:
DESCRIPTION:A breakfast for all men just to chat and listen
GEO:-1.427005;53.545816
LOCATION:Christ Church
URL:https://www.achurchnearyou.com/church/17591/service-and-events/events/
 1150127/
END:VEVENT
BEGIN:VEVENT
SUMMARY:Men's breakfast
DTSTART;TZID=Europe/London:20250208T083000
DTEND;TZID=Europe/London:20250208T100000
DTSTAMP:20260423T042022Z
UID:11501272025-02-08 08:30:00+00:00achurchnearyou
CATEGORIES:
DESCRIPTION:A breakfast for all men just to chat and listen
GEO:-1.427005;53.545816
LOCATION:Christ Church
URL:https://www.achurchnearyou.com/church/17591/service-and-events/events/
 1150127/
END:VEVENT
BEGIN:VEVENT
SUMMARY:Men's breakfast
DTSTART;TZID=Europe/London:20250308T083000
DTEND;TZID=Europe/London:20250308T100000
DTSTAMP:20260423T042022Z
UID:11501272025-03-08 08:30:00+00:00achurchnearyou
CATEGORIES:
DESCRIPTION:A breakfast for all men just to chat and listen
GEO:-1.427005;53.545816
LOCATION:Christ Church
URL:https://www.achurchnearyou.com/church/17591/service-and-events/events/
 1150127/
END:VEVENT
BEGIN:VEVENT
SUMMARY:Men's breakfast
DTSTART;TZID=Europe/London:20250412T083000
DTEND;TZID=Europe/London:20250412T100000
DTSTAMP:20260423T042022Z
UID:11501272025-04-12 08:30:00+01:00achurchnearyou
CATEGORIES:
DESCRIPTION:A breakfast for all men just to chat and listen
GEO:-1.427005;53.545816
LOCATION:Christ Church
URL:https://www.achurchnearyou.com/church/17591/service-and-events/events/
 1150127/
END:VEVENT
BEGIN:VEVENT
SUMMARY:Men's breakfast
DTSTART;TZID=Europe/London:20250510T083000
DTEND;TZID=Europe/London:20250510T100000
DTSTAMP:20260423T042022Z
UID:11501272025-05-10 08:30:00+01:00achurchnearyou
CATEGORIES:
DESCRIPTION:A breakfast for all men just to chat and listen
GEO:-1.427005;53.545816
LOCATION:Christ Church
URL:https://www.achurchnearyou.com/church/17591/service-and-events/events/
 1150127/
END:VEVENT
BEGIN:VEVENT
SUMMARY:Men's breakfast
DTSTART;TZID=Europe/London:20250614T083000
DTEND;TZID=Europe/London:20250614T100000
DTSTAMP:20260423T042022Z
UID:11501272025-06-14 08:30:00+01:00achurchnearyou
CATEGORIES:
DESCRIPTION:A breakfast for all men just to chat and listen
GEO:-1.427005;53.545816
LOCATION:Christ Church
URL:https://www.achurchnearyou.com/church/17591/service-and-events/events/
 1150127/
END:VEVENT
BEGIN:VEVENT
SUMMARY:Men's breakfast
DTSTART;TZID=Europe/London:20250712T083000
DTEND;TZID=Europe/London:20250712T100000
DTSTAMP:20260423T042022Z
UID:11501272025-07-12 08:30:00+01:00achurchnearyou
CATEGORIES:
DESCRIPTION:A breakfast for all men just to chat and listen
GEO:-1.427005;53.545816
LOCATION:Christ Church
URL:https://www.achurchnearyou.com/church/17591/service-and-events/events/
 1150127/
END:VEVENT
BEGIN:VEVENT
SUMMARY:Men's breakfast
DTSTART;TZID=Europe/London:20250809T083000
DTEND;TZID=Europe/London:20250809T100000
DTSTAMP:20260423T042022Z
UID:11501272025-08-09 08:30:00+01:00achurchnearyou
CATEGORIES:
DESCRIPTION:A breakfast for all men just to chat and listen
GEO:-1.427005;53.545816
LOCATION:Christ Church
URL:https://www.achurchnearyou.com/church/17591/service-and-events/events/
 1150127/
END:VEVENT
BEGIN:VEVENT
SUMMARY:Men's breakfast
DTSTART;TZID=Europe/London:20250913T083000
DTEND;TZID=Europe/London:20250913T100000
DTSTAMP:20260423T042022Z
UID:11501272025-09-13 08:30:00+01:00achurchnearyou
CATEGORIES:
DESCRIPTION:A breakfast for all men just to chat and listen
GEO:-1.427005;53.545816
LOCATION:Christ Church
URL:https://www.achurchnearyou.com/church/17591/service-and-events/events/
 1150127/
END:VEVENT
BEGIN:VEVENT
SUMMARY:Men's breakfast
DTSTART;TZID=Europe/London:20251011T083000
DTEND;TZID=Europe/London:20251011T100000
DTSTAMP:20260423T042022Z
UID:11501272025-10-11 08:30:00+01:00achurchnearyou
CATEGORIES:
DESCRIPTION:A breakfast for all men just to chat and listen
GEO:-1.427005;53.545816
LOCATION:Christ Church
URL:https://www.achurchnearyou.com/church/17591/service-and-events/events/
 1150127/
END:VEVENT
BEGIN:VEVENT
SUMMARY:Men's breakfast
DTSTART;TZID=Europe/London:20251108T083000
DTEND;TZID=Europe/London:20251108T100000
DTSTAMP:20260423T042022Z
UID:11501272025-11-08 08:30:00+00:00achurchnearyou
CATEGORIES:
DESCRIPTION:A breakfast for all men just to chat and listen
GEO:-1.427005;53.545816
LOCATION:Christ Church
URL:https://www.achurchnearyou.com/church/17591/service-and-events/events/
 1150127/
END:VEVENT
BEGIN:VEVENT
SUMMARY:Men's breakfast
DTSTART;TZID=Europe/London:20251213T083000
DTEND;TZID=Europe/London:20251213T100000
DTSTAMP:20260423T042022Z
UID:11501272025-12-13 08:30:00+00:00achurchnearyou
CATEGORIES:
DESCRIPTION:A breakfast for all men just to chat and listen
GEO:-1.427005;53.545816
LOCATION:Christ Church
URL:https://www.achurchnearyou.com/church/17591/service-and-events/events/
 1150127/
END:VEVENT
BEGIN:VEVENT
SUMMARY:Men's breakfast
DTSTART;TZID=Europe/London:20260110T083000
DTEND;TZID=Europe/London:20260110T100000
DTSTAMP:20260423T042022Z
UID:11501272026-01-10 08:30:00+00:00achurchnearyou
CATEGORIES:
DESCRIPTION:A breakfast for all men just to chat and listen
GEO:-1.427005;53.545816
LOCATION:Christ Church
URL:https://www.achurchnearyou.com/church/17591/service-and-events/events/
 1150127/
END:VEVENT
BEGIN:VEVENT
SUMMARY:Men's breakfast
DTSTART;TZID=Europe/London:20260214T083000
DTEND;TZID=Europe/London:20260214T100000
DTSTAMP:20260423T042022Z
UID:11501272026-02-14 08:30:00+00:00achurchnearyou
CATEGORIES:
DESCRIPTION:A breakfast for all men just to chat and listen
GEO:-1.427005;53.545816
LOCATION:Christ Church
URL:https://www.achurchnearyou.com/church/17591/service-and-events/events/
 1150127/
END:VEVENT
BEGIN:VEVENT
SUMMARY:Men's breakfast
DTSTART;TZID=Europe/London:20260314T083000
DTEND;TZID=Europe/London:20260314T100000
DTSTAMP:20260423T042022Z
UID:11501272026-03-14 08:30:00+00:00achurchnearyou
CATEGORIES:
DESCRIPTION:A breakfast for all men just to chat and listen
GEO:-1.427005;53.545816
LOCATION:Christ Church
URL:https://www.achurchnearyou.com/church/17591/service-and-events/events/
 1150127/
END:VEVENT
BEGIN:VEVENT
SUMMARY:Men's breakfast
DTSTART;TZID=Europe/London:20260411T083000
DTEND;TZID=Europe/London:20260411T100000
DTSTAMP:20260423T042022Z
UID:11501272026-04-11 08:30:00+01:00achurchnearyou
CATEGORIES:
DESCRIPTION:A breakfast for all men just to chat and listen
GEO:-1.427005;53.545816
LOCATION:Christ Church
URL:https://www.achurchnearyou.com/church/17591/service-and-events/events/
 1150127/
END:VEVENT
BEGIN:VEVENT
SUMMARY:Men's breakfast
DTSTART;TZID=Europe/London:20260509T083000
DTEND;TZID=Europe/London:20260509T100000
DTSTAMP:20260423T042022Z
UID:11501272026-05-09 08:30:00+01:00achurchnearyou
CATEGORIES:
DESCRIPTION:A breakfast for all men just to chat and listen
GEO:-1.427005;53.545816
LOCATION:Christ Church
URL:https://www.achurchnearyou.com/church/17591/service-and-events/events/
 1150127/
END:VEVENT
BEGIN:VEVENT
SUMMARY:Men's breakfast
DTSTART;TZID=Europe/London:20260613T083000
DTEND;TZID=Europe/London:20260613T100000
DTSTAMP:20260423T042022Z
UID:11501272026-06-13 08:30:00+01:00achurchnearyou
CATEGORIES:
DESCRIPTION:A breakfast for all men just to chat and listen
GEO:-1.427005;53.545816
LOCATION:Christ Church
URL:https://www.achurchnearyou.com/church/17591/service-and-events/events/
 1150127/
END:VEVENT
BEGIN:VEVENT
SUMMARY:Men's breakfast
DTSTART;TZID=Europe/London:20260711T083000
DTEND;TZID=Europe/London:20260711T100000
DTSTAMP:20260423T042022Z
UID:11501272026-07-11 08:30:00+01:00achurchnearyou
CATEGORIES:
DESCRIPTION:A breakfast for all men just to chat and listen
GEO:-1.427005;53.545816
LOCATION:Christ Church
URL:https://www.achurchnearyou.com/church/17591/service-and-events/events/
 1150127/
END:VEVENT
BEGIN:VEVENT
SUMMARY:Men's breakfast
DTSTART;TZID=Europe/London:20260808T083000
DTEND;TZID=Europe/London:20260808T100000
DTSTAMP:20260423T042022Z
UID:11501272026-08-08 08:30:00+01:00achurchnearyou
CATEGORIES:
DESCRIPTION:A breakfast for all men just to chat and listen
GEO:-1.427005;53.545816
LOCATION:Christ Church
URL:https://www.achurchnearyou.com/church/17591/service-and-events/events/
 1150127/
END:VEVENT
BEGIN:VEVENT
SUMMARY:Men's breakfast
DTSTART;TZID=Europe/London:20260912T083000
DTEND;TZID=Europe/London:20260912T100000
DTSTAMP:20260423T042022Z
UID:11501272026-09-12 08:30:00+01:00achurchnearyou
CATEGORIES:
DESCRIPTION:A breakfast for all men just to chat and listen
GEO:-1.427005;53.545816
LOCATION:Christ Church
URL:https://www.achurchnearyou.com/church/17591/service-and-events/events/
 1150127/
END:VEVENT
BEGIN:VEVENT
SUMMARY:Men's breakfast
DTSTART;TZID=Europe/London:20261010T083000
DTEND;TZID=Europe/London:20261010T100000
DTSTAMP:20260423T042022Z
UID:11501272026-10-10 08:30:00+01:00achurchnearyou
CATEGORIES:
DESCRIPTION:A breakfast for all men just to chat and listen
GEO:-1.427005;53.545816
LOCATION:Christ Church
URL:https://www.achurchnearyou.com/church/17591/service-and-events/events/
 1150127/
END:VEVENT
BEGIN:VEVENT
SUMMARY:Men's breakfast
DTSTART;TZID=Europe/London:20261114T083000
DTEND;TZID=Europe/London:20261114T100000
DTSTAMP:20260423T042022Z
UID:11501272026-11-14 08:30:00+00:00achurchnearyou
CATEGORIES:
DESCRIPTION:A breakfast for all men just to chat and listen
GEO:-1.427005;53.545816
LOCATION:Christ Church
URL:https://www.achurchnearyou.com/church/17591/service-and-events/events/
 1150127/
END:VEVENT
BEGIN:VEVENT
SUMMARY:Men's breakfast
DTSTART;TZID=Europe/London:20261212T083000
DTEND;TZID=Europe/London:20261212T100000
DTSTAMP:20260423T042022Z
UID:11501272026-12-12 08:30:00+00:00achurchnearyou
CATEGORIES:
DESCRIPTION:A breakfast for all men just to chat and listen
GEO:-1.427005;53.545816
LOCATION:Christ Church
URL:https://www.achurchnearyou.com/church/17591/service-and-events/events/
 1150127/
END:VEVENT
BEGIN:VEVENT
SUMMARY:Men's breakfast
DTSTART;TZID=Europe/London:20270109T083000
DTEND;TZID=Europe/London:20270109T100000
DTSTAMP:20260423T042022Z
UID:11501272027-01-09 08:30:00+00:00achurchnearyou
CATEGORIES:
DESCRIPTION:A breakfast for all men just to chat and listen
GEO:-1.427005;53.545816
LOCATION:Christ Church
URL:https://www.achurchnearyou.com/church/17591/service-and-events/events/
 1150127/
END:VEVENT
BEGIN:VEVENT
SUMMARY:Men's breakfast
DTSTART;TZID=Europe/London:20270213T083000
DTEND;TZID=Europe/London:20270213T100000
DTSTAMP:20260423T042022Z
UID:11501272027-02-13 08:30:00+00:00achurchnearyou
CATEGORIES:
DESCRIPTION:A breakfast for all men just to chat and listen
GEO:-1.427005;53.545816
LOCATION:Christ Church
URL:https://www.achurchnearyou.com/church/17591/service-and-events/events/
 1150127/
END:VEVENT
BEGIN:VEVENT
SUMMARY:Men's breakfast
DTSTART;TZID=Europe/London:20270313T083000
DTEND;TZID=Europe/London:20270313T100000
DTSTAMP:20260423T042022Z
UID:11501272027-03-13 08:30:00+00:00achurchnearyou
CATEGORIES:
DESCRIPTION:A breakfast for all men just to chat and listen
GEO:-1.427005;53.545816
LOCATION:Christ Church
URL:https://www.achurchnearyou.com/church/17591/service-and-events/events/
 1150127/
END:VEVENT
BEGIN:VEVENT
SUMMARY:Men's breakfast
DTSTART;TZID=Europe/London:20270410T083000
DTEND;TZID=Europe/London:20270410T100000
DTSTAMP:20260423T042022Z
UID:11501272027-04-10 08:30:00+01:00achurchnearyou
CATEGORIES:
DESCRIPTION:A breakfast for all men just to chat and listen
GEO:-1.427005;53.545816
LOCATION:Christ Church
URL:https://www.achurchnearyou.com/church/17591/service-and-events/events/
 1150127/
END:VEVENT
END:VCALENDAR
