BEGIN:VCALENDAR
VERSION:2.0
PRODID:-//achurchnearyou.com//eventfeed//EN
CALSCALE:GREGORIAN
METHOD:PUBLISH
X-WR-TIMEZONE:UTC
BEGIN:VEVENT
SUMMARY:Pancake Day Cafe
DTSTART:20250304T100000Z
DTEND:20250304T120000Z
DTSTAMP:20260424T092909Z
UID:11606132025-03-04 10:00:00+00:00achurchnearyou
CATEGORIES:
DESCRIPTION:Come and eat a pancake or two. Choose your topping. Quiz paper
 s\, toddler toys
GEO:-1.427005;53.545816
LOCATION:Christ Church
URL:https://www.achurchnearyou.com/church/17591/service-and-events/events/
 1160613/
END:VEVENT
END:VCALENDAR
