BEGIN:VCALENDAR
VERSION:2.0
PRODID:-//achurchnearyou.com//eventfeed//EN
CALSCALE:GREGORIAN
METHOD:PUBLISH
X-WR-TIMEZONE:UTC
BEGIN:VEVENT
SUMMARY:Spring Coffee Morning
DTSTART:20260321T103000Z
DTEND:20260321T120000Z
DTSTAMP:20260423T121846Z
UID:13053432026-03-21 10:30:00+00:00achurchnearyou
CATEGORIES:
DESCRIPTION:Come and enjoy tea/coffee\, homemade cakes\, bacon sandwiches\
 , marmalade\, Easter crafts\, Games
GEO:-1.427005;53.545816
LOCATION:Christ Church
URL:https://www.achurchnearyou.com/church/17591/service-and-events/events/
 1305343/
END:VEVENT
END:VCALENDAR
