BEGIN:VCALENDAR
VERSION:2.0
PRODID:-//achurchnearyou.com//eventfeed//EN
CALSCALE:GREGORIAN
METHOD:PUBLISH
X-WR-TIMEZONE:UTC
BEGIN:VEVENT
SUMMARY:Morning Prayer
DTSTART;TZID=Europe/London:20260429T083000
DTEND;TZID=Europe/London:20260429T090000
DTSTAMP:20260422T071935Z
UID:12832502026-04-29 08:30:00+01:00achurchnearyou
CATEGORIES:
DESCRIPTION:From the Divine Office. The Liturgy of the Hours according to 
 the Roman Rite. Morning Prayer in common  every Wednesday at 8.30am.
LOCATION:St Leonard & St Jude Scawsby.
URL:https://www.achurchnearyou.com/church/17625/service-and-events/events/
 1283250/
END:VEVENT
BEGIN:VEVENT
SUMMARY:Morning Prayer
DTSTART;TZID=Europe/London:20260506T083000
DTEND;TZID=Europe/London:20260506T090000
DTSTAMP:20260422T071935Z
UID:12832502026-05-06 08:30:00+01:00achurchnearyou
CATEGORIES:
DESCRIPTION:From the Divine Office. The Liturgy of the Hours according to 
 the Roman Rite. Morning Prayer in common  every Wednesday at 8.30am.
LOCATION:St Leonard & St Jude Scawsby.
URL:https://www.achurchnearyou.com/church/17625/service-and-events/events/
 1283250/
END:VEVENT
END:VCALENDAR
