BEGIN:VCALENDAR
VERSION:2.0
PRODID:-//achurchnearyou.com//eventfeed//EN
CALSCALE:GREGORIAN
METHOD:PUBLISH
X-WR-TIMEZONE:UTC
BEGIN:VEVENT
SUMMARY:Crib Service - The Grumpy Owl and the Joy of Christmas
DTSTART:20251224T170000Z
DTEND:20251224T180000Z
DTSTAMP:20260424T032007Z
UID:12673562025-12-24 17:00:00+00:00achurchnearyou
CATEGORIES:
DESCRIPTION:Come and join us on Christmas Eve to hear the story of The Gru
 mpy Owl and the Joy of Christmas.\nSing some favourite carols\, heart the 
 story\, start the celebration properly!
GEO:-1.19115;53.584718
LOCATION:St Michael & All Angels\, Skellow
URL:https://www.achurchnearyou.com/church/17628/service-and-events/events/
 1267356/
END:VEVENT
END:VCALENDAR
