BEGIN:VCALENDAR
VERSION:2.0
PRODID:-//achurchnearyou.com//eventfeed//EN
CALSCALE:GREGORIAN
METHOD:PUBLISH
X-WR-TIMEZONE:UTC
BEGIN:VEVENT
SUMMARY:Maundy Thursday
DTSTART:20250417T183000Z
DTEND:20250417T193000Z
DTSTAMP:20260420T181301Z
UID:11800212025-04-17 18:30:00+00:00achurchnearyou
CATEGORIES:
DESCRIPTION:Join us for an meditative service of Communion as we reflect o
 n Jesus' last hours with his disciples before his arrest.
GEO:-1.229605;53.48297
LOCATION:St Peter Conisbrough
URL:https://www.stpetersconisbrough.org/easter
END:VEVENT
END:VCALENDAR
