BEGIN:VCALENDAR
VERSION:2.0
PRODID:-//achurchnearyou.com//eventfeed//EN
CALSCALE:GREGORIAN
METHOD:PUBLISH
X-WR-TIMEZONE:UTC
BEGIN:VEVENT
SUMMARY:Afternoon service
DTSTART;TZID=Europe/London:20260426T163000
DTEND;TZID=Europe/London:20260426T171500
DTSTAMP:20260422T213205Z
UID:1992712026-04-26 16:30:00+01:00achurchnearyou
CATEGORIES:
DESCRIPTION:A service each Sunday at 4.30pm. Its form will vary depending 
 on who is leading it.
GEO:-1.167929;53.500191
LOCATION:The White Church - St Peter Warmsworth
URL:https://www.achurchnearyou.com/church/17644/service-and-events/events/
 199271/
END:VEVENT
BEGIN:VEVENT
SUMMARY:Afternoon service
DTSTART;TZID=Europe/London:20260503T163000
DTEND;TZID=Europe/London:20260503T171500
DTSTAMP:20260422T213205Z
UID:1992712026-05-03 16:30:00+01:00achurchnearyou
CATEGORIES:
DESCRIPTION:A service each Sunday at 4.30pm. Its form will vary depending 
 on who is leading it.
GEO:-1.167929;53.500191
LOCATION:The White Church - St Peter Warmsworth
URL:https://www.achurchnearyou.com/church/17644/service-and-events/events/
 199271/
END:VEVENT
BEGIN:VEVENT
SUMMARY:Afternoon service
DTSTART;TZID=Europe/London:20260510T163000
DTEND;TZID=Europe/London:20260510T171500
DTSTAMP:20260422T213205Z
UID:1992712026-05-10 16:30:00+01:00achurchnearyou
CATEGORIES:
DESCRIPTION:A service each Sunday at 4.30pm. Its form will vary depending 
 on who is leading it.
GEO:-1.167929;53.500191
LOCATION:The White Church - St Peter Warmsworth
URL:https://www.achurchnearyou.com/church/17644/service-and-events/events/
 199271/
END:VEVENT
BEGIN:VEVENT
SUMMARY:Afternoon service
DTSTART;TZID=Europe/London:20260517T163000
DTEND;TZID=Europe/London:20260517T171500
DTSTAMP:20260422T213205Z
UID:1992712026-05-17 16:30:00+01:00achurchnearyou
CATEGORIES:
DESCRIPTION:A service each Sunday at 4.30pm. Its form will vary depending 
 on who is leading it.
GEO:-1.167929;53.500191
LOCATION:The White Church - St Peter Warmsworth
URL:https://www.achurchnearyou.com/church/17644/service-and-events/events/
 199271/
END:VEVENT
BEGIN:VEVENT
SUMMARY:Afternoon service
DTSTART;TZID=Europe/London:20260524T163000
DTEND;TZID=Europe/London:20260524T171500
DTSTAMP:20260422T213205Z
UID:1992712026-05-24 16:30:00+01:00achurchnearyou
CATEGORIES:
DESCRIPTION:A service each Sunday at 4.30pm. Its form will vary depending 
 on who is leading it.
GEO:-1.167929;53.500191
LOCATION:The White Church - St Peter Warmsworth
URL:https://www.achurchnearyou.com/church/17644/service-and-events/events/
 199271/
END:VEVENT
BEGIN:VEVENT
SUMMARY:Afternoon service
DTSTART;TZID=Europe/London:20260531T163000
DTEND;TZID=Europe/London:20260531T171500
DTSTAMP:20260422T213205Z
UID:1992712026-05-31 16:30:00+01:00achurchnearyou
CATEGORIES:
DESCRIPTION:A service each Sunday at 4.30pm. Its form will vary depending 
 on who is leading it.
GEO:-1.167929;53.500191
LOCATION:The White Church - St Peter Warmsworth
URL:https://www.achurchnearyou.com/church/17644/service-and-events/events/
 199271/
END:VEVENT
BEGIN:VEVENT
SUMMARY:Afternoon service
DTSTART;TZID=Europe/London:20260607T163000
DTEND;TZID=Europe/London:20260607T171500
DTSTAMP:20260422T213205Z
UID:1992712026-06-07 16:30:00+01:00achurchnearyou
CATEGORIES:
DESCRIPTION:A service each Sunday at 4.30pm. Its form will vary depending 
 on who is leading it.
GEO:-1.167929;53.500191
LOCATION:The White Church - St Peter Warmsworth
URL:https://www.achurchnearyou.com/church/17644/service-and-events/events/
 199271/
END:VEVENT
BEGIN:VEVENT
SUMMARY:Afternoon service
DTSTART;TZID=Europe/London:20260614T163000
DTEND;TZID=Europe/London:20260614T171500
DTSTAMP:20260422T213205Z
UID:1992712026-06-14 16:30:00+01:00achurchnearyou
CATEGORIES:
DESCRIPTION:A service each Sunday at 4.30pm. Its form will vary depending 
 on who is leading it.
GEO:-1.167929;53.500191
LOCATION:The White Church - St Peter Warmsworth
URL:https://www.achurchnearyou.com/church/17644/service-and-events/events/
 199271/
END:VEVENT
BEGIN:VEVENT
SUMMARY:Afternoon service
DTSTART;TZID=Europe/London:20260621T163000
DTEND;TZID=Europe/London:20260621T171500
DTSTAMP:20260422T213205Z
UID:1992712026-06-21 16:30:00+01:00achurchnearyou
CATEGORIES:
DESCRIPTION:A service each Sunday at 4.30pm. Its form will vary depending 
 on who is leading it.
GEO:-1.167929;53.500191
LOCATION:The White Church - St Peter Warmsworth
URL:https://www.achurchnearyou.com/church/17644/service-and-events/events/
 199271/
END:VEVENT
BEGIN:VEVENT
SUMMARY:Afternoon service
DTSTART;TZID=Europe/London:20260628T163000
DTEND;TZID=Europe/London:20260628T171500
DTSTAMP:20260422T213205Z
UID:1992712026-06-28 16:30:00+01:00achurchnearyou
CATEGORIES:
DESCRIPTION:A service each Sunday at 4.30pm. Its form will vary depending 
 on who is leading it.
GEO:-1.167929;53.500191
LOCATION:The White Church - St Peter Warmsworth
URL:https://www.achurchnearyou.com/church/17644/service-and-events/events/
 199271/
END:VEVENT
BEGIN:VEVENT
SUMMARY:Afternoon service
DTSTART;TZID=Europe/London:20260705T163000
DTEND;TZID=Europe/London:20260705T171500
DTSTAMP:20260422T213205Z
UID:1992712026-07-05 16:30:00+01:00achurchnearyou
CATEGORIES:
DESCRIPTION:A service each Sunday at 4.30pm. Its form will vary depending 
 on who is leading it.
GEO:-1.167929;53.500191
LOCATION:The White Church - St Peter Warmsworth
URL:https://www.achurchnearyou.com/church/17644/service-and-events/events/
 199271/
END:VEVENT
BEGIN:VEVENT
SUMMARY:Afternoon service
DTSTART;TZID=Europe/London:20260712T163000
DTEND;TZID=Europe/London:20260712T171500
DTSTAMP:20260422T213205Z
UID:1992712026-07-12 16:30:00+01:00achurchnearyou
CATEGORIES:
DESCRIPTION:A service each Sunday at 4.30pm. Its form will vary depending 
 on who is leading it.
GEO:-1.167929;53.500191
LOCATION:The White Church - St Peter Warmsworth
URL:https://www.achurchnearyou.com/church/17644/service-and-events/events/
 199271/
END:VEVENT
BEGIN:VEVENT
SUMMARY:Afternoon service
DTSTART;TZID=Europe/London:20260719T163000
DTEND;TZID=Europe/London:20260719T171500
DTSTAMP:20260422T213205Z
UID:1992712026-07-19 16:30:00+01:00achurchnearyou
CATEGORIES:
DESCRIPTION:A service each Sunday at 4.30pm. Its form will vary depending 
 on who is leading it.
GEO:-1.167929;53.500191
LOCATION:The White Church - St Peter Warmsworth
URL:https://www.achurchnearyou.com/church/17644/service-and-events/events/
 199271/
END:VEVENT
BEGIN:VEVENT
SUMMARY:Afternoon service
DTSTART;TZID=Europe/London:20260726T163000
DTEND;TZID=Europe/London:20260726T171500
DTSTAMP:20260422T213205Z
UID:1992712026-07-26 16:30:00+01:00achurchnearyou
CATEGORIES:
DESCRIPTION:A service each Sunday at 4.30pm. Its form will vary depending 
 on who is leading it.
GEO:-1.167929;53.500191
LOCATION:The White Church - St Peter Warmsworth
URL:https://www.achurchnearyou.com/church/17644/service-and-events/events/
 199271/
END:VEVENT
BEGIN:VEVENT
SUMMARY:Afternoon service
DTSTART;TZID=Europe/London:20260802T163000
DTEND;TZID=Europe/London:20260802T171500
DTSTAMP:20260422T213205Z
UID:1992712026-08-02 16:30:00+01:00achurchnearyou
CATEGORIES:
DESCRIPTION:A service each Sunday at 4.30pm. Its form will vary depending 
 on who is leading it.
GEO:-1.167929;53.500191
LOCATION:The White Church - St Peter Warmsworth
URL:https://www.achurchnearyou.com/church/17644/service-and-events/events/
 199271/
END:VEVENT
BEGIN:VEVENT
SUMMARY:Afternoon service
DTSTART;TZID=Europe/London:20260809T163000
DTEND;TZID=Europe/London:20260809T171500
DTSTAMP:20260422T213205Z
UID:1992712026-08-09 16:30:00+01:00achurchnearyou
CATEGORIES:
DESCRIPTION:A service each Sunday at 4.30pm. Its form will vary depending 
 on who is leading it.
GEO:-1.167929;53.500191
LOCATION:The White Church - St Peter Warmsworth
URL:https://www.achurchnearyou.com/church/17644/service-and-events/events/
 199271/
END:VEVENT
BEGIN:VEVENT
SUMMARY:Afternoon service
DTSTART;TZID=Europe/London:20260816T163000
DTEND;TZID=Europe/London:20260816T171500
DTSTAMP:20260422T213205Z
UID:1992712026-08-16 16:30:00+01:00achurchnearyou
CATEGORIES:
DESCRIPTION:A service each Sunday at 4.30pm. Its form will vary depending 
 on who is leading it.
GEO:-1.167929;53.500191
LOCATION:The White Church - St Peter Warmsworth
URL:https://www.achurchnearyou.com/church/17644/service-and-events/events/
 199271/
END:VEVENT
BEGIN:VEVENT
SUMMARY:Afternoon service
DTSTART;TZID=Europe/London:20260823T163000
DTEND;TZID=Europe/London:20260823T171500
DTSTAMP:20260422T213205Z
UID:1992712026-08-23 16:30:00+01:00achurchnearyou
CATEGORIES:
DESCRIPTION:A service each Sunday at 4.30pm. Its form will vary depending 
 on who is leading it.
GEO:-1.167929;53.500191
LOCATION:The White Church - St Peter Warmsworth
URL:https://www.achurchnearyou.com/church/17644/service-and-events/events/
 199271/
END:VEVENT
BEGIN:VEVENT
SUMMARY:Afternoon service
DTSTART;TZID=Europe/London:20260830T163000
DTEND;TZID=Europe/London:20260830T171500
DTSTAMP:20260422T213205Z
UID:1992712026-08-30 16:30:00+01:00achurchnearyou
CATEGORIES:
DESCRIPTION:A service each Sunday at 4.30pm. Its form will vary depending 
 on who is leading it.
GEO:-1.167929;53.500191
LOCATION:The White Church - St Peter Warmsworth
URL:https://www.achurchnearyou.com/church/17644/service-and-events/events/
 199271/
END:VEVENT
BEGIN:VEVENT
SUMMARY:Afternoon service
DTSTART;TZID=Europe/London:20260906T163000
DTEND;TZID=Europe/London:20260906T171500
DTSTAMP:20260422T213205Z
UID:1992712026-09-06 16:30:00+01:00achurchnearyou
CATEGORIES:
DESCRIPTION:A service each Sunday at 4.30pm. Its form will vary depending 
 on who is leading it.
GEO:-1.167929;53.500191
LOCATION:The White Church - St Peter Warmsworth
URL:https://www.achurchnearyou.com/church/17644/service-and-events/events/
 199271/
END:VEVENT
BEGIN:VEVENT
SUMMARY:Afternoon service
DTSTART;TZID=Europe/London:20260913T163000
DTEND;TZID=Europe/London:20260913T171500
DTSTAMP:20260422T213205Z
UID:1992712026-09-13 16:30:00+01:00achurchnearyou
CATEGORIES:
DESCRIPTION:A service each Sunday at 4.30pm. Its form will vary depending 
 on who is leading it.
GEO:-1.167929;53.500191
LOCATION:The White Church - St Peter Warmsworth
URL:https://www.achurchnearyou.com/church/17644/service-and-events/events/
 199271/
END:VEVENT
BEGIN:VEVENT
SUMMARY:Afternoon service
DTSTART;TZID=Europe/London:20260920T163000
DTEND;TZID=Europe/London:20260920T171500
DTSTAMP:20260422T213205Z
UID:1992712026-09-20 16:30:00+01:00achurchnearyou
CATEGORIES:
DESCRIPTION:A service each Sunday at 4.30pm. Its form will vary depending 
 on who is leading it.
GEO:-1.167929;53.500191
LOCATION:The White Church - St Peter Warmsworth
URL:https://www.achurchnearyou.com/church/17644/service-and-events/events/
 199271/
END:VEVENT
BEGIN:VEVENT
SUMMARY:Afternoon service
DTSTART;TZID=Europe/London:20260927T163000
DTEND;TZID=Europe/London:20260927T171500
DTSTAMP:20260422T213205Z
UID:1992712026-09-27 16:30:00+01:00achurchnearyou
CATEGORIES:
DESCRIPTION:A service each Sunday at 4.30pm. Its form will vary depending 
 on who is leading it.
GEO:-1.167929;53.500191
LOCATION:The White Church - St Peter Warmsworth
URL:https://www.achurchnearyou.com/church/17644/service-and-events/events/
 199271/
END:VEVENT
BEGIN:VEVENT
SUMMARY:Afternoon service
DTSTART;TZID=Europe/London:20261004T163000
DTEND;TZID=Europe/London:20261004T171500
DTSTAMP:20260422T213205Z
UID:1992712026-10-04 16:30:00+01:00achurchnearyou
CATEGORIES:
DESCRIPTION:A service each Sunday at 4.30pm. Its form will vary depending 
 on who is leading it.
GEO:-1.167929;53.500191
LOCATION:The White Church - St Peter Warmsworth
URL:https://www.achurchnearyou.com/church/17644/service-and-events/events/
 199271/
END:VEVENT
BEGIN:VEVENT
SUMMARY:Afternoon service
DTSTART;TZID=Europe/London:20261011T163000
DTEND;TZID=Europe/London:20261011T171500
DTSTAMP:20260422T213205Z
UID:1992712026-10-11 16:30:00+01:00achurchnearyou
CATEGORIES:
DESCRIPTION:A service each Sunday at 4.30pm. Its form will vary depending 
 on who is leading it.
GEO:-1.167929;53.500191
LOCATION:The White Church - St Peter Warmsworth
URL:https://www.achurchnearyou.com/church/17644/service-and-events/events/
 199271/
END:VEVENT
BEGIN:VEVENT
SUMMARY:Afternoon service
DTSTART;TZID=Europe/London:20261018T163000
DTEND;TZID=Europe/London:20261018T171500
DTSTAMP:20260422T213205Z
UID:1992712026-10-18 16:30:00+01:00achurchnearyou
CATEGORIES:
DESCRIPTION:A service each Sunday at 4.30pm. Its form will vary depending 
 on who is leading it.
GEO:-1.167929;53.500191
LOCATION:The White Church - St Peter Warmsworth
URL:https://www.achurchnearyou.com/church/17644/service-and-events/events/
 199271/
END:VEVENT
BEGIN:VEVENT
SUMMARY:Afternoon service
DTSTART;TZID=Europe/London:20261025T163000
DTEND;TZID=Europe/London:20261025T171500
DTSTAMP:20260422T213205Z
UID:1992712026-10-25 16:30:00+00:00achurchnearyou
CATEGORIES:
DESCRIPTION:A service each Sunday at 4.30pm. Its form will vary depending 
 on who is leading it.
GEO:-1.167929;53.500191
LOCATION:The White Church - St Peter Warmsworth
URL:https://www.achurchnearyou.com/church/17644/service-and-events/events/
 199271/
END:VEVENT
BEGIN:VEVENT
SUMMARY:Afternoon service
DTSTART;TZID=Europe/London:20261101T163000
DTEND;TZID=Europe/London:20261101T171500
DTSTAMP:20260422T213205Z
UID:1992712026-11-01 16:30:00+00:00achurchnearyou
CATEGORIES:
DESCRIPTION:A service each Sunday at 4.30pm. Its form will vary depending 
 on who is leading it.
GEO:-1.167929;53.500191
LOCATION:The White Church - St Peter Warmsworth
URL:https://www.achurchnearyou.com/church/17644/service-and-events/events/
 199271/
END:VEVENT
BEGIN:VEVENT
SUMMARY:Afternoon service
DTSTART;TZID=Europe/London:20261108T163000
DTEND;TZID=Europe/London:20261108T171500
DTSTAMP:20260422T213205Z
UID:1992712026-11-08 16:30:00+00:00achurchnearyou
CATEGORIES:
DESCRIPTION:A service each Sunday at 4.30pm. Its form will vary depending 
 on who is leading it.
GEO:-1.167929;53.500191
LOCATION:The White Church - St Peter Warmsworth
URL:https://www.achurchnearyou.com/church/17644/service-and-events/events/
 199271/
END:VEVENT
BEGIN:VEVENT
SUMMARY:Afternoon service
DTSTART;TZID=Europe/London:20261115T163000
DTEND;TZID=Europe/London:20261115T171500
DTSTAMP:20260422T213205Z
UID:1992712026-11-15 16:30:00+00:00achurchnearyou
CATEGORIES:
DESCRIPTION:A service each Sunday at 4.30pm. Its form will vary depending 
 on who is leading it.
GEO:-1.167929;53.500191
LOCATION:The White Church - St Peter Warmsworth
URL:https://www.achurchnearyou.com/church/17644/service-and-events/events/
 199271/
END:VEVENT
BEGIN:VEVENT
SUMMARY:Afternoon service
DTSTART;TZID=Europe/London:20261122T163000
DTEND;TZID=Europe/London:20261122T171500
DTSTAMP:20260422T213205Z
UID:1992712026-11-22 16:30:00+00:00achurchnearyou
CATEGORIES:
DESCRIPTION:A service each Sunday at 4.30pm. Its form will vary depending 
 on who is leading it.
GEO:-1.167929;53.500191
LOCATION:The White Church - St Peter Warmsworth
URL:https://www.achurchnearyou.com/church/17644/service-and-events/events/
 199271/
END:VEVENT
BEGIN:VEVENT
SUMMARY:Afternoon service
DTSTART;TZID=Europe/London:20261129T163000
DTEND;TZID=Europe/London:20261129T171500
DTSTAMP:20260422T213205Z
UID:1992712026-11-29 16:30:00+00:00achurchnearyou
CATEGORIES:
DESCRIPTION:A service each Sunday at 4.30pm. Its form will vary depending 
 on who is leading it.
GEO:-1.167929;53.500191
LOCATION:The White Church - St Peter Warmsworth
URL:https://www.achurchnearyou.com/church/17644/service-and-events/events/
 199271/
END:VEVENT
BEGIN:VEVENT
SUMMARY:Afternoon service
DTSTART;TZID=Europe/London:20261206T163000
DTEND;TZID=Europe/London:20261206T171500
DTSTAMP:20260422T213205Z
UID:1992712026-12-06 16:30:00+00:00achurchnearyou
CATEGORIES:
DESCRIPTION:A service each Sunday at 4.30pm. Its form will vary depending 
 on who is leading it.
GEO:-1.167929;53.500191
LOCATION:The White Church - St Peter Warmsworth
URL:https://www.achurchnearyou.com/church/17644/service-and-events/events/
 199271/
END:VEVENT
BEGIN:VEVENT
SUMMARY:Afternoon service
DTSTART;TZID=Europe/London:20261213T163000
DTEND;TZID=Europe/London:20261213T171500
DTSTAMP:20260422T213205Z
UID:1992712026-12-13 16:30:00+00:00achurchnearyou
CATEGORIES:
DESCRIPTION:A service each Sunday at 4.30pm. Its form will vary depending 
 on who is leading it.
GEO:-1.167929;53.500191
LOCATION:The White Church - St Peter Warmsworth
URL:https://www.achurchnearyou.com/church/17644/service-and-events/events/
 199271/
END:VEVENT
BEGIN:VEVENT
SUMMARY:Afternoon service
DTSTART;TZID=Europe/London:20261220T163000
DTEND;TZID=Europe/London:20261220T171500
DTSTAMP:20260422T213205Z
UID:1992712026-12-20 16:30:00+00:00achurchnearyou
CATEGORIES:
DESCRIPTION:A service each Sunday at 4.30pm. Its form will vary depending 
 on who is leading it.
GEO:-1.167929;53.500191
LOCATION:The White Church - St Peter Warmsworth
URL:https://www.achurchnearyou.com/church/17644/service-and-events/events/
 199271/
END:VEVENT
BEGIN:VEVENT
SUMMARY:Afternoon service
DTSTART;TZID=Europe/London:20261227T163000
DTEND;TZID=Europe/London:20261227T171500
DTSTAMP:20260422T213205Z
UID:1992712026-12-27 16:30:00+00:00achurchnearyou
CATEGORIES:
DESCRIPTION:A service each Sunday at 4.30pm. Its form will vary depending 
 on who is leading it.
GEO:-1.167929;53.500191
LOCATION:The White Church - St Peter Warmsworth
URL:https://www.achurchnearyou.com/church/17644/service-and-events/events/
 199271/
END:VEVENT
BEGIN:VEVENT
SUMMARY:Afternoon service
DTSTART;TZID=Europe/London:20270103T163000
DTEND;TZID=Europe/London:20270103T171500
DTSTAMP:20260422T213205Z
UID:1992712027-01-03 16:30:00+00:00achurchnearyou
CATEGORIES:
DESCRIPTION:A service each Sunday at 4.30pm. Its form will vary depending 
 on who is leading it.
GEO:-1.167929;53.500191
LOCATION:The White Church - St Peter Warmsworth
URL:https://www.achurchnearyou.com/church/17644/service-and-events/events/
 199271/
END:VEVENT
BEGIN:VEVENT
SUMMARY:Afternoon service
DTSTART;TZID=Europe/London:20270110T163000
DTEND;TZID=Europe/London:20270110T171500
DTSTAMP:20260422T213205Z
UID:1992712027-01-10 16:30:00+00:00achurchnearyou
CATEGORIES:
DESCRIPTION:A service each Sunday at 4.30pm. Its form will vary depending 
 on who is leading it.
GEO:-1.167929;53.500191
LOCATION:The White Church - St Peter Warmsworth
URL:https://www.achurchnearyou.com/church/17644/service-and-events/events/
 199271/
END:VEVENT
BEGIN:VEVENT
SUMMARY:Afternoon service
DTSTART;TZID=Europe/London:20270117T163000
DTEND;TZID=Europe/London:20270117T171500
DTSTAMP:20260422T213205Z
UID:1992712027-01-17 16:30:00+00:00achurchnearyou
CATEGORIES:
DESCRIPTION:A service each Sunday at 4.30pm. Its form will vary depending 
 on who is leading it.
GEO:-1.167929;53.500191
LOCATION:The White Church - St Peter Warmsworth
URL:https://www.achurchnearyou.com/church/17644/service-and-events/events/
 199271/
END:VEVENT
BEGIN:VEVENT
SUMMARY:Afternoon service
DTSTART;TZID=Europe/London:20270124T163000
DTEND;TZID=Europe/London:20270124T171500
DTSTAMP:20260422T213205Z
UID:1992712027-01-24 16:30:00+00:00achurchnearyou
CATEGORIES:
DESCRIPTION:A service each Sunday at 4.30pm. Its form will vary depending 
 on who is leading it.
GEO:-1.167929;53.500191
LOCATION:The White Church - St Peter Warmsworth
URL:https://www.achurchnearyou.com/church/17644/service-and-events/events/
 199271/
END:VEVENT
BEGIN:VEVENT
SUMMARY:Afternoon service
DTSTART;TZID=Europe/London:20270131T163000
DTEND;TZID=Europe/London:20270131T171500
DTSTAMP:20260422T213205Z
UID:1992712027-01-31 16:30:00+00:00achurchnearyou
CATEGORIES:
DESCRIPTION:A service each Sunday at 4.30pm. Its form will vary depending 
 on who is leading it.
GEO:-1.167929;53.500191
LOCATION:The White Church - St Peter Warmsworth
URL:https://www.achurchnearyou.com/church/17644/service-and-events/events/
 199271/
END:VEVENT
BEGIN:VEVENT
SUMMARY:Afternoon service
DTSTART;TZID=Europe/London:20270207T163000
DTEND;TZID=Europe/London:20270207T171500
DTSTAMP:20260422T213205Z
UID:1992712027-02-07 16:30:00+00:00achurchnearyou
CATEGORIES:
DESCRIPTION:A service each Sunday at 4.30pm. Its form will vary depending 
 on who is leading it.
GEO:-1.167929;53.500191
LOCATION:The White Church - St Peter Warmsworth
URL:https://www.achurchnearyou.com/church/17644/service-and-events/events/
 199271/
END:VEVENT
BEGIN:VEVENT
SUMMARY:Afternoon service
DTSTART;TZID=Europe/London:20270214T163000
DTEND;TZID=Europe/London:20270214T171500
DTSTAMP:20260422T213205Z
UID:1992712027-02-14 16:30:00+00:00achurchnearyou
CATEGORIES:
DESCRIPTION:A service each Sunday at 4.30pm. Its form will vary depending 
 on who is leading it.
GEO:-1.167929;53.500191
LOCATION:The White Church - St Peter Warmsworth
URL:https://www.achurchnearyou.com/church/17644/service-and-events/events/
 199271/
END:VEVENT
BEGIN:VEVENT
SUMMARY:Afternoon service
DTSTART;TZID=Europe/London:20270221T163000
DTEND;TZID=Europe/London:20270221T171500
DTSTAMP:20260422T213205Z
UID:1992712027-02-21 16:30:00+00:00achurchnearyou
CATEGORIES:
DESCRIPTION:A service each Sunday at 4.30pm. Its form will vary depending 
 on who is leading it.
GEO:-1.167929;53.500191
LOCATION:The White Church - St Peter Warmsworth
URL:https://www.achurchnearyou.com/church/17644/service-and-events/events/
 199271/
END:VEVENT
BEGIN:VEVENT
SUMMARY:Afternoon service
DTSTART;TZID=Europe/London:20270228T163000
DTEND;TZID=Europe/London:20270228T171500
DTSTAMP:20260422T213205Z
UID:1992712027-02-28 16:30:00+00:00achurchnearyou
CATEGORIES:
DESCRIPTION:A service each Sunday at 4.30pm. Its form will vary depending 
 on who is leading it.
GEO:-1.167929;53.500191
LOCATION:The White Church - St Peter Warmsworth
URL:https://www.achurchnearyou.com/church/17644/service-and-events/events/
 199271/
END:VEVENT
BEGIN:VEVENT
SUMMARY:Afternoon service
DTSTART;TZID=Europe/London:20270307T163000
DTEND;TZID=Europe/London:20270307T171500
DTSTAMP:20260422T213205Z
UID:1992712027-03-07 16:30:00+00:00achurchnearyou
CATEGORIES:
DESCRIPTION:A service each Sunday at 4.30pm. Its form will vary depending 
 on who is leading it.
GEO:-1.167929;53.500191
LOCATION:The White Church - St Peter Warmsworth
URL:https://www.achurchnearyou.com/church/17644/service-and-events/events/
 199271/
END:VEVENT
BEGIN:VEVENT
SUMMARY:Afternoon service
DTSTART;TZID=Europe/London:20270314T163000
DTEND;TZID=Europe/London:20270314T171500
DTSTAMP:20260422T213205Z
UID:1992712027-03-14 16:30:00+00:00achurchnearyou
CATEGORIES:
DESCRIPTION:A service each Sunday at 4.30pm. Its form will vary depending 
 on who is leading it.
GEO:-1.167929;53.500191
LOCATION:The White Church - St Peter Warmsworth
URL:https://www.achurchnearyou.com/church/17644/service-and-events/events/
 199271/
END:VEVENT
BEGIN:VEVENT
SUMMARY:Afternoon service
DTSTART;TZID=Europe/London:20270321T163000
DTEND;TZID=Europe/London:20270321T171500
DTSTAMP:20260422T213205Z
UID:1992712027-03-21 16:30:00+00:00achurchnearyou
CATEGORIES:
DESCRIPTION:A service each Sunday at 4.30pm. Its form will vary depending 
 on who is leading it.
GEO:-1.167929;53.500191
LOCATION:The White Church - St Peter Warmsworth
URL:https://www.achurchnearyou.com/church/17644/service-and-events/events/
 199271/
END:VEVENT
BEGIN:VEVENT
SUMMARY:Afternoon service
DTSTART;TZID=Europe/London:20270328T163000
DTEND;TZID=Europe/London:20270328T171500
DTSTAMP:20260422T213205Z
UID:1992712027-03-28 16:30:00+01:00achurchnearyou
CATEGORIES:
DESCRIPTION:A service each Sunday at 4.30pm. Its form will vary depending 
 on who is leading it.
GEO:-1.167929;53.500191
LOCATION:The White Church - St Peter Warmsworth
URL:https://www.achurchnearyou.com/church/17644/service-and-events/events/
 199271/
END:VEVENT
BEGIN:VEVENT
SUMMARY:Afternoon service
DTSTART;TZID=Europe/London:20270404T163000
DTEND;TZID=Europe/London:20270404T171500
DTSTAMP:20260422T213205Z
UID:1992712027-04-04 16:30:00+01:00achurchnearyou
CATEGORIES:
DESCRIPTION:A service each Sunday at 4.30pm. Its form will vary depending 
 on who is leading it.
GEO:-1.167929;53.500191
LOCATION:The White Church - St Peter Warmsworth
URL:https://www.achurchnearyou.com/church/17644/service-and-events/events/
 199271/
END:VEVENT
BEGIN:VEVENT
SUMMARY:Afternoon service
DTSTART;TZID=Europe/London:20270411T163000
DTEND;TZID=Europe/London:20270411T171500
DTSTAMP:20260422T213205Z
UID:1992712027-04-11 16:30:00+01:00achurchnearyou
CATEGORIES:
DESCRIPTION:A service each Sunday at 4.30pm. Its form will vary depending 
 on who is leading it.
GEO:-1.167929;53.500191
LOCATION:The White Church - St Peter Warmsworth
URL:https://www.achurchnearyou.com/church/17644/service-and-events/events/
 199271/
END:VEVENT
BEGIN:VEVENT
SUMMARY:Afternoon service
DTSTART;TZID=Europe/London:20270418T163000
DTEND;TZID=Europe/London:20270418T171500
DTSTAMP:20260422T213205Z
UID:1992712027-04-18 16:30:00+01:00achurchnearyou
CATEGORIES:
DESCRIPTION:A service each Sunday at 4.30pm. Its form will vary depending 
 on who is leading it.
GEO:-1.167929;53.500191
LOCATION:The White Church - St Peter Warmsworth
URL:https://www.achurchnearyou.com/church/17644/service-and-events/events/
 199271/
END:VEVENT
END:VCALENDAR
