BEGIN:VCALENDAR
VERSION:2.0
PRODID:-//achurchnearyou.com//eventfeed//EN
CALSCALE:GREGORIAN
METHOD:PUBLISH
X-WR-TIMEZONE:UTC
BEGIN:VEVENT
SUMMARY:Messy Church
DTSTART;TZID=Europe/London:20260517T160000
DTEND;TZID=Europe/London:20260517T173000
DTSTAMP:20260421T154313Z
UID:6645502026-05-17 16:00:00+01:00achurchnearyou
CATEGORIES:
DESCRIPTION:Messy Church is a service for those that like to get messy..! 
 For all the family.\nThis is a more informal service where we can explore 
 faith together in fun and creative ways. Everyone is welcome at Messy Chur
 ch but it is particularly geared towards children and their families. Afte
 r the service we share a meal together. You can find out more about Messy 
 Church here: https://www.youtube.com/watch?v=nn7czUi0n6g .
GEO:-1.566193;53.505828
LOCATION:Holy Trinity Church Thurgoland
URL:https://www.facebook.com/holytrinitythurgolandchurch
END:VEVENT
BEGIN:VEVENT
SUMMARY:Messy Church
DTSTART;TZID=Europe/London:20260621T160000
DTEND;TZID=Europe/London:20260621T173000
DTSTAMP:20260421T154313Z
UID:6645502026-06-21 16:00:00+01:00achurchnearyou
CATEGORIES:
DESCRIPTION:Messy Church is a service for those that like to get messy..! 
 For all the family.\nThis is a more informal service where we can explore 
 faith together in fun and creative ways. Everyone is welcome at Messy Chur
 ch but it is particularly geared towards children and their families. Afte
 r the service we share a meal together. You can find out more about Messy 
 Church here: https://www.youtube.com/watch?v=nn7czUi0n6g .
GEO:-1.566193;53.505828
LOCATION:Holy Trinity Church Thurgoland
URL:https://www.facebook.com/holytrinitythurgolandchurch
END:VEVENT
BEGIN:VEVENT
SUMMARY:Messy Church
DTSTART;TZID=Europe/London:20260719T160000
DTEND;TZID=Europe/London:20260719T173000
DTSTAMP:20260421T154313Z
UID:6645502026-07-19 16:00:00+01:00achurchnearyou
CATEGORIES:
DESCRIPTION:Messy Church is a service for those that like to get messy..! 
 For all the family.\nThis is a more informal service where we can explore 
 faith together in fun and creative ways. Everyone is welcome at Messy Chur
 ch but it is particularly geared towards children and their families. Afte
 r the service we share a meal together. You can find out more about Messy 
 Church here: https://www.youtube.com/watch?v=nn7czUi0n6g .
GEO:-1.566193;53.505828
LOCATION:Holy Trinity Church Thurgoland
URL:https://www.facebook.com/holytrinitythurgolandchurch
END:VEVENT
BEGIN:VEVENT
SUMMARY:Messy Church
DTSTART;TZID=Europe/London:20260920T160000
DTEND;TZID=Europe/London:20260920T173000
DTSTAMP:20260421T154313Z
UID:6645502026-09-20 16:00:00+01:00achurchnearyou
CATEGORIES:
DESCRIPTION:Messy Church is a service for those that like to get messy..! 
 For all the family.\nThis is a more informal service where we can explore 
 faith together in fun and creative ways. Everyone is welcome at Messy Chur
 ch but it is particularly geared towards children and their families. Afte
 r the service we share a meal together. You can find out more about Messy 
 Church here: https://www.youtube.com/watch?v=nn7czUi0n6g .
GEO:-1.566193;53.505828
LOCATION:Holy Trinity Church Thurgoland
URL:https://www.facebook.com/holytrinitythurgolandchurch
END:VEVENT
BEGIN:VEVENT
SUMMARY:Messy Church
DTSTART;TZID=Europe/London:20261018T160000
DTEND;TZID=Europe/London:20261018T173000
DTSTAMP:20260421T154313Z
UID:6645502026-10-18 16:00:00+01:00achurchnearyou
CATEGORIES:
DESCRIPTION:Messy Church is a service for those that like to get messy..! 
 For all the family.\nThis is a more informal service where we can explore 
 faith together in fun and creative ways. Everyone is welcome at Messy Chur
 ch but it is particularly geared towards children and their families. Afte
 r the service we share a meal together. You can find out more about Messy 
 Church here: https://www.youtube.com/watch?v=nn7czUi0n6g .
GEO:-1.566193;53.505828
LOCATION:Holy Trinity Church Thurgoland
URL:https://www.facebook.com/holytrinitythurgolandchurch
END:VEVENT
BEGIN:VEVENT
SUMMARY:Messy Church
DTSTART;TZID=Europe/London:20261115T160000
DTEND;TZID=Europe/London:20261115T173000
DTSTAMP:20260421T154313Z
UID:6645502026-11-15 16:00:00+00:00achurchnearyou
CATEGORIES:
DESCRIPTION:Messy Church is a service for those that like to get messy..! 
 For all the family.\nThis is a more informal service where we can explore 
 faith together in fun and creative ways. Everyone is welcome at Messy Chur
 ch but it is particularly geared towards children and their families. Afte
 r the service we share a meal together. You can find out more about Messy 
 Church here: https://www.youtube.com/watch?v=nn7czUi0n6g .
GEO:-1.566193;53.505828
LOCATION:Holy Trinity Church Thurgoland
URL:https://www.facebook.com/holytrinitythurgolandchurch
END:VEVENT
BEGIN:VEVENT
SUMMARY:Messy Church
DTSTART;TZID=Europe/London:20261220T160000
DTEND;TZID=Europe/London:20261220T173000
DTSTAMP:20260421T154313Z
UID:6645502026-12-20 16:00:00+00:00achurchnearyou
CATEGORIES:
DESCRIPTION:Messy Church is a service for those that like to get messy..! 
 For all the family.\nThis is a more informal service where we can explore 
 faith together in fun and creative ways. Everyone is welcome at Messy Chur
 ch but it is particularly geared towards children and their families. Afte
 r the service we share a meal together. You can find out more about Messy 
 Church here: https://www.youtube.com/watch?v=nn7czUi0n6g .
GEO:-1.566193;53.505828
LOCATION:Holy Trinity Church Thurgoland
URL:https://www.facebook.com/holytrinitythurgolandchurch
END:VEVENT
BEGIN:VEVENT
SUMMARY:Messy Church
DTSTART;TZID=Europe/London:20270117T160000
DTEND;TZID=Europe/London:20270117T173000
DTSTAMP:20260421T154313Z
UID:6645502027-01-17 16:00:00+00:00achurchnearyou
CATEGORIES:
DESCRIPTION:Messy Church is a service for those that like to get messy..! 
 For all the family.\nThis is a more informal service where we can explore 
 faith together in fun and creative ways. Everyone is welcome at Messy Chur
 ch but it is particularly geared towards children and their families. Afte
 r the service we share a meal together. You can find out more about Messy 
 Church here: https://www.youtube.com/watch?v=nn7czUi0n6g .
GEO:-1.566193;53.505828
LOCATION:Holy Trinity Church Thurgoland
URL:https://www.facebook.com/holytrinitythurgolandchurch
END:VEVENT
BEGIN:VEVENT
SUMMARY:Messy Church
DTSTART;TZID=Europe/London:20270221T160000
DTEND;TZID=Europe/London:20270221T173000
DTSTAMP:20260421T154313Z
UID:6645502027-02-21 16:00:00+00:00achurchnearyou
CATEGORIES:
DESCRIPTION:Messy Church is a service for those that like to get messy..! 
 For all the family.\nThis is a more informal service where we can explore 
 faith together in fun and creative ways. Everyone is welcome at Messy Chur
 ch but it is particularly geared towards children and their families. Afte
 r the service we share a meal together. You can find out more about Messy 
 Church here: https://www.youtube.com/watch?v=nn7czUi0n6g .
GEO:-1.566193;53.505828
LOCATION:Holy Trinity Church Thurgoland
URL:https://www.facebook.com/holytrinitythurgolandchurch
END:VEVENT
BEGIN:VEVENT
SUMMARY:Messy Church
DTSTART;TZID=Europe/London:20270321T160000
DTEND;TZID=Europe/London:20270321T173000
DTSTAMP:20260421T154313Z
UID:6645502027-03-21 16:00:00+00:00achurchnearyou
CATEGORIES:
DESCRIPTION:Messy Church is a service for those that like to get messy..! 
 For all the family.\nThis is a more informal service where we can explore 
 faith together in fun and creative ways. Everyone is welcome at Messy Chur
 ch but it is particularly geared towards children and their families. Afte
 r the service we share a meal together. You can find out more about Messy 
 Church here: https://www.youtube.com/watch?v=nn7czUi0n6g .
GEO:-1.566193;53.505828
LOCATION:Holy Trinity Church Thurgoland
URL:https://www.facebook.com/holytrinitythurgolandchurch
END:VEVENT
BEGIN:VEVENT
SUMMARY:Messy Church
DTSTART;TZID=Europe/London:20270418T160000
DTEND;TZID=Europe/London:20270418T173000
DTSTAMP:20260421T154313Z
UID:6645502027-04-18 16:00:00+01:00achurchnearyou
CATEGORIES:
DESCRIPTION:Messy Church is a service for those that like to get messy..! 
 For all the family.\nThis is a more informal service where we can explore 
 faith together in fun and creative ways. Everyone is welcome at Messy Chur
 ch but it is particularly geared towards children and their families. Afte
 r the service we share a meal together. You can find out more about Messy 
 Church here: https://www.youtube.com/watch?v=nn7czUi0n6g .
GEO:-1.566193;53.505828
LOCATION:Holy Trinity Church Thurgoland
URL:https://www.facebook.com/holytrinitythurgolandchurch
END:VEVENT
END:VCALENDAR
