BEGIN:VCALENDAR
VERSION:2.0
PRODID:-//achurchnearyou.com//eventfeed//EN
CALSCALE:GREGORIAN
METHOD:PUBLISH
X-WR-TIMEZONE:UTC
BEGIN:VEVENT
SUMMARY:Manx Voices
DTSTART:20260702T183000Z
DTEND:20260702T193000Z
DTSTAMP:20260423T061853Z
UID:13259862026-07-02 18:30:00+00:00achurchnearyou
CATEGORIES:
DESCRIPTION:Concert from this brilliant choir conducted by Angela Stewart.
  Admission Free\, Retiring Collection
LOCATION:St Catherine's\, Port Erin
URL:https://www.achurchnearyou.com/church/17662/service-and-events/events/
 1325986/
END:VEVENT
END:VCALENDAR
