BEGIN:VCALENDAR
VERSION:2.0
PRODID:-//achurchnearyou.com//eventfeed//EN
CALSCALE:GREGORIAN
METHOD:PUBLISH
X-WR-TIMEZONE:UTC
BEGIN:VEVENT
SUMMARY:Ballafesson Brass
DTSTART:20260709T183000Z
DTEND:20260709T193000Z
DTSTAMP:20260423T061851Z
UID:13259912026-07-09 18:30:00+00:00achurchnearyou
CATEGORIES:
DESCRIPTION:Join us for a great concert by Rushen Silver Band’s training
  band\, conducted by Matthew Callister. Admission Free\, Retiring Collecti
 on
LOCATION:St Catherine's\, Port Erin
URL:https://www.achurchnearyou.com/church/17662/service-and-events/events/
 1325991/
END:VEVENT
END:VCALENDAR
