BEGIN:VCALENDAR
VERSION:2.0
PRODID:-//achurchnearyou.com//eventfeed//EN
CALSCALE:GREGORIAN
METHOD:PUBLISH
X-WR-TIMEZONE:UTC
BEGIN:VEVENT
SUMMARY:Global Week of 24-7 Prayer 1st -7th Sep  followed by National Week
  of Prayer   8th-14th Sep *
DTSTART:20250901T090000Z
DTEND:20250914T170000Z
DTSTAMP:20260422T095643Z
UID:12232492025-09-01 09:00:00+00:00achurchnearyou
CATEGORIES:
DESCRIPTION:Dalby Church and Garden will be available as an Open Prayer sp
 ace* for anyone who wants to drop by and stay a while in the silence and p
 eace of the place. Prayer resources and refreshments will be available thr
 oughout the day from 10 am - 6pm.\n\n*  excludes the morning of Wednesday 
 10th\n\n\nEvening Prayer Vigil\nOn Friday 5th September\,  a prayer vigil 
 will be held at Dalby Church from 6pm –midnight\nfor anyone to come by a
 nd drop in\, and to stay as long as you want during that time. There’ll 
 be\nprayer reflections available in the church and Schoolrooms\, with led 
 community prayer in the\nchurch on the hour\, each hour\, for approximatel
 y 10-15 mins. There will also be light refreshments available throughout t
 he evening. Everyone welcome.\n\nFurther information about these prayer ev
 ents can be found here:\n\nhttps://www.24-7prayer.com/weekofprayer\n\nhttp
 s://www.nationalweekofprayer.uk
GEO:-4.728498;54.170561
LOCATION:Dalby Church
URL:https://www.achurchnearyou.com/church/17670/service-and-events/events/
 1223249/
END:VEVENT
END:VCALENDAR
