BEGIN:VCALENDAR
VERSION:2.0
PRODID:-//achurchnearyou.com//eventfeed//EN
CALSCALE:GREGORIAN
METHOD:PUBLISH
X-WR-TIMEZONE:UTC
BEGIN:VEVENT
SUMMARY:First Sunday Focus
DTSTART;TZID=Europe/London:20260503T110000
DTEND;TZID=Europe/London:20260503T120000
DTSTAMP:20260423T204224Z
UID:12522672026-05-03 11:00:00+01:00achurchnearyou
CATEGORIES:
DESCRIPTION:As the title suggests\, this monthly Sunday service centers on
  a special theme. We incorporate contemporary music\, multimedia\, and a m
 ore open\, less formal format to create an engaging worship experience.
GEO:-1.018785;53.499283
LOCATION:St Saviour
URL:https://www.achurchnearyou.com/church/17715/service-and-events/events/
 1252267/
END:VEVENT
BEGIN:VEVENT
SUMMARY:First Sunday Focus
DTSTART;TZID=Europe/London:20260607T110000
DTEND;TZID=Europe/London:20260607T120000
DTSTAMP:20260423T204224Z
UID:12522672026-06-07 11:00:00+01:00achurchnearyou
CATEGORIES:
DESCRIPTION:As the title suggests\, this monthly Sunday service centers on
  a special theme. We incorporate contemporary music\, multimedia\, and a m
 ore open\, less formal format to create an engaging worship experience.
GEO:-1.018785;53.499283
LOCATION:St Saviour
URL:https://www.achurchnearyou.com/church/17715/service-and-events/events/
 1252267/
END:VEVENT
BEGIN:VEVENT
SUMMARY:First Sunday Focus
DTSTART;TZID=Europe/London:20260705T110000
DTEND;TZID=Europe/London:20260705T120000
DTSTAMP:20260423T204224Z
UID:12522672026-07-05 11:00:00+01:00achurchnearyou
CATEGORIES:
DESCRIPTION:As the title suggests\, this monthly Sunday service centers on
  a special theme. We incorporate contemporary music\, multimedia\, and a m
 ore open\, less formal format to create an engaging worship experience.
GEO:-1.018785;53.499283
LOCATION:St Saviour
URL:https://www.achurchnearyou.com/church/17715/service-and-events/events/
 1252267/
END:VEVENT
BEGIN:VEVENT
SUMMARY:First Sunday Focus
DTSTART;TZID=Europe/London:20260802T110000
DTEND;TZID=Europe/London:20260802T120000
DTSTAMP:20260423T204224Z
UID:12522672026-08-02 11:00:00+01:00achurchnearyou
CATEGORIES:
DESCRIPTION:As the title suggests\, this monthly Sunday service centers on
  a special theme. We incorporate contemporary music\, multimedia\, and a m
 ore open\, less formal format to create an engaging worship experience.
GEO:-1.018785;53.499283
LOCATION:St Saviour
URL:https://www.achurchnearyou.com/church/17715/service-and-events/events/
 1252267/
END:VEVENT
BEGIN:VEVENT
SUMMARY:First Sunday Focus
DTSTART;TZID=Europe/London:20260906T110000
DTEND;TZID=Europe/London:20260906T120000
DTSTAMP:20260423T204224Z
UID:12522672026-09-06 11:00:00+01:00achurchnearyou
CATEGORIES:
DESCRIPTION:As the title suggests\, this monthly Sunday service centers on
  a special theme. We incorporate contemporary music\, multimedia\, and a m
 ore open\, less formal format to create an engaging worship experience.
GEO:-1.018785;53.499283
LOCATION:St Saviour
URL:https://www.achurchnearyou.com/church/17715/service-and-events/events/
 1252267/
END:VEVENT
BEGIN:VEVENT
SUMMARY:First Sunday Focus
DTSTART;TZID=Europe/London:20261004T110000
DTEND;TZID=Europe/London:20261004T120000
DTSTAMP:20260423T204224Z
UID:12522672026-10-04 11:00:00+01:00achurchnearyou
CATEGORIES:
DESCRIPTION:As the title suggests\, this monthly Sunday service centers on
  a special theme. We incorporate contemporary music\, multimedia\, and a m
 ore open\, less formal format to create an engaging worship experience.
GEO:-1.018785;53.499283
LOCATION:St Saviour
URL:https://www.achurchnearyou.com/church/17715/service-and-events/events/
 1252267/
END:VEVENT
BEGIN:VEVENT
SUMMARY:First Sunday Focus
DTSTART;TZID=Europe/London:20261101T110000
DTEND;TZID=Europe/London:20261101T120000
DTSTAMP:20260423T204224Z
UID:12522672026-11-01 11:00:00+00:00achurchnearyou
CATEGORIES:
DESCRIPTION:As the title suggests\, this monthly Sunday service centers on
  a special theme. We incorporate contemporary music\, multimedia\, and a m
 ore open\, less formal format to create an engaging worship experience.
GEO:-1.018785;53.499283
LOCATION:St Saviour
URL:https://www.achurchnearyou.com/church/17715/service-and-events/events/
 1252267/
END:VEVENT
BEGIN:VEVENT
SUMMARY:First Sunday Focus
DTSTART;TZID=Europe/London:20261206T110000
DTEND;TZID=Europe/London:20261206T120000
DTSTAMP:20260423T204224Z
UID:12522672026-12-06 11:00:00+00:00achurchnearyou
CATEGORIES:
DESCRIPTION:As the title suggests\, this monthly Sunday service centers on
  a special theme. We incorporate contemporary music\, multimedia\, and a m
 ore open\, less formal format to create an engaging worship experience.
GEO:-1.018785;53.499283
LOCATION:St Saviour
URL:https://www.achurchnearyou.com/church/17715/service-and-events/events/
 1252267/
END:VEVENT
BEGIN:VEVENT
SUMMARY:First Sunday Focus
DTSTART;TZID=Europe/London:20270103T110000
DTEND;TZID=Europe/London:20270103T120000
DTSTAMP:20260423T204224Z
UID:12522672027-01-03 11:00:00+00:00achurchnearyou
CATEGORIES:
DESCRIPTION:As the title suggests\, this monthly Sunday service centers on
  a special theme. We incorporate contemporary music\, multimedia\, and a m
 ore open\, less formal format to create an engaging worship experience.
GEO:-1.018785;53.499283
LOCATION:St Saviour
URL:https://www.achurchnearyou.com/church/17715/service-and-events/events/
 1252267/
END:VEVENT
BEGIN:VEVENT
SUMMARY:First Sunday Focus
DTSTART;TZID=Europe/London:20270207T110000
DTEND;TZID=Europe/London:20270207T120000
DTSTAMP:20260423T204224Z
UID:12522672027-02-07 11:00:00+00:00achurchnearyou
CATEGORIES:
DESCRIPTION:As the title suggests\, this monthly Sunday service centers on
  a special theme. We incorporate contemporary music\, multimedia\, and a m
 ore open\, less formal format to create an engaging worship experience.
GEO:-1.018785;53.499283
LOCATION:St Saviour
URL:https://www.achurchnearyou.com/church/17715/service-and-events/events/
 1252267/
END:VEVENT
BEGIN:VEVENT
SUMMARY:First Sunday Focus
DTSTART;TZID=Europe/London:20270307T110000
DTEND;TZID=Europe/London:20270307T120000
DTSTAMP:20260423T204224Z
UID:12522672027-03-07 11:00:00+00:00achurchnearyou
CATEGORIES:
DESCRIPTION:As the title suggests\, this monthly Sunday service centers on
  a special theme. We incorporate contemporary music\, multimedia\, and a m
 ore open\, less formal format to create an engaging worship experience.
GEO:-1.018785;53.499283
LOCATION:St Saviour
URL:https://www.achurchnearyou.com/church/17715/service-and-events/events/
 1252267/
END:VEVENT
BEGIN:VEVENT
SUMMARY:First Sunday Focus
DTSTART;TZID=Europe/London:20270404T110000
DTEND;TZID=Europe/London:20270404T120000
DTSTAMP:20260423T204224Z
UID:12522672027-04-04 11:00:00+01:00achurchnearyou
CATEGORIES:
DESCRIPTION:As the title suggests\, this monthly Sunday service centers on
  a special theme. We incorporate contemporary music\, multimedia\, and a m
 ore open\, less formal format to create an engaging worship experience.
GEO:-1.018785;53.499283
LOCATION:St Saviour
URL:https://www.achurchnearyou.com/church/17715/service-and-events/events/
 1252267/
END:VEVENT
END:VCALENDAR
