BEGIN:VCALENDAR
VERSION:2.0
PRODID:-//achurchnearyou.com//eventfeed//EN
CALSCALE:GREGORIAN
METHOD:PUBLISH
X-WR-TIMEZONE:UTC
BEGIN:VEVENT
SUMMARY:Christingle Service 1
DTSTART:20251208T183000Z
DTEND:20251208T193000Z
DTSTAMP:20260424T120437Z
UID:12522872025-12-08 18:30:00+00:00achurchnearyou
CATEGORIES:
DESCRIPTION:What have oranges\, jelly tots and red ribbon got in common?\n
 Come along to find out and to share in the real meaning of Christmas.
GEO:-1.018785;53.499283
LOCATION:St Saviour
URL:https://www.achurchnearyou.com/church/17715/service-and-events/events/
 1252287/
END:VEVENT
END:VCALENDAR
