BEGIN:VCALENDAR
VERSION:2.0
PRODID:-//achurchnearyou.com//eventfeed//EN
CALSCALE:GREGORIAN
METHOD:PUBLISH
X-WR-TIMEZONE:UTC
BEGIN:VEVENT
SUMMARY:Christingle Service 2
DTSTART:20251210T183000Z
DTEND:20251210T193000Z
DTSTAMP:20260424T120435Z
UID:12522892025-12-10 18:30:00+00:00achurchnearyou
CATEGORIES:
DESCRIPTION:Another opportunity for some extra vitamin C as we explore Chr
 istmas together.
GEO:-1.018785;53.499283
LOCATION:St Saviour
URL:https://www.achurchnearyou.com/church/17715/service-and-events/events/
 1252289/
END:VEVENT
END:VCALENDAR
