BEGIN:VCALENDAR
VERSION:2.0
PRODID:-//achurchnearyou.com//eventfeed//EN
CALSCALE:GREGORIAN
METHOD:PUBLISH
X-WR-TIMEZONE:UTC
BEGIN:VEVENT
SUMMARY:Blyth Family Service
DTSTART;TZID=Europe/London:20260628T103000
DTEND;TZID=Europe/London:20260628T113000
DTSTAMP:20260423T190815Z
UID:13022872026-06-28 10:30:00+01:00achurchnearyou
CATEGORIES:
DESCRIPTION:A time of community play and learning followed by listening to
  a bible story and singing.\n\nSuitable for young children\, group led by 
 Teacher Liz Holland and Revd Louise Bearder.
GEO:-1.063448;53.378826
LOCATION:Blyth St Mary & St Martin
URL:https://www.achurchnearyou.com/church/17725/service-and-events/events/
 1302287/
END:VEVENT
BEGIN:VEVENT
SUMMARY:Blyth Family Service
DTSTART;TZID=Europe/London:20260726T103000
DTEND;TZID=Europe/London:20260726T113000
DTSTAMP:20260423T190815Z
UID:13022872026-07-26 10:30:00+01:00achurchnearyou
CATEGORIES:
DESCRIPTION:A time of community play and learning followed by listening to
  a bible story and singing.\n\nSuitable for young children\, group led by 
 Teacher Liz Holland and Revd Louise Bearder.
GEO:-1.063448;53.378826
LOCATION:Blyth St Mary & St Martin
URL:https://www.achurchnearyou.com/church/17725/service-and-events/events/
 1302287/
END:VEVENT
BEGIN:VEVENT
SUMMARY:Blyth Family Service
DTSTART;TZID=Europe/London:20260823T103000
DTEND;TZID=Europe/London:20260823T113000
DTSTAMP:20260423T190815Z
UID:13022872026-08-23 10:30:00+01:00achurchnearyou
CATEGORIES:
DESCRIPTION:A time of community play and learning followed by listening to
  a bible story and singing.\n\nSuitable for young children\, group led by 
 Teacher Liz Holland and Revd Louise Bearder.
GEO:-1.063448;53.378826
LOCATION:Blyth St Mary & St Martin
URL:https://www.achurchnearyou.com/church/17725/service-and-events/events/
 1302287/
END:VEVENT
BEGIN:VEVENT
SUMMARY:Blyth Family Service
DTSTART;TZID=Europe/London:20260927T103000
DTEND;TZID=Europe/London:20260927T113000
DTSTAMP:20260423T190815Z
UID:13022872026-09-27 10:30:00+01:00achurchnearyou
CATEGORIES:
DESCRIPTION:A time of community play and learning followed by listening to
  a bible story and singing.\n\nSuitable for young children\, group led by 
 Teacher Liz Holland and Revd Louise Bearder.
GEO:-1.063448;53.378826
LOCATION:Blyth St Mary & St Martin
URL:https://www.achurchnearyou.com/church/17725/service-and-events/events/
 1302287/
END:VEVENT
BEGIN:VEVENT
SUMMARY:Blyth Family Service
DTSTART;TZID=Europe/London:20261025T103000
DTEND;TZID=Europe/London:20261025T113000
DTSTAMP:20260423T190815Z
UID:13022872026-10-25 10:30:00+00:00achurchnearyou
CATEGORIES:
DESCRIPTION:A time of community play and learning followed by listening to
  a bible story and singing.\n\nSuitable for young children\, group led by 
 Teacher Liz Holland and Revd Louise Bearder.
GEO:-1.063448;53.378826
LOCATION:Blyth St Mary & St Martin
URL:https://www.achurchnearyou.com/church/17725/service-and-events/events/
 1302287/
END:VEVENT
BEGIN:VEVENT
SUMMARY:Blyth Family Service
DTSTART;TZID=Europe/London:20261122T103000
DTEND;TZID=Europe/London:20261122T113000
DTSTAMP:20260423T190815Z
UID:13022872026-11-22 10:30:00+00:00achurchnearyou
CATEGORIES:
DESCRIPTION:A time of community play and learning followed by listening to
  a bible story and singing.\n\nSuitable for young children\, group led by 
 Teacher Liz Holland and Revd Louise Bearder.
GEO:-1.063448;53.378826
LOCATION:Blyth St Mary & St Martin
URL:https://www.achurchnearyou.com/church/17725/service-and-events/events/
 1302287/
END:VEVENT
BEGIN:VEVENT
SUMMARY:Blyth Family Service
DTSTART;TZID=Europe/London:20261227T103000
DTEND;TZID=Europe/London:20261227T113000
DTSTAMP:20260423T190815Z
UID:13022872026-12-27 10:30:00+00:00achurchnearyou
CATEGORIES:
DESCRIPTION:A time of community play and learning followed by listening to
  a bible story and singing.\n\nSuitable for young children\, group led by 
 Teacher Liz Holland and Revd Louise Bearder.
GEO:-1.063448;53.378826
LOCATION:Blyth St Mary & St Martin
URL:https://www.achurchnearyou.com/church/17725/service-and-events/events/
 1302287/
END:VEVENT
BEGIN:VEVENT
SUMMARY:Blyth Family Service
DTSTART;TZID=Europe/London:20270124T103000
DTEND;TZID=Europe/London:20270124T113000
DTSTAMP:20260423T190815Z
UID:13022872027-01-24 10:30:00+00:00achurchnearyou
CATEGORIES:
DESCRIPTION:A time of community play and learning followed by listening to
  a bible story and singing.\n\nSuitable for young children\, group led by 
 Teacher Liz Holland and Revd Louise Bearder.
GEO:-1.063448;53.378826
LOCATION:Blyth St Mary & St Martin
URL:https://www.achurchnearyou.com/church/17725/service-and-events/events/
 1302287/
END:VEVENT
BEGIN:VEVENT
SUMMARY:Blyth Family Service
DTSTART;TZID=Europe/London:20270228T103000
DTEND;TZID=Europe/London:20270228T113000
DTSTAMP:20260423T190815Z
UID:13022872027-02-28 10:30:00+00:00achurchnearyou
CATEGORIES:
DESCRIPTION:A time of community play and learning followed by listening to
  a bible story and singing.\n\nSuitable for young children\, group led by 
 Teacher Liz Holland and Revd Louise Bearder.
GEO:-1.063448;53.378826
LOCATION:Blyth St Mary & St Martin
URL:https://www.achurchnearyou.com/church/17725/service-and-events/events/
 1302287/
END:VEVENT
BEGIN:VEVENT
SUMMARY:Blyth Family Service
DTSTART;TZID=Europe/London:20270328T103000
DTEND;TZID=Europe/London:20270328T113000
DTSTAMP:20260423T190815Z
UID:13022872027-03-28 10:30:00+01:00achurchnearyou
CATEGORIES:
DESCRIPTION:A time of community play and learning followed by listening to
  a bible story and singing.\n\nSuitable for young children\, group led by 
 Teacher Liz Holland and Revd Louise Bearder.
GEO:-1.063448;53.378826
LOCATION:Blyth St Mary & St Martin
URL:https://www.achurchnearyou.com/church/17725/service-and-events/events/
 1302287/
END:VEVENT
END:VCALENDAR
