BEGIN:VCALENDAR
VERSION:2.0
PRODID:-//achurchnearyou.com//eventfeed//EN
CALSCALE:GREGORIAN
METHOD:PUBLISH
X-WR-TIMEZONE:UTC
BEGIN:VEVENT
SUMMARY:Carol Service
DTSTART:20251224T170000Z
DTEND:20251224T180000Z
DTSTAMP:20260420T191048Z
UID:12337562025-12-24 17:00:00+00:00achurchnearyou
CATEGORIES:
DESCRIPTION:A lay-led carol service.
GEO:-0.766184;53.185682
LOCATION:St Cecilia\, Girton
URL:https://www.achurchnearyou.com/church/17748/service-and-events/events/
 1233756/
END:VEVENT
END:VCALENDAR
