BEGIN:VCALENDAR
VERSION:2.0
PRODID:-//achurchnearyou.com//eventfeed//EN
CALSCALE:GREGORIAN
METHOD:PUBLISH
X-WR-TIMEZONE:UTC
BEGIN:VEVENT
SUMMARY:Harvest Festival Service
DTSTART:20251019T083000Z
DTEND:20251019T094500Z
DTSTAMP:20260420T061616Z
UID:2558052025-10-19 08:30:00+00:00achurchnearyou
CATEGORIES:
DESCRIPTION:You are very welcome to join us in giving thanks at our Harves
 t Festival Service.\nSt John’s Food Bank will be very grateful for any d
 onations of tinned and non-perishable goods which we will pass on to them 
 after the service.
GEO:-1.269229;53.09749
LOCATION:St Wilfrid
URL:https://www.achurchnearyou.com/church/17833/service-and-events/events/
 255805/
END:VEVENT
END:VCALENDAR
