BEGIN:VCALENDAR
VERSION:2.0
PRODID:-//achurchnearyou.com//eventfeed//EN
CALSCALE:GREGORIAN
METHOD:PUBLISH
X-WR-TIMEZONE:UTC
BEGIN:VEVENT
SUMMARY:Easter Treasure Hunt
DTSTART:20250412T090000Z
DTEND:20250412T110000Z
DTSTAMP:20260425T012513Z
UID:11740082025-04-12 09:00:00+00:00achurchnearyou
CATEGORIES:
DESCRIPTION:Fun for all the family!
GEO:-1.246712;52.935526
LOCATION:St Michael & All Angels
URL:http://www.saintmichaelsbramcote.com
END:VEVENT
END:VCALENDAR
