BEGIN:VCALENDAR
VERSION:2.0
PRODID:-//achurchnearyou.com//eventfeed//EN
CALSCALE:GREGORIAN
METHOD:PUBLISH
X-WR-TIMEZONE:UTC
BEGIN:VEVENT
SUMMARY:Good Friday Choral Presentation
DTSTART:20250418T183000Z
DTEND:20250418T200000Z
DTSTAMP:20260425T012708Z
UID:11740502025-04-18 18:30:00+00:00achurchnearyou
CATEGORIES:
DESCRIPTION:Everyone is invited to join us for seasonal hymns\, choral pie
 ces\, readings & prayers.
GEO:-1.246712;52.935526
LOCATION:St Michael & All Angels
URL:http://www.saintmichaelsbramcote.com
END:VEVENT
END:VCALENDAR
