BEGIN:VCALENDAR
VERSION:2.0
PRODID:-//achurchnearyou.com//eventfeed//EN
CALSCALE:GREGORIAN
METHOD:PUBLISH
X-WR-TIMEZONE:UTC
BEGIN:VEVENT
SUMMARY:Easter Morning Communion
DTSTART:20250420T070000Z
DTEND:20250420T080000Z
DTSTAMP:20260424T235212Z
UID:11740772025-04-20 07:00:00+00:00achurchnearyou
CATEGORIES:
DESCRIPTION:A traditional service for Easter Day using the Book of Common 
 Prayer.
GEO:-1.246712;52.935526
LOCATION:St Michael & All Angels
URL:http://www.saintmichaelsbramcote.com
END:VEVENT
END:VCALENDAR
