BEGIN:VCALENDAR
VERSION:2.0
PRODID:-//achurchnearyou.com//eventfeed//EN
CALSCALE:GREGORIAN
METHOD:PUBLISH
X-WR-TIMEZONE:UTC
BEGIN:VEVENT
SUMMARY:Easter Praise
DTSTART:20250420T173000Z
DTEND:20250420T190000Z
DTSTAMP:20260425T012605Z
UID:11740912025-04-20 17:30:00+00:00achurchnearyou
CATEGORIES:
DESCRIPTION:An evening service in celebration of Easter.
GEO:-1.246712;52.935526
LOCATION:St Michael & All Angels
URL:http://www.saintmichaelsbramcote.com
END:VEVENT
END:VCALENDAR
