BEGIN:VCALENDAR
VERSION:2.0
PRODID:-//achurchnearyou.com//eventfeed//EN
CALSCALE:GREGORIAN
METHOD:PUBLISH
X-WR-TIMEZONE:UTC
BEGIN:VEVENT
SUMMARY:Christmas Day Communion
DTSTART:20251225T110000Z
DTEND:20251225T113000Z
DTSTAMP:20260424T055630Z
UID:12496142025-12-25 11:00:00+00:00achurchnearyou
CATEGORIES:
DESCRIPTION:A short service of Holy Communion to celebrate Christmas Day.
GEO:-1.246712;52.935526
LOCATION:St Michael & All Angels
URL:http://www.saintmichaelsbramcote.com
END:VEVENT
END:VCALENDAR
