BEGIN:VCALENDAR
VERSION:2.0
PRODID:-//achurchnearyou.com//eventfeed//EN
CALSCALE:GREGORIAN
METHOD:PUBLISH
X-WR-TIMEZONE:UTC
BEGIN:VEVENT
SUMMARY:Benefice Service
DTSTART:20241229T103000Z
DTEND:20241229T113000Z
DTSTAMP:20260419T193414Z
UID:11213612024-12-29 10:30:00+00:00achurchnearyou
CATEGORIES:
DESCRIPTION:For all three of our churches\n-St Helen's Trowell\n-St Peter'
 s Awsworth\n-St Catherine's Cossall
LOCATION:St Peter's Church
URL:https://www.achurchnearyou.com/church/17856/service-and-events/events/
 1121361/
END:VEVENT
END:VCALENDAR
