BEGIN:VCALENDAR
VERSION:2.0
PRODID:-//achurchnearyou.com//eventfeed//EN
CALSCALE:GREGORIAN
METHOD:PUBLISH
X-WR-TIMEZONE:UTC
BEGIN:VEVENT
SUMMARY:Palm Praise
DTSTART:20250413T090000Z
DTEND:20250413T100000Z
DTSTAMP:20260424T120152Z
UID:11696362025-04-13 09:00:00+00:00achurchnearyou
CATEGORIES:
DESCRIPTION:Join us for Palm Praise\, a joyful celebration as we mark the 
 beginning of Holy Week!
GEO:-1.274371;52.931568
LOCATION:St Helen's Church
URL:https://www.achurchnearyou.com/church/17859/service-and-events/events/
 1169636/
END:VEVENT
END:VCALENDAR
