BEGIN:VCALENDAR
VERSION:2.0
PRODID:-//achurchnearyou.com//eventfeed//EN
CALSCALE:GREGORIAN
METHOD:PUBLISH
X-WR-TIMEZONE:UTC
BEGIN:VEVENT
SUMMARY:The Prayer Course
DTSTART;TZID=Europe/London:20250515T190000
DTEND;TZID=Europe/London:20250515T203000
DTSTAMP:20260424T061555Z
UID:11971832025-05-15 19:00:00+01:00achurchnearyou
CATEGORIES:
DESCRIPTION:When he was asked ‘How do we pray?’ Jesus provided all the
  words we needed. \nHave you ever wondered what this simple prayer says fo
 r us and why the words are powerful?\nCome along to St Helens Annexe for a
 n 8 week journey through The Lord’s Prayer.\n7pm to 8:30pm from Thursday
  15 May 2025.\nChurch office for more information or to sign up. Tel: 0115
  939 9958 Email staplefordparish@aol.com
GEO:-1.274371;52.931568
LOCATION:St Helen's Church
URL:https://youtu.be/uNLIFykoBfY
END:VEVENT
BEGIN:VEVENT
SUMMARY:The Prayer Course
DTSTART;TZID=Europe/London:20250522T190000
DTEND;TZID=Europe/London:20250522T203000
DTSTAMP:20260424T061555Z
UID:11971832025-05-22 19:00:00+01:00achurchnearyou
CATEGORIES:
DESCRIPTION:When he was asked ‘How do we pray?’ Jesus provided all the
  words we needed. \nHave you ever wondered what this simple prayer says fo
 r us and why the words are powerful?\nCome along to St Helens Annexe for a
 n 8 week journey through The Lord’s Prayer.\n7pm to 8:30pm from Thursday
  15 May 2025.\nChurch office for more information or to sign up. Tel: 0115
  939 9958 Email staplefordparish@aol.com
GEO:-1.274371;52.931568
LOCATION:St Helen's Church
URL:https://youtu.be/uNLIFykoBfY
END:VEVENT
BEGIN:VEVENT
SUMMARY:The Prayer Course
DTSTART;TZID=Europe/London:20250529T190000
DTEND;TZID=Europe/London:20250529T203000
DTSTAMP:20260424T061555Z
UID:11971832025-05-29 19:00:00+01:00achurchnearyou
CATEGORIES:
DESCRIPTION:When he was asked ‘How do we pray?’ Jesus provided all the
  words we needed. \nHave you ever wondered what this simple prayer says fo
 r us and why the words are powerful?\nCome along to St Helens Annexe for a
 n 8 week journey through The Lord’s Prayer.\n7pm to 8:30pm from Thursday
  15 May 2025.\nChurch office for more information or to sign up. Tel: 0115
  939 9958 Email staplefordparish@aol.com
GEO:-1.274371;52.931568
LOCATION:St Helen's Church
URL:https://youtu.be/uNLIFykoBfY
END:VEVENT
BEGIN:VEVENT
SUMMARY:The Prayer Course
DTSTART;TZID=Europe/London:20250605T190000
DTEND;TZID=Europe/London:20250605T203000
DTSTAMP:20260424T061555Z
UID:11971832025-06-05 19:00:00+01:00achurchnearyou
CATEGORIES:
DESCRIPTION:When he was asked ‘How do we pray?’ Jesus provided all the
  words we needed. \nHave you ever wondered what this simple prayer says fo
 r us and why the words are powerful?\nCome along to St Helens Annexe for a
 n 8 week journey through The Lord’s Prayer.\n7pm to 8:30pm from Thursday
  15 May 2025.\nChurch office for more information or to sign up. Tel: 0115
  939 9958 Email staplefordparish@aol.com
GEO:-1.274371;52.931568
LOCATION:St Helen's Church
URL:https://youtu.be/uNLIFykoBfY
END:VEVENT
BEGIN:VEVENT
SUMMARY:The Prayer Course
DTSTART;TZID=Europe/London:20250612T190000
DTEND;TZID=Europe/London:20250612T203000
DTSTAMP:20260424T061555Z
UID:11971832025-06-12 19:00:00+01:00achurchnearyou
CATEGORIES:
DESCRIPTION:When he was asked ‘How do we pray?’ Jesus provided all the
  words we needed. \nHave you ever wondered what this simple prayer says fo
 r us and why the words are powerful?\nCome along to St Helens Annexe for a
 n 8 week journey through The Lord’s Prayer.\n7pm to 8:30pm from Thursday
  15 May 2025.\nChurch office for more information or to sign up. Tel: 0115
  939 9958 Email staplefordparish@aol.com
GEO:-1.274371;52.931568
LOCATION:St Helen's Church
URL:https://youtu.be/uNLIFykoBfY
END:VEVENT
BEGIN:VEVENT
SUMMARY:The Prayer Course
DTSTART;TZID=Europe/London:20250619T190000
DTEND;TZID=Europe/London:20250619T203000
DTSTAMP:20260424T061555Z
UID:11971832025-06-19 19:00:00+01:00achurchnearyou
CATEGORIES:
DESCRIPTION:When he was asked ‘How do we pray?’ Jesus provided all the
  words we needed. \nHave you ever wondered what this simple prayer says fo
 r us and why the words are powerful?\nCome along to St Helens Annexe for a
 n 8 week journey through The Lord’s Prayer.\n7pm to 8:30pm from Thursday
  15 May 2025.\nChurch office for more information or to sign up. Tel: 0115
  939 9958 Email staplefordparish@aol.com
GEO:-1.274371;52.931568
LOCATION:St Helen's Church
URL:https://youtu.be/uNLIFykoBfY
END:VEVENT
BEGIN:VEVENT
SUMMARY:The Prayer Course
DTSTART;TZID=Europe/London:20250626T190000
DTEND;TZID=Europe/London:20250626T203000
DTSTAMP:20260424T061555Z
UID:11971832025-06-26 19:00:00+01:00achurchnearyou
CATEGORIES:
DESCRIPTION:When he was asked ‘How do we pray?’ Jesus provided all the
  words we needed. \nHave you ever wondered what this simple prayer says fo
 r us and why the words are powerful?\nCome along to St Helens Annexe for a
 n 8 week journey through The Lord’s Prayer.\n7pm to 8:30pm from Thursday
  15 May 2025.\nChurch office for more information or to sign up. Tel: 0115
  939 9958 Email staplefordparish@aol.com
GEO:-1.274371;52.931568
LOCATION:St Helen's Church
URL:https://youtu.be/uNLIFykoBfY
END:VEVENT
BEGIN:VEVENT
SUMMARY:The Prayer Course
DTSTART;TZID=Europe/London:20250703T190000
DTEND;TZID=Europe/London:20250703T203000
DTSTAMP:20260424T061555Z
UID:11971832025-07-03 19:00:00+01:00achurchnearyou
CATEGORIES:
DESCRIPTION:When he was asked ‘How do we pray?’ Jesus provided all the
  words we needed. \nHave you ever wondered what this simple prayer says fo
 r us and why the words are powerful?\nCome along to St Helens Annexe for a
 n 8 week journey through The Lord’s Prayer.\n7pm to 8:30pm from Thursday
  15 May 2025.\nChurch office for more information or to sign up. Tel: 0115
  939 9958 Email staplefordparish@aol.com
GEO:-1.274371;52.931568
LOCATION:St Helen's Church
URL:https://youtu.be/uNLIFykoBfY
END:VEVENT
END:VCALENDAR
