BEGIN:VCALENDAR
VERSION:2.0
PRODID:-//achurchnearyou.com//eventfeed//EN
CALSCALE:GREGORIAN
METHOD:PUBLISH
X-WR-TIMEZONE:UTC
BEGIN:VEVENT
SUMMARY:Stapleford Parish Men's event 'Quiz and Chips'
DTSTART:20251205T193000Z
DTEND:20251205T210000Z
DTSTAMP:20260423T223748Z
UID:12483612025-12-05 19:30:00+00:00achurchnearyou
CATEGORIES:
DESCRIPTION:We invite you to join us for a fun Quiz\, fish & Chips (or Pie
 ). At St Helen's Church Hall. Please contact the office staplefordparish@a
 ol.com to register your interest and provide any food allergies
GEO:-1.274371;52.931568
LOCATION:St Helen's Church
URL:https://www.achurchnearyou.com/church/17859/service-and-events/events/
 1248361/
END:VEVENT
END:VCALENDAR
