BEGIN:VCALENDAR
VERSION:2.0
PRODID:-//achurchnearyou.com//eventfeed//EN
CALSCALE:GREGORIAN
METHOD:PUBLISH
X-WR-TIMEZONE:UTC
BEGIN:VEVENT
SUMMARY:Pilgrimage Walk
DTSTART:20260330T090000Z
DTEND:20260330T100000Z
DTSTAMP:20260423T152454Z
UID:13066142026-03-30 09:00:00+00:00achurchnearyou
CATEGORIES:
DESCRIPTION:We are meeting at 10am outside Strelley Church for a walk. We 
 would love to see you there. Don't forget your walking boots\, we have ord
 ered sun shine but after all the British whether is unpredictable so maybe
  bring a rain coat too.  If you would like more information please contact
  the church office staplefordparish@aol.com - 0115 939 9958
LOCATION:Strelley Church
URL:https://www.achurchnearyou.com/church/17859/service-and-events/events/
 1306614/
END:VEVENT
END:VCALENDAR
