BEGIN:VCALENDAR
VERSION:2.0
PRODID:-//achurchnearyou.com//eventfeed//EN
CALSCALE:GREGORIAN
METHOD:PUBLISH
X-WR-TIMEZONE:UTC
BEGIN:VEVENT
SUMMARY:Good Friday Walk of Witness
DTSTART:20260403T100000Z
DTEND:20260403T110000Z
DTSTAMP:20260423T123203Z
UID:13066342026-04-03 10:00:00+00:00achurchnearyou
CATEGORIES:
DESCRIPTION:Join us for our Walk of Witness on Good Friday as we walk toge
 ther through the local area\, Starting at St Helen's Church ending at Walt
 er Parker (VC)Square\, remembering the journey of Jesus to the cross. Chri
 stians from local churches will gather to walk\, pray\, and reflect on the
  meaning of Good Friday.
GEO:-1.274371;52.931568
LOCATION:St Helen's Church
URL:https://www.achurchnearyou.com/church/17859/service-and-events/events/
 1306634/
END:VEVENT
END:VCALENDAR
