BEGIN:VCALENDAR
VERSION:2.0
PRODID:-//achurchnearyou.com//eventfeed//EN
CALSCALE:GREGORIAN
METHOD:PUBLISH
X-WR-TIMEZONE:UTC
BEGIN:VEVENT
SUMMARY:Evening communion
DTSTART;TZID=Europe/London:20241027T183000
DTEND;TZID=Europe/London:20241027T200000
DTSTAMP:20260423T055544Z
UID:4407762024-10-27 18:30:00+00:00achurchnearyou
CATEGORIES:
DESCRIPTION:Evening service with communion
GEO:-1.274371;52.931568
LOCATION:St Helen's Church
URL:https://www.achurchnearyou.com/church/17859/service-and-events/events/
 440776/
END:VEVENT
BEGIN:VEVENT
SUMMARY:Evening communion
DTSTART;TZID=Europe/London:20241124T183000
DTEND;TZID=Europe/London:20241124T200000
DTSTAMP:20260423T055544Z
UID:4407762024-11-24 18:30:00+00:00achurchnearyou
CATEGORIES:
DESCRIPTION:Evening service with communion
GEO:-1.274371;52.931568
LOCATION:St Helen's Church
URL:https://www.achurchnearyou.com/church/17859/service-and-events/events/
 440776/
END:VEVENT
BEGIN:VEVENT
SUMMARY:Evening communion
DTSTART;TZID=Europe/London:20241222T183000
DTEND;TZID=Europe/London:20241222T200000
DTSTAMP:20260423T055544Z
UID:4407762024-12-22 18:30:00+00:00achurchnearyou
CATEGORIES:
DESCRIPTION:Evening service with communion
GEO:-1.274371;52.931568
LOCATION:St Helen's Church
URL:https://www.achurchnearyou.com/church/17859/service-and-events/events/
 440776/
END:VEVENT
BEGIN:VEVENT
SUMMARY:Evening communion
DTSTART;TZID=Europe/London:20250126T183000
DTEND;TZID=Europe/London:20250126T200000
DTSTAMP:20260423T055544Z
UID:4407762025-01-26 18:30:00+00:00achurchnearyou
CATEGORIES:
DESCRIPTION:Evening service with communion
GEO:-1.274371;52.931568
LOCATION:St Helen's Church
URL:https://www.achurchnearyou.com/church/17859/service-and-events/events/
 440776/
END:VEVENT
BEGIN:VEVENT
SUMMARY:Evening communion
DTSTART;TZID=Europe/London:20250223T183000
DTEND;TZID=Europe/London:20250223T200000
DTSTAMP:20260423T055544Z
UID:4407762025-02-23 18:30:00+00:00achurchnearyou
CATEGORIES:
DESCRIPTION:Evening service with communion
GEO:-1.274371;52.931568
LOCATION:St Helen's Church
URL:https://www.achurchnearyou.com/church/17859/service-and-events/events/
 440776/
END:VEVENT
BEGIN:VEVENT
SUMMARY:Evening communion
DTSTART;TZID=Europe/London:20250323T183000
DTEND;TZID=Europe/London:20250323T200000
DTSTAMP:20260423T055544Z
UID:4407762025-03-23 18:30:00+00:00achurchnearyou
CATEGORIES:
DESCRIPTION:Evening service with communion
GEO:-1.274371;52.931568
LOCATION:St Helen's Church
URL:https://www.achurchnearyou.com/church/17859/service-and-events/events/
 440776/
END:VEVENT
BEGIN:VEVENT
SUMMARY:Evening communion
DTSTART;TZID=Europe/London:20250427T183000
DTEND;TZID=Europe/London:20250427T200000
DTSTAMP:20260423T055544Z
UID:4407762025-04-27 18:30:00+01:00achurchnearyou
CATEGORIES:
DESCRIPTION:Evening service with communion
GEO:-1.274371;52.931568
LOCATION:St Helen's Church
URL:https://www.achurchnearyou.com/church/17859/service-and-events/events/
 440776/
END:VEVENT
BEGIN:VEVENT
SUMMARY:Evening communion
DTSTART;TZID=Europe/London:20250525T183000
DTEND;TZID=Europe/London:20250525T200000
DTSTAMP:20260423T055544Z
UID:4407762025-05-25 18:30:00+01:00achurchnearyou
CATEGORIES:
DESCRIPTION:Evening service with communion
GEO:-1.274371;52.931568
LOCATION:St Helen's Church
URL:https://www.achurchnearyou.com/church/17859/service-and-events/events/
 440776/
END:VEVENT
BEGIN:VEVENT
SUMMARY:Evening communion
DTSTART;TZID=Europe/London:20250622T183000
DTEND;TZID=Europe/London:20250622T200000
DTSTAMP:20260423T055544Z
UID:4407762025-06-22 18:30:00+01:00achurchnearyou
CATEGORIES:
DESCRIPTION:Evening service with communion
GEO:-1.274371;52.931568
LOCATION:St Helen's Church
URL:https://www.achurchnearyou.com/church/17859/service-and-events/events/
 440776/
END:VEVENT
BEGIN:VEVENT
SUMMARY:Evening communion
DTSTART;TZID=Europe/London:20250727T183000
DTEND;TZID=Europe/London:20250727T200000
DTSTAMP:20260423T055544Z
UID:4407762025-07-27 18:30:00+01:00achurchnearyou
CATEGORIES:
DESCRIPTION:Evening service with communion
GEO:-1.274371;52.931568
LOCATION:St Helen's Church
URL:https://www.achurchnearyou.com/church/17859/service-and-events/events/
 440776/
END:VEVENT
BEGIN:VEVENT
SUMMARY:Evening communion
DTSTART;TZID=Europe/London:20250824T183000
DTEND;TZID=Europe/London:20250824T200000
DTSTAMP:20260423T055544Z
UID:4407762025-08-24 18:30:00+01:00achurchnearyou
CATEGORIES:
DESCRIPTION:Evening service with communion
GEO:-1.274371;52.931568
LOCATION:St Helen's Church
URL:https://www.achurchnearyou.com/church/17859/service-and-events/events/
 440776/
END:VEVENT
BEGIN:VEVENT
SUMMARY:Evening communion
DTSTART;TZID=Europe/London:20250928T183000
DTEND;TZID=Europe/London:20250928T200000
DTSTAMP:20260423T055544Z
UID:4407762025-09-28 18:30:00+01:00achurchnearyou
CATEGORIES:
DESCRIPTION:Evening service with communion
GEO:-1.274371;52.931568
LOCATION:St Helen's Church
URL:https://www.achurchnearyou.com/church/17859/service-and-events/events/
 440776/
END:VEVENT
BEGIN:VEVENT
SUMMARY:Evening communion
DTSTART;TZID=Europe/London:20251026T183000
DTEND;TZID=Europe/London:20251026T200000
DTSTAMP:20260423T055544Z
UID:4407762025-10-26 18:30:00+00:00achurchnearyou
CATEGORIES:
DESCRIPTION:Evening service with communion
GEO:-1.274371;52.931568
LOCATION:St Helen's Church
URL:https://www.achurchnearyou.com/church/17859/service-and-events/events/
 440776/
END:VEVENT
BEGIN:VEVENT
SUMMARY:Evening communion
DTSTART;TZID=Europe/London:20251123T183000
DTEND;TZID=Europe/London:20251123T200000
DTSTAMP:20260423T055544Z
UID:4407762025-11-23 18:30:00+00:00achurchnearyou
CATEGORIES:
DESCRIPTION:Evening service with communion
GEO:-1.274371;52.931568
LOCATION:St Helen's Church
URL:https://www.achurchnearyou.com/church/17859/service-and-events/events/
 440776/
END:VEVENT
BEGIN:VEVENT
SUMMARY:Evening communion
DTSTART;TZID=Europe/London:20251228T183000
DTEND;TZID=Europe/London:20251228T200000
DTSTAMP:20260423T055544Z
UID:4407762025-12-28 18:30:00+00:00achurchnearyou
CATEGORIES:
DESCRIPTION:Evening service with communion
GEO:-1.274371;52.931568
LOCATION:St Helen's Church
URL:https://www.achurchnearyou.com/church/17859/service-and-events/events/
 440776/
END:VEVENT
BEGIN:VEVENT
SUMMARY:Evening communion
DTSTART;TZID=Europe/London:20260125T183000
DTEND;TZID=Europe/London:20260125T200000
DTSTAMP:20260423T055544Z
UID:4407762026-01-25 18:30:00+00:00achurchnearyou
CATEGORIES:
DESCRIPTION:Evening service with communion
GEO:-1.274371;52.931568
LOCATION:St Helen's Church
URL:https://www.achurchnearyou.com/church/17859/service-and-events/events/
 440776/
END:VEVENT
BEGIN:VEVENT
SUMMARY:Evening communion
DTSTART;TZID=Europe/London:20260222T183000
DTEND;TZID=Europe/London:20260222T200000
DTSTAMP:20260423T055544Z
UID:4407762026-02-22 18:30:00+00:00achurchnearyou
CATEGORIES:
DESCRIPTION:Evening service with communion
GEO:-1.274371;52.931568
LOCATION:St Helen's Church
URL:https://www.achurchnearyou.com/church/17859/service-and-events/events/
 440776/
END:VEVENT
BEGIN:VEVENT
SUMMARY:Evening communion
DTSTART;TZID=Europe/London:20260322T183000
DTEND;TZID=Europe/London:20260322T200000
DTSTAMP:20260423T055544Z
UID:4407762026-03-22 18:30:00+00:00achurchnearyou
CATEGORIES:
DESCRIPTION:Evening service with communion
GEO:-1.274371;52.931568
LOCATION:St Helen's Church
URL:https://www.achurchnearyou.com/church/17859/service-and-events/events/
 440776/
END:VEVENT
BEGIN:VEVENT
SUMMARY:Evening communion
DTSTART;TZID=Europe/London:20260426T183000
DTEND;TZID=Europe/London:20260426T200000
DTSTAMP:20260423T055544Z
UID:4407762026-04-26 18:30:00+01:00achurchnearyou
CATEGORIES:
DESCRIPTION:Evening service with communion
GEO:-1.274371;52.931568
LOCATION:St Helen's Church
URL:https://www.achurchnearyou.com/church/17859/service-and-events/events/
 440776/
END:VEVENT
BEGIN:VEVENT
SUMMARY:Evening communion
DTSTART;TZID=Europe/London:20260524T183000
DTEND;TZID=Europe/London:20260524T200000
DTSTAMP:20260423T055544Z
UID:4407762026-05-24 18:30:00+01:00achurchnearyou
CATEGORIES:
DESCRIPTION:Evening service with communion
GEO:-1.274371;52.931568
LOCATION:St Helen's Church
URL:https://www.achurchnearyou.com/church/17859/service-and-events/events/
 440776/
END:VEVENT
BEGIN:VEVENT
SUMMARY:Evening communion
DTSTART;TZID=Europe/London:20260628T183000
DTEND;TZID=Europe/London:20260628T200000
DTSTAMP:20260423T055544Z
UID:4407762026-06-28 18:30:00+01:00achurchnearyou
CATEGORIES:
DESCRIPTION:Evening service with communion
GEO:-1.274371;52.931568
LOCATION:St Helen's Church
URL:https://www.achurchnearyou.com/church/17859/service-and-events/events/
 440776/
END:VEVENT
BEGIN:VEVENT
SUMMARY:Evening communion
DTSTART;TZID=Europe/London:20260726T183000
DTEND;TZID=Europe/London:20260726T200000
DTSTAMP:20260423T055544Z
UID:4407762026-07-26 18:30:00+01:00achurchnearyou
CATEGORIES:
DESCRIPTION:Evening service with communion
GEO:-1.274371;52.931568
LOCATION:St Helen's Church
URL:https://www.achurchnearyou.com/church/17859/service-and-events/events/
 440776/
END:VEVENT
BEGIN:VEVENT
SUMMARY:Evening communion
DTSTART;TZID=Europe/London:20260823T183000
DTEND;TZID=Europe/London:20260823T200000
DTSTAMP:20260423T055544Z
UID:4407762026-08-23 18:30:00+01:00achurchnearyou
CATEGORIES:
DESCRIPTION:Evening service with communion
GEO:-1.274371;52.931568
LOCATION:St Helen's Church
URL:https://www.achurchnearyou.com/church/17859/service-and-events/events/
 440776/
END:VEVENT
BEGIN:VEVENT
SUMMARY:Evening communion
DTSTART;TZID=Europe/London:20260927T183000
DTEND;TZID=Europe/London:20260927T200000
DTSTAMP:20260423T055544Z
UID:4407762026-09-27 18:30:00+01:00achurchnearyou
CATEGORIES:
DESCRIPTION:Evening service with communion
GEO:-1.274371;52.931568
LOCATION:St Helen's Church
URL:https://www.achurchnearyou.com/church/17859/service-and-events/events/
 440776/
END:VEVENT
BEGIN:VEVENT
SUMMARY:Evening communion
DTSTART;TZID=Europe/London:20261025T183000
DTEND;TZID=Europe/London:20261025T200000
DTSTAMP:20260423T055544Z
UID:4407762026-10-25 18:30:00+00:00achurchnearyou
CATEGORIES:
DESCRIPTION:Evening service with communion
GEO:-1.274371;52.931568
LOCATION:St Helen's Church
URL:https://www.achurchnearyou.com/church/17859/service-and-events/events/
 440776/
END:VEVENT
BEGIN:VEVENT
SUMMARY:Evening communion
DTSTART;TZID=Europe/London:20261122T183000
DTEND;TZID=Europe/London:20261122T200000
DTSTAMP:20260423T055544Z
UID:4407762026-11-22 18:30:00+00:00achurchnearyou
CATEGORIES:
DESCRIPTION:Evening service with communion
GEO:-1.274371;52.931568
LOCATION:St Helen's Church
URL:https://www.achurchnearyou.com/church/17859/service-and-events/events/
 440776/
END:VEVENT
BEGIN:VEVENT
SUMMARY:Evening communion
DTSTART;TZID=Europe/London:20261227T183000
DTEND;TZID=Europe/London:20261227T200000
DTSTAMP:20260423T055544Z
UID:4407762026-12-27 18:30:00+00:00achurchnearyou
CATEGORIES:
DESCRIPTION:Evening service with communion
GEO:-1.274371;52.931568
LOCATION:St Helen's Church
URL:https://www.achurchnearyou.com/church/17859/service-and-events/events/
 440776/
END:VEVENT
BEGIN:VEVENT
SUMMARY:Evening communion
DTSTART;TZID=Europe/London:20270124T183000
DTEND;TZID=Europe/London:20270124T200000
DTSTAMP:20260423T055544Z
UID:4407762027-01-24 18:30:00+00:00achurchnearyou
CATEGORIES:
DESCRIPTION:Evening service with communion
GEO:-1.274371;52.931568
LOCATION:St Helen's Church
URL:https://www.achurchnearyou.com/church/17859/service-and-events/events/
 440776/
END:VEVENT
BEGIN:VEVENT
SUMMARY:Evening communion
DTSTART;TZID=Europe/London:20270228T183000
DTEND;TZID=Europe/London:20270228T200000
DTSTAMP:20260423T055544Z
UID:4407762027-02-28 18:30:00+00:00achurchnearyou
CATEGORIES:
DESCRIPTION:Evening service with communion
GEO:-1.274371;52.931568
LOCATION:St Helen's Church
URL:https://www.achurchnearyou.com/church/17859/service-and-events/events/
 440776/
END:VEVENT
BEGIN:VEVENT
SUMMARY:Evening communion
DTSTART;TZID=Europe/London:20270328T183000
DTEND;TZID=Europe/London:20270328T200000
DTSTAMP:20260423T055544Z
UID:4407762027-03-28 18:30:00+01:00achurchnearyou
CATEGORIES:
DESCRIPTION:Evening service with communion
GEO:-1.274371;52.931568
LOCATION:St Helen's Church
URL:https://www.achurchnearyou.com/church/17859/service-and-events/events/
 440776/
END:VEVENT
END:VCALENDAR
