BEGIN:VCALENDAR
VERSION:2.0
PRODID:-//achurchnearyou.com//eventfeed//EN
CALSCALE:GREGORIAN
METHOD:PUBLISH
X-WR-TIMEZONE:UTC
BEGIN:VEVENT
SUMMARY:Carol Service
DTSTART:20251212T190000Z
DTEND:20251212T200000Z
DTSTAMP:20260424T051246Z
UID:12573022025-12-12 19:00:00+00:00achurchnearyou
CATEGORIES:
DESCRIPTION:Service of carols and Bible readings
GEO:-0.879867;52.983111
LOCATION:St Mary and All Saints
URL:https://www.achurchnearyou.com/church/17869/service-and-events/events/
 1257302/
END:VEVENT
END:VCALENDAR
