BEGIN:VCALENDAR
VERSION:2.0
PRODID:-//achurchnearyou.com//eventfeed//EN
CALSCALE:GREGORIAN
METHOD:PUBLISH
X-WR-TIMEZONE:UTC
BEGIN:VEVENT
SUMMARY:Christmas Eve Evensong
DTSTART:20251224T153000Z
DTEND:20251224T161500Z
DTSTAMP:20260422T065708Z
UID:12492812025-12-24 15:30:00+00:00achurchnearyou
CATEGORIES:
DESCRIPTION:A beautiful traditional service beginning to turn the corner f
 rom Advent into Christmas. Sung by the Cathedral Choir.
GEO:-0.954153;53.076845
LOCATION:Southwell Minster
URL:https://www.achurchnearyou.com/church/17943/service-and-events/events/
 1249281/
END:VEVENT
END:VCALENDAR
