BEGIN:VCALENDAR
VERSION:2.0
PRODID:-//achurchnearyou.com//eventfeed//EN
CALSCALE:GREGORIAN
METHOD:PUBLISH
X-WR-TIMEZONE:UTC
BEGIN:VEVENT
SUMMARY:Sunday Comtemplation
DTSTART;TZID=Europe/London:20260426T193000
DTEND;TZID=Europe/London:20260426T201500
DTSTAMP:20260423T013632Z
UID:11319932026-04-26 19:30:00+01:00achurchnearyou
CATEGORIES:
DESCRIPTION:Our evenving contemplation.\nA more relaxed and reflective gat
 hering in the evening\, praying for the week ahead.
GEO:-1.179228;52.987123
LOCATION:St Aidan's
URL:https://www.achurchnearyou.com/church/17961/service-and-events/events/
 1131993/
END:VEVENT
BEGIN:VEVENT
SUMMARY:Sunday Comtemplation
DTSTART;TZID=Europe/London:20260503T193000
DTEND;TZID=Europe/London:20260503T201500
DTSTAMP:20260423T013632Z
UID:11319932026-05-03 19:30:00+01:00achurchnearyou
CATEGORIES:
DESCRIPTION:Our evenving contemplation.\nA more relaxed and reflective gat
 hering in the evening\, praying for the week ahead.
GEO:-1.179228;52.987123
LOCATION:St Aidan's
URL:https://www.achurchnearyou.com/church/17961/service-and-events/events/
 1131993/
END:VEVENT
BEGIN:VEVENT
SUMMARY:Sunday Comtemplation
DTSTART;TZID=Europe/London:20260510T193000
DTEND;TZID=Europe/London:20260510T201500
DTSTAMP:20260423T013632Z
UID:11319932026-05-10 19:30:00+01:00achurchnearyou
CATEGORIES:
DESCRIPTION:Our evenving contemplation.\nA more relaxed and reflective gat
 hering in the evening\, praying for the week ahead.
GEO:-1.179228;52.987123
LOCATION:St Aidan's
URL:https://www.achurchnearyou.com/church/17961/service-and-events/events/
 1131993/
END:VEVENT
BEGIN:VEVENT
SUMMARY:Sunday Comtemplation
DTSTART;TZID=Europe/London:20260517T193000
DTEND;TZID=Europe/London:20260517T201500
DTSTAMP:20260423T013632Z
UID:11319932026-05-17 19:30:00+01:00achurchnearyou
CATEGORIES:
DESCRIPTION:Our evenving contemplation.\nA more relaxed and reflective gat
 hering in the evening\, praying for the week ahead.
GEO:-1.179228;52.987123
LOCATION:St Aidan's
URL:https://www.achurchnearyou.com/church/17961/service-and-events/events/
 1131993/
END:VEVENT
BEGIN:VEVENT
SUMMARY:Sunday Comtemplation
DTSTART;TZID=Europe/London:20260524T193000
DTEND;TZID=Europe/London:20260524T201500
DTSTAMP:20260423T013632Z
UID:11319932026-05-24 19:30:00+01:00achurchnearyou
CATEGORIES:
DESCRIPTION:Our evenving contemplation.\nA more relaxed and reflective gat
 hering in the evening\, praying for the week ahead.
GEO:-1.179228;52.987123
LOCATION:St Aidan's
URL:https://www.achurchnearyou.com/church/17961/service-and-events/events/
 1131993/
END:VEVENT
BEGIN:VEVENT
SUMMARY:Sunday Comtemplation
DTSTART;TZID=Europe/London:20260531T193000
DTEND;TZID=Europe/London:20260531T201500
DTSTAMP:20260423T013632Z
UID:11319932026-05-31 19:30:00+01:00achurchnearyou
CATEGORIES:
DESCRIPTION:Our evenving contemplation.\nA more relaxed and reflective gat
 hering in the evening\, praying for the week ahead.
GEO:-1.179228;52.987123
LOCATION:St Aidan's
URL:https://www.achurchnearyou.com/church/17961/service-and-events/events/
 1131993/
END:VEVENT
BEGIN:VEVENT
SUMMARY:Sunday Comtemplation
DTSTART;TZID=Europe/London:20260607T193000
DTEND;TZID=Europe/London:20260607T201500
DTSTAMP:20260423T013632Z
UID:11319932026-06-07 19:30:00+01:00achurchnearyou
CATEGORIES:
DESCRIPTION:Our evenving contemplation.\nA more relaxed and reflective gat
 hering in the evening\, praying for the week ahead.
GEO:-1.179228;52.987123
LOCATION:St Aidan's
URL:https://www.achurchnearyou.com/church/17961/service-and-events/events/
 1131993/
END:VEVENT
BEGIN:VEVENT
SUMMARY:Sunday Comtemplation
DTSTART;TZID=Europe/London:20260614T193000
DTEND;TZID=Europe/London:20260614T201500
DTSTAMP:20260423T013632Z
UID:11319932026-06-14 19:30:00+01:00achurchnearyou
CATEGORIES:
DESCRIPTION:Our evenving contemplation.\nA more relaxed and reflective gat
 hering in the evening\, praying for the week ahead.
GEO:-1.179228;52.987123
LOCATION:St Aidan's
URL:https://www.achurchnearyou.com/church/17961/service-and-events/events/
 1131993/
END:VEVENT
BEGIN:VEVENT
SUMMARY:Sunday Comtemplation
DTSTART;TZID=Europe/London:20260621T193000
DTEND;TZID=Europe/London:20260621T201500
DTSTAMP:20260423T013632Z
UID:11319932026-06-21 19:30:00+01:00achurchnearyou
CATEGORIES:
DESCRIPTION:Our evenving contemplation.\nA more relaxed and reflective gat
 hering in the evening\, praying for the week ahead.
GEO:-1.179228;52.987123
LOCATION:St Aidan's
URL:https://www.achurchnearyou.com/church/17961/service-and-events/events/
 1131993/
END:VEVENT
BEGIN:VEVENT
SUMMARY:Sunday Comtemplation
DTSTART;TZID=Europe/London:20260628T193000
DTEND;TZID=Europe/London:20260628T201500
DTSTAMP:20260423T013632Z
UID:11319932026-06-28 19:30:00+01:00achurchnearyou
CATEGORIES:
DESCRIPTION:Our evenving contemplation.\nA more relaxed and reflective gat
 hering in the evening\, praying for the week ahead.
GEO:-1.179228;52.987123
LOCATION:St Aidan's
URL:https://www.achurchnearyou.com/church/17961/service-and-events/events/
 1131993/
END:VEVENT
BEGIN:VEVENT
SUMMARY:Sunday Comtemplation
DTSTART;TZID=Europe/London:20260705T193000
DTEND;TZID=Europe/London:20260705T201500
DTSTAMP:20260423T013632Z
UID:11319932026-07-05 19:30:00+01:00achurchnearyou
CATEGORIES:
DESCRIPTION:Our evenving contemplation.\nA more relaxed and reflective gat
 hering in the evening\, praying for the week ahead.
GEO:-1.179228;52.987123
LOCATION:St Aidan's
URL:https://www.achurchnearyou.com/church/17961/service-and-events/events/
 1131993/
END:VEVENT
BEGIN:VEVENT
SUMMARY:Sunday Comtemplation
DTSTART;TZID=Europe/London:20260712T193000
DTEND;TZID=Europe/London:20260712T201500
DTSTAMP:20260423T013632Z
UID:11319932026-07-12 19:30:00+01:00achurchnearyou
CATEGORIES:
DESCRIPTION:Our evenving contemplation.\nA more relaxed and reflective gat
 hering in the evening\, praying for the week ahead.
GEO:-1.179228;52.987123
LOCATION:St Aidan's
URL:https://www.achurchnearyou.com/church/17961/service-and-events/events/
 1131993/
END:VEVENT
BEGIN:VEVENT
SUMMARY:Sunday Comtemplation
DTSTART;TZID=Europe/London:20260719T193000
DTEND;TZID=Europe/London:20260719T201500
DTSTAMP:20260423T013632Z
UID:11319932026-07-19 19:30:00+01:00achurchnearyou
CATEGORIES:
DESCRIPTION:Our evenving contemplation.\nA more relaxed and reflective gat
 hering in the evening\, praying for the week ahead.
GEO:-1.179228;52.987123
LOCATION:St Aidan's
URL:https://www.achurchnearyou.com/church/17961/service-and-events/events/
 1131993/
END:VEVENT
BEGIN:VEVENT
SUMMARY:Sunday Comtemplation
DTSTART;TZID=Europe/London:20260726T193000
DTEND;TZID=Europe/London:20260726T201500
DTSTAMP:20260423T013632Z
UID:11319932026-07-26 19:30:00+01:00achurchnearyou
CATEGORIES:
DESCRIPTION:Our evenving contemplation.\nA more relaxed and reflective gat
 hering in the evening\, praying for the week ahead.
GEO:-1.179228;52.987123
LOCATION:St Aidan's
URL:https://www.achurchnearyou.com/church/17961/service-and-events/events/
 1131993/
END:VEVENT
BEGIN:VEVENT
SUMMARY:Sunday Comtemplation
DTSTART;TZID=Europe/London:20260802T193000
DTEND;TZID=Europe/London:20260802T201500
DTSTAMP:20260423T013632Z
UID:11319932026-08-02 19:30:00+01:00achurchnearyou
CATEGORIES:
DESCRIPTION:Our evenving contemplation.\nA more relaxed and reflective gat
 hering in the evening\, praying for the week ahead.
GEO:-1.179228;52.987123
LOCATION:St Aidan's
URL:https://www.achurchnearyou.com/church/17961/service-and-events/events/
 1131993/
END:VEVENT
BEGIN:VEVENT
SUMMARY:Sunday Comtemplation
DTSTART;TZID=Europe/London:20260809T193000
DTEND;TZID=Europe/London:20260809T201500
DTSTAMP:20260423T013632Z
UID:11319932026-08-09 19:30:00+01:00achurchnearyou
CATEGORIES:
DESCRIPTION:Our evenving contemplation.\nA more relaxed and reflective gat
 hering in the evening\, praying for the week ahead.
GEO:-1.179228;52.987123
LOCATION:St Aidan's
URL:https://www.achurchnearyou.com/church/17961/service-and-events/events/
 1131993/
END:VEVENT
BEGIN:VEVENT
SUMMARY:Sunday Comtemplation
DTSTART;TZID=Europe/London:20260816T193000
DTEND;TZID=Europe/London:20260816T201500
DTSTAMP:20260423T013632Z
UID:11319932026-08-16 19:30:00+01:00achurchnearyou
CATEGORIES:
DESCRIPTION:Our evenving contemplation.\nA more relaxed and reflective gat
 hering in the evening\, praying for the week ahead.
GEO:-1.179228;52.987123
LOCATION:St Aidan's
URL:https://www.achurchnearyou.com/church/17961/service-and-events/events/
 1131993/
END:VEVENT
BEGIN:VEVENT
SUMMARY:Sunday Comtemplation
DTSTART;TZID=Europe/London:20260823T193000
DTEND;TZID=Europe/London:20260823T201500
DTSTAMP:20260423T013632Z
UID:11319932026-08-23 19:30:00+01:00achurchnearyou
CATEGORIES:
DESCRIPTION:Our evenving contemplation.\nA more relaxed and reflective gat
 hering in the evening\, praying for the week ahead.
GEO:-1.179228;52.987123
LOCATION:St Aidan's
URL:https://www.achurchnearyou.com/church/17961/service-and-events/events/
 1131993/
END:VEVENT
BEGIN:VEVENT
SUMMARY:Sunday Comtemplation
DTSTART;TZID=Europe/London:20260830T193000
DTEND;TZID=Europe/London:20260830T201500
DTSTAMP:20260423T013632Z
UID:11319932026-08-30 19:30:00+01:00achurchnearyou
CATEGORIES:
DESCRIPTION:Our evenving contemplation.\nA more relaxed and reflective gat
 hering in the evening\, praying for the week ahead.
GEO:-1.179228;52.987123
LOCATION:St Aidan's
URL:https://www.achurchnearyou.com/church/17961/service-and-events/events/
 1131993/
END:VEVENT
BEGIN:VEVENT
SUMMARY:Sunday Comtemplation
DTSTART;TZID=Europe/London:20260906T193000
DTEND;TZID=Europe/London:20260906T201500
DTSTAMP:20260423T013632Z
UID:11319932026-09-06 19:30:00+01:00achurchnearyou
CATEGORIES:
DESCRIPTION:Our evenving contemplation.\nA more relaxed and reflective gat
 hering in the evening\, praying for the week ahead.
GEO:-1.179228;52.987123
LOCATION:St Aidan's
URL:https://www.achurchnearyou.com/church/17961/service-and-events/events/
 1131993/
END:VEVENT
BEGIN:VEVENT
SUMMARY:Sunday Comtemplation
DTSTART;TZID=Europe/London:20260913T193000
DTEND;TZID=Europe/London:20260913T201500
DTSTAMP:20260423T013632Z
UID:11319932026-09-13 19:30:00+01:00achurchnearyou
CATEGORIES:
DESCRIPTION:Our evenving contemplation.\nA more relaxed and reflective gat
 hering in the evening\, praying for the week ahead.
GEO:-1.179228;52.987123
LOCATION:St Aidan's
URL:https://www.achurchnearyou.com/church/17961/service-and-events/events/
 1131993/
END:VEVENT
BEGIN:VEVENT
SUMMARY:Sunday Comtemplation
DTSTART;TZID=Europe/London:20260920T193000
DTEND;TZID=Europe/London:20260920T201500
DTSTAMP:20260423T013632Z
UID:11319932026-09-20 19:30:00+01:00achurchnearyou
CATEGORIES:
DESCRIPTION:Our evenving contemplation.\nA more relaxed and reflective gat
 hering in the evening\, praying for the week ahead.
GEO:-1.179228;52.987123
LOCATION:St Aidan's
URL:https://www.achurchnearyou.com/church/17961/service-and-events/events/
 1131993/
END:VEVENT
BEGIN:VEVENT
SUMMARY:Sunday Comtemplation
DTSTART;TZID=Europe/London:20260927T193000
DTEND;TZID=Europe/London:20260927T201500
DTSTAMP:20260423T013632Z
UID:11319932026-09-27 19:30:00+01:00achurchnearyou
CATEGORIES:
DESCRIPTION:Our evenving contemplation.\nA more relaxed and reflective gat
 hering in the evening\, praying for the week ahead.
GEO:-1.179228;52.987123
LOCATION:St Aidan's
URL:https://www.achurchnearyou.com/church/17961/service-and-events/events/
 1131993/
END:VEVENT
BEGIN:VEVENT
SUMMARY:Sunday Comtemplation
DTSTART;TZID=Europe/London:20261004T193000
DTEND;TZID=Europe/London:20261004T201500
DTSTAMP:20260423T013632Z
UID:11319932026-10-04 19:30:00+01:00achurchnearyou
CATEGORIES:
DESCRIPTION:Our evenving contemplation.\nA more relaxed and reflective gat
 hering in the evening\, praying for the week ahead.
GEO:-1.179228;52.987123
LOCATION:St Aidan's
URL:https://www.achurchnearyou.com/church/17961/service-and-events/events/
 1131993/
END:VEVENT
BEGIN:VEVENT
SUMMARY:Sunday Comtemplation
DTSTART;TZID=Europe/London:20261011T193000
DTEND;TZID=Europe/London:20261011T201500
DTSTAMP:20260423T013632Z
UID:11319932026-10-11 19:30:00+01:00achurchnearyou
CATEGORIES:
DESCRIPTION:Our evenving contemplation.\nA more relaxed and reflective gat
 hering in the evening\, praying for the week ahead.
GEO:-1.179228;52.987123
LOCATION:St Aidan's
URL:https://www.achurchnearyou.com/church/17961/service-and-events/events/
 1131993/
END:VEVENT
BEGIN:VEVENT
SUMMARY:Sunday Comtemplation
DTSTART;TZID=Europe/London:20261018T193000
DTEND;TZID=Europe/London:20261018T201500
DTSTAMP:20260423T013632Z
UID:11319932026-10-18 19:30:00+01:00achurchnearyou
CATEGORIES:
DESCRIPTION:Our evenving contemplation.\nA more relaxed and reflective gat
 hering in the evening\, praying for the week ahead.
GEO:-1.179228;52.987123
LOCATION:St Aidan's
URL:https://www.achurchnearyou.com/church/17961/service-and-events/events/
 1131993/
END:VEVENT
BEGIN:VEVENT
SUMMARY:Sunday Comtemplation
DTSTART;TZID=Europe/London:20261025T193000
DTEND;TZID=Europe/London:20261025T201500
DTSTAMP:20260423T013632Z
UID:11319932026-10-25 19:30:00+00:00achurchnearyou
CATEGORIES:
DESCRIPTION:Our evenving contemplation.\nA more relaxed and reflective gat
 hering in the evening\, praying for the week ahead.
GEO:-1.179228;52.987123
LOCATION:St Aidan's
URL:https://www.achurchnearyou.com/church/17961/service-and-events/events/
 1131993/
END:VEVENT
BEGIN:VEVENT
SUMMARY:Sunday Comtemplation
DTSTART;TZID=Europe/London:20261101T193000
DTEND;TZID=Europe/London:20261101T201500
DTSTAMP:20260423T013632Z
UID:11319932026-11-01 19:30:00+00:00achurchnearyou
CATEGORIES:
DESCRIPTION:Our evenving contemplation.\nA more relaxed and reflective gat
 hering in the evening\, praying for the week ahead.
GEO:-1.179228;52.987123
LOCATION:St Aidan's
URL:https://www.achurchnearyou.com/church/17961/service-and-events/events/
 1131993/
END:VEVENT
BEGIN:VEVENT
SUMMARY:Sunday Comtemplation
DTSTART;TZID=Europe/London:20261108T193000
DTEND;TZID=Europe/London:20261108T201500
DTSTAMP:20260423T013632Z
UID:11319932026-11-08 19:30:00+00:00achurchnearyou
CATEGORIES:
DESCRIPTION:Our evenving contemplation.\nA more relaxed and reflective gat
 hering in the evening\, praying for the week ahead.
GEO:-1.179228;52.987123
LOCATION:St Aidan's
URL:https://www.achurchnearyou.com/church/17961/service-and-events/events/
 1131993/
END:VEVENT
BEGIN:VEVENT
SUMMARY:Sunday Comtemplation
DTSTART;TZID=Europe/London:20261115T193000
DTEND;TZID=Europe/London:20261115T201500
DTSTAMP:20260423T013632Z
UID:11319932026-11-15 19:30:00+00:00achurchnearyou
CATEGORIES:
DESCRIPTION:Our evenving contemplation.\nA more relaxed and reflective gat
 hering in the evening\, praying for the week ahead.
GEO:-1.179228;52.987123
LOCATION:St Aidan's
URL:https://www.achurchnearyou.com/church/17961/service-and-events/events/
 1131993/
END:VEVENT
BEGIN:VEVENT
SUMMARY:Sunday Comtemplation
DTSTART;TZID=Europe/London:20261122T193000
DTEND;TZID=Europe/London:20261122T201500
DTSTAMP:20260423T013632Z
UID:11319932026-11-22 19:30:00+00:00achurchnearyou
CATEGORIES:
DESCRIPTION:Our evenving contemplation.\nA more relaxed and reflective gat
 hering in the evening\, praying for the week ahead.
GEO:-1.179228;52.987123
LOCATION:St Aidan's
URL:https://www.achurchnearyou.com/church/17961/service-and-events/events/
 1131993/
END:VEVENT
BEGIN:VEVENT
SUMMARY:Sunday Comtemplation
DTSTART;TZID=Europe/London:20261129T193000
DTEND;TZID=Europe/London:20261129T201500
DTSTAMP:20260423T013632Z
UID:11319932026-11-29 19:30:00+00:00achurchnearyou
CATEGORIES:
DESCRIPTION:Our evenving contemplation.\nA more relaxed and reflective gat
 hering in the evening\, praying for the week ahead.
GEO:-1.179228;52.987123
LOCATION:St Aidan's
URL:https://www.achurchnearyou.com/church/17961/service-and-events/events/
 1131993/
END:VEVENT
BEGIN:VEVENT
SUMMARY:Sunday Comtemplation
DTSTART;TZID=Europe/London:20261206T193000
DTEND;TZID=Europe/London:20261206T201500
DTSTAMP:20260423T013632Z
UID:11319932026-12-06 19:30:00+00:00achurchnearyou
CATEGORIES:
DESCRIPTION:Our evenving contemplation.\nA more relaxed and reflective gat
 hering in the evening\, praying for the week ahead.
GEO:-1.179228;52.987123
LOCATION:St Aidan's
URL:https://www.achurchnearyou.com/church/17961/service-and-events/events/
 1131993/
END:VEVENT
BEGIN:VEVENT
SUMMARY:Sunday Comtemplation
DTSTART;TZID=Europe/London:20261213T193000
DTEND;TZID=Europe/London:20261213T201500
DTSTAMP:20260423T013632Z
UID:11319932026-12-13 19:30:00+00:00achurchnearyou
CATEGORIES:
DESCRIPTION:Our evenving contemplation.\nA more relaxed and reflective gat
 hering in the evening\, praying for the week ahead.
GEO:-1.179228;52.987123
LOCATION:St Aidan's
URL:https://www.achurchnearyou.com/church/17961/service-and-events/events/
 1131993/
END:VEVENT
BEGIN:VEVENT
SUMMARY:Sunday Comtemplation
DTSTART;TZID=Europe/London:20261220T193000
DTEND;TZID=Europe/London:20261220T201500
DTSTAMP:20260423T013632Z
UID:11319932026-12-20 19:30:00+00:00achurchnearyou
CATEGORIES:
DESCRIPTION:Our evenving contemplation.\nA more relaxed and reflective gat
 hering in the evening\, praying for the week ahead.
GEO:-1.179228;52.987123
LOCATION:St Aidan's
URL:https://www.achurchnearyou.com/church/17961/service-and-events/events/
 1131993/
END:VEVENT
BEGIN:VEVENT
SUMMARY:Sunday Comtemplation
DTSTART;TZID=Europe/London:20261227T193000
DTEND;TZID=Europe/London:20261227T201500
DTSTAMP:20260423T013632Z
UID:11319932026-12-27 19:30:00+00:00achurchnearyou
CATEGORIES:
DESCRIPTION:Our evenving contemplation.\nA more relaxed and reflective gat
 hering in the evening\, praying for the week ahead.
GEO:-1.179228;52.987123
LOCATION:St Aidan's
URL:https://www.achurchnearyou.com/church/17961/service-and-events/events/
 1131993/
END:VEVENT
BEGIN:VEVENT
SUMMARY:Sunday Comtemplation
DTSTART;TZID=Europe/London:20270103T193000
DTEND;TZID=Europe/London:20270103T201500
DTSTAMP:20260423T013632Z
UID:11319932027-01-03 19:30:00+00:00achurchnearyou
CATEGORIES:
DESCRIPTION:Our evenving contemplation.\nA more relaxed and reflective gat
 hering in the evening\, praying for the week ahead.
GEO:-1.179228;52.987123
LOCATION:St Aidan's
URL:https://www.achurchnearyou.com/church/17961/service-and-events/events/
 1131993/
END:VEVENT
BEGIN:VEVENT
SUMMARY:Sunday Comtemplation
DTSTART;TZID=Europe/London:20270110T193000
DTEND;TZID=Europe/London:20270110T201500
DTSTAMP:20260423T013632Z
UID:11319932027-01-10 19:30:00+00:00achurchnearyou
CATEGORIES:
DESCRIPTION:Our evenving contemplation.\nA more relaxed and reflective gat
 hering in the evening\, praying for the week ahead.
GEO:-1.179228;52.987123
LOCATION:St Aidan's
URL:https://www.achurchnearyou.com/church/17961/service-and-events/events/
 1131993/
END:VEVENT
BEGIN:VEVENT
SUMMARY:Sunday Comtemplation
DTSTART;TZID=Europe/London:20270117T193000
DTEND;TZID=Europe/London:20270117T201500
DTSTAMP:20260423T013632Z
UID:11319932027-01-17 19:30:00+00:00achurchnearyou
CATEGORIES:
DESCRIPTION:Our evenving contemplation.\nA more relaxed and reflective gat
 hering in the evening\, praying for the week ahead.
GEO:-1.179228;52.987123
LOCATION:St Aidan's
URL:https://www.achurchnearyou.com/church/17961/service-and-events/events/
 1131993/
END:VEVENT
BEGIN:VEVENT
SUMMARY:Sunday Comtemplation
DTSTART;TZID=Europe/London:20270124T193000
DTEND;TZID=Europe/London:20270124T201500
DTSTAMP:20260423T013632Z
UID:11319932027-01-24 19:30:00+00:00achurchnearyou
CATEGORIES:
DESCRIPTION:Our evenving contemplation.\nA more relaxed and reflective gat
 hering in the evening\, praying for the week ahead.
GEO:-1.179228;52.987123
LOCATION:St Aidan's
URL:https://www.achurchnearyou.com/church/17961/service-and-events/events/
 1131993/
END:VEVENT
BEGIN:VEVENT
SUMMARY:Sunday Comtemplation
DTSTART;TZID=Europe/London:20270131T193000
DTEND;TZID=Europe/London:20270131T201500
DTSTAMP:20260423T013632Z
UID:11319932027-01-31 19:30:00+00:00achurchnearyou
CATEGORIES:
DESCRIPTION:Our evenving contemplation.\nA more relaxed and reflective gat
 hering in the evening\, praying for the week ahead.
GEO:-1.179228;52.987123
LOCATION:St Aidan's
URL:https://www.achurchnearyou.com/church/17961/service-and-events/events/
 1131993/
END:VEVENT
BEGIN:VEVENT
SUMMARY:Sunday Comtemplation
DTSTART;TZID=Europe/London:20270207T193000
DTEND;TZID=Europe/London:20270207T201500
DTSTAMP:20260423T013632Z
UID:11319932027-02-07 19:30:00+00:00achurchnearyou
CATEGORIES:
DESCRIPTION:Our evenving contemplation.\nA more relaxed and reflective gat
 hering in the evening\, praying for the week ahead.
GEO:-1.179228;52.987123
LOCATION:St Aidan's
URL:https://www.achurchnearyou.com/church/17961/service-and-events/events/
 1131993/
END:VEVENT
BEGIN:VEVENT
SUMMARY:Sunday Comtemplation
DTSTART;TZID=Europe/London:20270214T193000
DTEND;TZID=Europe/London:20270214T201500
DTSTAMP:20260423T013632Z
UID:11319932027-02-14 19:30:00+00:00achurchnearyou
CATEGORIES:
DESCRIPTION:Our evenving contemplation.\nA more relaxed and reflective gat
 hering in the evening\, praying for the week ahead.
GEO:-1.179228;52.987123
LOCATION:St Aidan's
URL:https://www.achurchnearyou.com/church/17961/service-and-events/events/
 1131993/
END:VEVENT
BEGIN:VEVENT
SUMMARY:Sunday Comtemplation
DTSTART;TZID=Europe/London:20270221T193000
DTEND;TZID=Europe/London:20270221T201500
DTSTAMP:20260423T013632Z
UID:11319932027-02-21 19:30:00+00:00achurchnearyou
CATEGORIES:
DESCRIPTION:Our evenving contemplation.\nA more relaxed and reflective gat
 hering in the evening\, praying for the week ahead.
GEO:-1.179228;52.987123
LOCATION:St Aidan's
URL:https://www.achurchnearyou.com/church/17961/service-and-events/events/
 1131993/
END:VEVENT
BEGIN:VEVENT
SUMMARY:Sunday Comtemplation
DTSTART;TZID=Europe/London:20270228T193000
DTEND;TZID=Europe/London:20270228T201500
DTSTAMP:20260423T013632Z
UID:11319932027-02-28 19:30:00+00:00achurchnearyou
CATEGORIES:
DESCRIPTION:Our evenving contemplation.\nA more relaxed and reflective gat
 hering in the evening\, praying for the week ahead.
GEO:-1.179228;52.987123
LOCATION:St Aidan's
URL:https://www.achurchnearyou.com/church/17961/service-and-events/events/
 1131993/
END:VEVENT
BEGIN:VEVENT
SUMMARY:Sunday Comtemplation
DTSTART;TZID=Europe/London:20270307T193000
DTEND;TZID=Europe/London:20270307T201500
DTSTAMP:20260423T013632Z
UID:11319932027-03-07 19:30:00+00:00achurchnearyou
CATEGORIES:
DESCRIPTION:Our evenving contemplation.\nA more relaxed and reflective gat
 hering in the evening\, praying for the week ahead.
GEO:-1.179228;52.987123
LOCATION:St Aidan's
URL:https://www.achurchnearyou.com/church/17961/service-and-events/events/
 1131993/
END:VEVENT
BEGIN:VEVENT
SUMMARY:Sunday Comtemplation
DTSTART;TZID=Europe/London:20270314T193000
DTEND;TZID=Europe/London:20270314T201500
DTSTAMP:20260423T013632Z
UID:11319932027-03-14 19:30:00+00:00achurchnearyou
CATEGORIES:
DESCRIPTION:Our evenving contemplation.\nA more relaxed and reflective gat
 hering in the evening\, praying for the week ahead.
GEO:-1.179228;52.987123
LOCATION:St Aidan's
URL:https://www.achurchnearyou.com/church/17961/service-and-events/events/
 1131993/
END:VEVENT
BEGIN:VEVENT
SUMMARY:Sunday Comtemplation
DTSTART;TZID=Europe/London:20270321T193000
DTEND;TZID=Europe/London:20270321T201500
DTSTAMP:20260423T013632Z
UID:11319932027-03-21 19:30:00+00:00achurchnearyou
CATEGORIES:
DESCRIPTION:Our evenving contemplation.\nA more relaxed and reflective gat
 hering in the evening\, praying for the week ahead.
GEO:-1.179228;52.987123
LOCATION:St Aidan's
URL:https://www.achurchnearyou.com/church/17961/service-and-events/events/
 1131993/
END:VEVENT
BEGIN:VEVENT
SUMMARY:Sunday Comtemplation
DTSTART;TZID=Europe/London:20270328T193000
DTEND;TZID=Europe/London:20270328T201500
DTSTAMP:20260423T013632Z
UID:11319932027-03-28 19:30:00+01:00achurchnearyou
CATEGORIES:
DESCRIPTION:Our evenving contemplation.\nA more relaxed and reflective gat
 hering in the evening\, praying for the week ahead.
GEO:-1.179228;52.987123
LOCATION:St Aidan's
URL:https://www.achurchnearyou.com/church/17961/service-and-events/events/
 1131993/
END:VEVENT
BEGIN:VEVENT
SUMMARY:Sunday Comtemplation
DTSTART;TZID=Europe/London:20270404T193000
DTEND;TZID=Europe/London:20270404T201500
DTSTAMP:20260423T013632Z
UID:11319932027-04-04 19:30:00+01:00achurchnearyou
CATEGORIES:
DESCRIPTION:Our evenving contemplation.\nA more relaxed and reflective gat
 hering in the evening\, praying for the week ahead.
GEO:-1.179228;52.987123
LOCATION:St Aidan's
URL:https://www.achurchnearyou.com/church/17961/service-and-events/events/
 1131993/
END:VEVENT
BEGIN:VEVENT
SUMMARY:Sunday Comtemplation
DTSTART;TZID=Europe/London:20270411T193000
DTEND;TZID=Europe/London:20270411T201500
DTSTAMP:20260423T013632Z
UID:11319932027-04-11 19:30:00+01:00achurchnearyou
CATEGORIES:
DESCRIPTION:Our evenving contemplation.\nA more relaxed and reflective gat
 hering in the evening\, praying for the week ahead.
GEO:-1.179228;52.987123
LOCATION:St Aidan's
URL:https://www.achurchnearyou.com/church/17961/service-and-events/events/
 1131993/
END:VEVENT
BEGIN:VEVENT
SUMMARY:Sunday Comtemplation
DTSTART;TZID=Europe/London:20270418T193000
DTEND;TZID=Europe/London:20270418T201500
DTSTAMP:20260423T013632Z
UID:11319932027-04-18 19:30:00+01:00achurchnearyou
CATEGORIES:
DESCRIPTION:Our evenving contemplation.\nA more relaxed and reflective gat
 hering in the evening\, praying for the week ahead.
GEO:-1.179228;52.987123
LOCATION:St Aidan's
URL:https://www.achurchnearyou.com/church/17961/service-and-events/events/
 1131993/
END:VEVENT
END:VCALENDAR
