BEGIN:VCALENDAR
VERSION:2.0
PRODID:-//achurchnearyou.com//eventfeed//EN
CALSCALE:GREGORIAN
METHOD:PUBLISH
X-WR-TIMEZONE:UTC
BEGIN:VEVENT
SUMMARY:St John's Easter Sunday Service
DTSTART:20260405T090000Z
DTEND:20260405T100000Z
DTSTAMP:20260420T093529Z
UID:13115642026-04-05 09:00:00+00:00achurchnearyou
CATEGORIES:
DESCRIPTION:Parish Eucharist
GEO:-1.150703;52.975537
LOCATION:St John's Carrington
URL:https://www.achurchnearyou.com/church/17963/service-and-events/events/
 1311564/
END:VEVENT
END:VCALENDAR
