BEGIN:VCALENDAR
VERSION:2.0
PRODID:-//achurchnearyou.com//eventfeed//EN
CALSCALE:GREGORIAN
METHOD:PUBLISH
X-WR-TIMEZONE:UTC
BEGIN:VEVENT
SUMMARY:Good Friday Service
DTSTART:20250418T140000Z
DTEND:20250418T150000Z
DTSTAMP:20260422T132707Z
UID:11712252025-04-18 14:00:00+00:00achurchnearyou
CATEGORIES:
DESCRIPTION:Service of Holy Communion that will take place in both Urdu an
 d English
GEO:-1.175408;52.968673
LOCATION:St Stephen with St Paul
URL:https://www.achurchnearyou.com/church/17965/service-and-events/events/
 1171225/
END:VEVENT
END:VCALENDAR
