BEGIN:VCALENDAR
VERSION:2.0
PRODID:-//achurchnearyou.com//eventfeed//EN
CALSCALE:GREGORIAN
METHOD:PUBLISH
X-WR-TIMEZONE:UTC
BEGIN:VEVENT
SUMMARY:Palm Sunday
DTSTART:20250413T093000Z
DTEND:20250413T110000Z
DTSTAMP:20260422T132553Z
UID:11712302025-04-13 09:30:00+00:00achurchnearyou
CATEGORIES:
DESCRIPTION:All Age Worship service led by one of our Fellowship groups
GEO:-1.175408;52.968673
LOCATION:St Stephen with St Paul
URL:https://www.achurchnearyou.com/church/17965/service-and-events/events/
 1171230/
END:VEVENT
END:VCALENDAR
