BEGIN:VCALENDAR
VERSION:2.0
PRODID:-//achurchnearyou.com//eventfeed//EN
CALSCALE:GREGORIAN
METHOD:PUBLISH
X-WR-TIMEZONE:UTC
BEGIN:VEVENT
SUMMARY:Easter Sunday Parish Communion
DTSTART;TZID=Europe/London:20260405T093000
DTEND;TZID=Europe/London:20260405T103000
DTSTAMP:20260422T095024Z
UID:13137881775377800.0achurchnearyou
CATEGORIES:
DESCRIPTION:All will be welcome to Parish Communion to celebrate Easter Su
 nday
GEO:-1.952299;53.657673
LOCATION:St John\, Rishworth
URL:https://www.achurchnearyou.com/church/17990/service-and-events/events/
 1313788/
END:VEVENT
END:VCALENDAR
