BEGIN:VCALENDAR
VERSION:2.0
PRODID:-//achurchnearyou.com//eventfeed//EN
CALSCALE:GREGORIAN
METHOD:PUBLISH
X-WR-TIMEZONE:UTC
BEGIN:VEVENT
SUMMARY:Maundy Thursday Communion
DTSTART;TZID=Europe/London:20260402T090000
DTEND;TZID=Europe/London:20260402T093000
DTSTAMP:20260425T023740Z
UID:13108551775116800.0achurchnearyou
CATEGORIES:
DESCRIPTION:Join us for a simple communion around a table as we remember J
 esus' final meal with friends.
LOCATION:Kingstone: St Michael & All Angels
URL:https://www.achurchnearyou.com/church/10394/service-and-events/events/
 1310855/
END:VEVENT
BEGIN:VEVENT
SUMMARY:Midweek Communion
DTSTART;TZID=Europe/London:20260402T093000
DTEND;TZID=Europe/London:20260402T103000
DTSTAMP:20260425T023740Z
UID:11871691775118600.0achurchnearyou
CATEGORIES:
DESCRIPTION:Join us for a simple Celtic Communion on the first Thursday of
  the month\, as well as on other feast days that fall on Thursday.
LOCATION:Kingstone: St Michael & All Angels
URL:https://www.achurchnearyou.com/church/10394/service-and-events/events/
 1187169/
END:VEVENT
BEGIN:VEVENT
SUMMARY:Tenebrae
DTSTART;TZID=Europe/London:20260402T190000
DTEND;TZID=Europe/London:20260402T200000
DTSTAMP:20260425T023740Z
UID:13108651775152800.0achurchnearyou
CATEGORIES:
DESCRIPTION:Join us for a service of candlelight and shadows as we contemp
 late the final events leading to Jesus' arrest and death.
GEO:-2.779281;52.018719
LOCATION:Allensmore:  St Andrew's
URL:https://www.achurchnearyou.com/church/10394/service-and-events/events/
 1310865/
END:VEVENT
BEGIN:VEVENT
SUMMARY:Good Friday Vigil
DTSTART;TZID=Europe/London:20260403T120000
DTEND;TZID=Europe/London:20260403T160000
DTSTAMP:20260425T023740Z
UID:13108801775214000.0achurchnearyou
CATEGORIES:
DESCRIPTION:Join us at the foot of the cross as we wait with Christ throug
 h his final hours.
LOCATION:Kingstone: St Michael & All Angels
URL:https://www.achurchnearyou.com/church/10394/service-and-events/events/
 1310880/
END:VEVENT
BEGIN:VEVENT
SUMMARY:Holy Saturday Breakfast & Prayers for Peace
DTSTART;TZID=Europe/London:20260404T090000
DTEND;TZID=Europe/London:20260404T100000
DTSTAMP:20260425T023740Z
UID:13108971775289600.0achurchnearyou
CATEGORIES:
DESCRIPTION:Join us for a simple breakfast followed by prayers for peace.
LOCATION:Eaton Bishop: St Michael & All Angels
URL:https://www.achurchnearyou.com/church/10394/service-and-events/events/
 1310897/
END:VEVENT
BEGIN:VEVENT
SUMMARY:Prayer 4 Ukraine
DTSTART;TZID=Europe/London:20260404T090000
DTEND;TZID=Europe/London:20260404T100000
DTSTAMP:20260425T023740Z
UID:11871431775289600.0achurchnearyou
CATEGORIES:
DESCRIPTION:Join us on Saturday morning between 9:00 and 10:00am in Eaton 
 Bishop Church for our informal prayer service for peace in Ukraine. Drop i
 n and out as you please
LOCATION:Eaton Bishop: St Michael & All Angels
URL:https://www.achurchnearyou.com/church/10394/service-and-events/events/
 1187143/
END:VEVENT
BEGIN:VEVENT
SUMMARY:Messy Church Egg Hunt & Crafts
DTSTART;TZID=Europe/London:20260404T153000
DTEND;TZID=Europe/London:20260404T163000
DTSTAMP:20260425T023740Z
UID:13109081775313000.0achurchnearyou
CATEGORIES:
DESCRIPTION:Join us as we celebrate Easter with an egg hunt and crafts!
LOCATION:Kingstone: St Michael & All Angels
URL:https://www.achurchnearyou.com/church/10394/service-and-events/events/
 1310908/
END:VEVENT
BEGIN:VEVENT
SUMMARY:Dawn Service
DTSTART;TZID=Europe/London:20260405T060000
DTEND;TZID=Europe/London:20260405T070000
DTSTAMP:20260425T023740Z
UID:13108391775365200.0achurchnearyou
CATEGORIES:
DESCRIPTION:A short service around the firepit in Thruxton Churchyard to c
 elebrate the resurrection.\nFollowed by a light breakfast.
LOCATION:Thruxton: St Bartholomew
URL:https://www.achurchnearyou.com/church/10394/service-and-events/events/
 1310839/
END:VEVENT
BEGIN:VEVENT
SUMMARY:BCP Easter Morning Communion
DTSTART;TZID=Europe/London:20260405T090000
DTEND;TZID=Europe/London:20260405T100000
DTSTAMP:20260425T023740Z
UID:13109321775376000.0achurchnearyou
CATEGORIES:
DESCRIPTION:Join us as we celebrate the resurrection with a traditional co
 mmunion service.
LOCATION:Clehonger: All Saints
URL:https://www.achurchnearyou.com/church/10394/service-and-events/events/
 1310932/
END:VEVENT
BEGIN:VEVENT
SUMMARY:Easter Praise
DTSTART;TZID=Europe/London:20260405T093000
DTEND;TZID=Europe/London:20260405T103000
DTSTAMP:20260425T023740Z
UID:13109571775377800.0achurchnearyou
CATEGORIES:
DESCRIPTION:Join us for an informal\, family-friendly celebration of Jesus
 ' resurrection!
LOCATION:Kingstone: St Michael & All Angels
URL:https://www.achurchnearyou.com/church/10394/service-and-events/events/
 1310957/
END:VEVENT
BEGIN:VEVENT
SUMMARY:Easter Morning Communion
DTSTART;TZID=Europe/London:20260405T093000
DTEND;TZID=Europe/London:20260405T103000
DTSTAMP:20260425T023740Z
UID:13109641775377800.0achurchnearyou
CATEGORIES:
DESCRIPTION:Join us as we celebrate the resurrection with a service of Hol
 y Communion\, and the renewal of our Baptismal vows!
LOCATION:St Devereux: St Dubricius
URL:https://www.achurchnearyou.com/church/10394/service-and-events/events/
 1310964/
END:VEVENT
BEGIN:VEVENT
SUMMARY:Easter Egg Hunt
DTSTART;TZID=Europe/London:20260405T103000
DTEND;TZID=Europe/London:20260405T113000
DTSTAMP:20260425T023740Z
UID:13109871775381400.0achurchnearyou
CATEGORIES:
DESCRIPTION:Easter Sunday\, all welcome!…a short telling of the Easter s
 tory followed by Easter egg hunt in and around church and castle grounds. 
 ☺️.\nIf it is still this wet\, wellies will be needed!
LOCATION:Kilpeck: St Mary & St David
URL:https://www.achurchnearyou.com/church/10394/service-and-events/events/
 1310987/
END:VEVENT
BEGIN:VEVENT
SUMMARY:Clehonger Messy Church
DTSTART;TZID=Europe/London:20260407T151500
DTEND;TZID=Europe/London:20260407T161500
DTSTAMP:20260425T023740Z
UID:11872071775571300.0achurchnearyou
CATEGORIES:
DESCRIPTION:Messy Church is a way of being church for families and others.
  It is Christ-centred\, for all ages\, and is based on creativity\, hospit
 ality and celebration. \nWe meet monthly (during term time) on the first T
 uesday of the month\, 3.15-4.15pm in Clehonger Primary School.
LOCATION:Clehonger Primary School
URL:https://www.facebook.com/abbeydore.messy.church/
END:VEVENT
BEGIN:VEVENT
SUMMARY:Morning Prayer
DTSTART;TZID=Europe/London:20260409T093000
DTEND;TZID=Europe/London:20260409T103000
DTSTAMP:20260425T023740Z
UID:11895881775723400.0achurchnearyou
CATEGORIES:
DESCRIPTION:Join us for Morning Prayer using the Common Worship Daily Offi
 ces.
LOCATION:Kingstone: St Michael & All Angels
URL:https://www.churchofengland.org/prayer-and-worship/join-us-service-dai
 ly-prayer
END:VEVENT
BEGIN:VEVENT
SUMMARY:Prayer 4 Ukraine
DTSTART;TZID=Europe/London:20260411T090000
DTEND;TZID=Europe/London:20260411T100000
DTSTAMP:20260425T023740Z
UID:11871431775894400.0achurchnearyou
CATEGORIES:
DESCRIPTION:Join us on Saturday morning between 9:00 and 10:00am in Eaton 
 Bishop Church for our informal prayer service for peace in Ukraine. Drop i
 n and out as you please
LOCATION:Eaton Bishop: St Michael & All Angels
URL:https://www.achurchnearyou.com/church/10394/service-and-events/events/
 1187143/
END:VEVENT
BEGIN:VEVENT
SUMMARY:Kingstone Messy Church
DTSTART;TZID=Europe/London:20260411T140000
DTEND;TZID=Europe/London:20260411T153000
DTSTAMP:20260425T023740Z
UID:11872171775912400.0achurchnearyou
CATEGORIES:
DESCRIPTION:Messy Church is a way of being church for families and others.
  It is Christ-centred\, for all ages\, and is based on creativity\, hospit
 ality and celebration. \nWe meet monthly (during term time) on the Second 
 Saturday of the month 2-3.30-pm at the Coop\, Arkstone Court.
LOCATION:The Coop Play Cafe
URL:https://www.facebook.com/abbeydore.messy.church/
END:VEVENT
BEGIN:VEVENT
SUMMARY:Midday Prayer
DTSTART;TZID=Europe/London:20260413T120000
DTEND;TZID=Europe/London:20260413T123000
DTSTAMP:20260425T023740Z
UID:11871571776078000.0achurchnearyou
CATEGORIES:
DESCRIPTION:Join us for a time of informal prayer for our communities.\nMo
 ndays 12noon\, cycling through the following churches:\n1st Monday of the 
 month -  Allensmore\n2nd	Monday of the month - Clehonger\n3rd	Monday of th
 e month - Eaton Bishop\n4th	Monday of the month - Thruxton
GEO:-2.779281;52.018719
LOCATION:Allensmore:  St Andrew's\nClehonger: All Saints\nEaton Bishop: St
  Michael & All Angels\nThruxton: St Bartholomew
URL:https://www.achurchnearyou.com/church/10394/service-and-events/events/
 1187157/
END:VEVENT
BEGIN:VEVENT
SUMMARY:Evening Prayer
DTSTART;TZID=Europe/London:20260414T173000
DTEND;TZID=Europe/London:20260414T183000
DTSTAMP:20260425T023740Z
UID:11871621776184200.0achurchnearyou
CATEGORIES:
DESCRIPTION:Join us for a time of informal prayer as we pray for our commu
 nities.\nTuesdays at 5.30pm\, cycling through the following churches:\n2nd
  Tuesday -	Kilpeck\n3rd Tuesday -	Wormbridge\n4th Tuesday - 	St Devereux
LOCATION:Kilpeck\, St Devereux\, and Wormbridge
URL:https://www.achurchnearyou.com/church/10394/service-and-events/events/
 1187162/
END:VEVENT
BEGIN:VEVENT
SUMMARY:Morning Prayer
DTSTART;TZID=Europe/London:20260416T093000
DTEND;TZID=Europe/London:20260416T103000
DTSTAMP:20260425T023740Z
UID:11895881776328200.0achurchnearyou
CATEGORIES:
DESCRIPTION:Join us for Morning Prayer using the Common Worship Daily Offi
 ces.
LOCATION:Kingstone: St Michael & All Angels
URL:https://www.churchofengland.org/prayer-and-worship/join-us-service-dai
 ly-prayer
END:VEVENT
BEGIN:VEVENT
SUMMARY:Prayer 4 Ukraine
DTSTART;TZID=Europe/London:20260418T090000
DTEND;TZID=Europe/London:20260418T100000
DTSTAMP:20260425T023740Z
UID:11871431776499200.0achurchnearyou
CATEGORIES:
DESCRIPTION:Join us on Saturday morning between 9:00 and 10:00am in Eaton 
 Bishop Church for our informal prayer service for peace in Ukraine. Drop i
 n and out as you please
LOCATION:Eaton Bishop: St Michael & All Angels
URL:https://www.achurchnearyou.com/church/10394/service-and-events/events/
 1187143/
END:VEVENT
BEGIN:VEVENT
SUMMARY:Midday Prayer
DTSTART;TZID=Europe/London:20260420T120000
DTEND;TZID=Europe/London:20260420T123000
DTSTAMP:20260425T023740Z
UID:11871571776682800.0achurchnearyou
CATEGORIES:
DESCRIPTION:Join us for a time of informal prayer for our communities.\nMo
 ndays 12noon\, cycling through the following churches:\n1st Monday of the 
 month -  Allensmore\n2nd	Monday of the month - Clehonger\n3rd	Monday of th
 e month - Eaton Bishop\n4th	Monday of the month - Thruxton
GEO:-2.779281;52.018719
LOCATION:Allensmore:  St Andrew's\nClehonger: All Saints\nEaton Bishop: St
  Michael & All Angels\nThruxton: St Bartholomew
URL:https://www.achurchnearyou.com/church/10394/service-and-events/events/
 1187157/
END:VEVENT
BEGIN:VEVENT
SUMMARY:Evening Prayer
DTSTART;TZID=Europe/London:20260421T173000
DTEND;TZID=Europe/London:20260421T183000
DTSTAMP:20260425T023740Z
UID:11871621776789000.0achurchnearyou
CATEGORIES:
DESCRIPTION:Join us for a time of informal prayer as we pray for our commu
 nities.\nTuesdays at 5.30pm\, cycling through the following churches:\n2nd
  Tuesday -	Kilpeck\n3rd Tuesday -	Wormbridge\n4th Tuesday - 	St Devereux
LOCATION:Kilpeck\, St Devereux\, and Wormbridge
URL:https://www.achurchnearyou.com/church/10394/service-and-events/events/
 1187162/
END:VEVENT
BEGIN:VEVENT
SUMMARY:Morning Prayer
DTSTART;TZID=Europe/London:20260423T093000
DTEND;TZID=Europe/London:20260423T103000
DTSTAMP:20260425T023740Z
UID:11895881776933000.0achurchnearyou
CATEGORIES:
DESCRIPTION:Join us for Morning Prayer using the Common Worship Daily Offi
 ces.
LOCATION:Kingstone: St Michael & All Angels
URL:https://www.churchofengland.org/prayer-and-worship/join-us-service-dai
 ly-prayer
END:VEVENT
BEGIN:VEVENT
SUMMARY:Prayer 4 Ukraine
DTSTART;TZID=Europe/London:20260425T090000
DTEND;TZID=Europe/London:20260425T100000
DTSTAMP:20260425T023740Z
UID:11871431777104000.0achurchnearyou
CATEGORIES:
DESCRIPTION:Join us on Saturday morning between 9:00 and 10:00am in Eaton 
 Bishop Church for our informal prayer service for peace in Ukraine. Drop i
 n and out as you please
LOCATION:Eaton Bishop: St Michael & All Angels
URL:https://www.achurchnearyou.com/church/10394/service-and-events/events/
 1187143/
END:VEVENT
BEGIN:VEVENT
SUMMARY:Midday Prayer
DTSTART;TZID=Europe/London:20260427T120000
DTEND;TZID=Europe/London:20260427T123000
DTSTAMP:20260425T023740Z
UID:11871571777287600.0achurchnearyou
CATEGORIES:
DESCRIPTION:Join us for a time of informal prayer for our communities.\nMo
 ndays 12noon\, cycling through the following churches:\n1st Monday of the 
 month -  Allensmore\n2nd	Monday of the month - Clehonger\n3rd	Monday of th
 e month - Eaton Bishop\n4th	Monday of the month - Thruxton
GEO:-2.779281;52.018719
LOCATION:Allensmore:  St Andrew's\nClehonger: All Saints\nEaton Bishop: St
  Michael & All Angels\nThruxton: St Bartholomew
URL:https://www.achurchnearyou.com/church/10394/service-and-events/events/
 1187157/
END:VEVENT
BEGIN:VEVENT
SUMMARY:Evening Prayer
DTSTART;TZID=Europe/London:20260428T173000
DTEND;TZID=Europe/London:20260428T183000
DTSTAMP:20260425T023740Z
UID:11871621777393800.0achurchnearyou
CATEGORIES:
DESCRIPTION:Join us for a time of informal prayer as we pray for our commu
 nities.\nTuesdays at 5.30pm\, cycling through the following churches:\n2nd
  Tuesday -	Kilpeck\n3rd Tuesday -	Wormbridge\n4th Tuesday - 	St Devereux
LOCATION:Kilpeck\, St Devereux\, and Wormbridge
URL:https://www.achurchnearyou.com/church/10394/service-and-events/events/
 1187162/
END:VEVENT
BEGIN:VEVENT
SUMMARY:Morning Prayer
DTSTART;TZID=Europe/London:20260430T093000
DTEND;TZID=Europe/London:20260430T103000
DTSTAMP:20260425T023740Z
UID:11895881777537800.0achurchnearyou
CATEGORIES:
DESCRIPTION:Join us for Morning Prayer using the Common Worship Daily Offi
 ces.
LOCATION:Kingstone: St Michael & All Angels
URL:https://www.churchofengland.org/prayer-and-worship/join-us-service-dai
 ly-prayer
END:VEVENT
BEGIN:VEVENT
SUMMARY:Prayer 4 Ukraine
DTSTART;TZID=Europe/London:20260502T090000
DTEND;TZID=Europe/London:20260502T100000
DTSTAMP:20260425T023740Z
UID:11871431777708800.0achurchnearyou
CATEGORIES:
DESCRIPTION:Join us on Saturday morning between 9:00 and 10:00am in Eaton 
 Bishop Church for our informal prayer service for peace in Ukraine. Drop i
 n and out as you please
LOCATION:Eaton Bishop: St Michael & All Angels
URL:https://www.achurchnearyou.com/church/10394/service-and-events/events/
 1187143/
END:VEVENT
BEGIN:VEVENT
SUMMARY:Midday Prayer
DTSTART;TZID=Europe/London:20260504T120000
DTEND;TZID=Europe/London:20260504T123000
DTSTAMP:20260425T023740Z
UID:11871571777892400.0achurchnearyou
CATEGORIES:
DESCRIPTION:Join us for a time of informal prayer for our communities.\nMo
 ndays 12noon\, cycling through the following churches:\n1st Monday of the 
 month -  Allensmore\n2nd	Monday of the month - Clehonger\n3rd	Monday of th
 e month - Eaton Bishop\n4th	Monday of the month - Thruxton
GEO:-2.779281;52.018719
LOCATION:Allensmore:  St Andrew's\nClehonger: All Saints\nEaton Bishop: St
  Michael & All Angels\nThruxton: St Bartholomew
URL:https://www.achurchnearyou.com/church/10394/service-and-events/events/
 1187157/
END:VEVENT
BEGIN:VEVENT
SUMMARY:Clehonger Messy Church
DTSTART;TZID=Europe/London:20260505T151500
DTEND;TZID=Europe/London:20260505T161500
DTSTAMP:20260425T023740Z
UID:11872071777990500.0achurchnearyou
CATEGORIES:
DESCRIPTION:Messy Church is a way of being church for families and others.
  It is Christ-centred\, for all ages\, and is based on creativity\, hospit
 ality and celebration. \nWe meet monthly (during term time) on the first T
 uesday of the month\, 3.15-4.15pm in Clehonger Primary School.
LOCATION:Clehonger Primary School
URL:https://www.facebook.com/abbeydore.messy.church/
END:VEVENT
BEGIN:VEVENT
SUMMARY:Midweek Communion
DTSTART;TZID=Europe/London:20260507T093000
DTEND;TZID=Europe/London:20260507T103000
DTSTAMP:20260425T023740Z
UID:11871691778142600.0achurchnearyou
CATEGORIES:
DESCRIPTION:Join us for a simple Celtic Communion on the first Thursday of
  the month\, as well as on other feast days that fall on Thursday.
LOCATION:Kingstone: St Michael & All Angels
URL:https://www.achurchnearyou.com/church/10394/service-and-events/events/
 1187169/
END:VEVENT
BEGIN:VEVENT
SUMMARY:Prayer 4 Ukraine
DTSTART;TZID=Europe/London:20260509T090000
DTEND;TZID=Europe/London:20260509T100000
DTSTAMP:20260425T023740Z
UID:11871431778313600.0achurchnearyou
CATEGORIES:
DESCRIPTION:Join us on Saturday morning between 9:00 and 10:00am in Eaton 
 Bishop Church for our informal prayer service for peace in Ukraine. Drop i
 n and out as you please
LOCATION:Eaton Bishop: St Michael & All Angels
URL:https://www.achurchnearyou.com/church/10394/service-and-events/events/
 1187143/
END:VEVENT
BEGIN:VEVENT
SUMMARY:Kingstone Messy Church
DTSTART;TZID=Europe/London:20260509T140000
DTEND;TZID=Europe/London:20260509T153000
DTSTAMP:20260425T023740Z
UID:11872171778331600.0achurchnearyou
CATEGORIES:
DESCRIPTION:Messy Church is a way of being church for families and others.
  It is Christ-centred\, for all ages\, and is based on creativity\, hospit
 ality and celebration. \nWe meet monthly (during term time) on the Second 
 Saturday of the month 2-3.30-pm at the Coop\, Arkstone Court.
LOCATION:The Coop Play Cafe
URL:https://www.facebook.com/abbeydore.messy.church/
END:VEVENT
BEGIN:VEVENT
SUMMARY:Midday Prayer
DTSTART;TZID=Europe/London:20260511T120000
DTEND;TZID=Europe/London:20260511T123000
DTSTAMP:20260425T023740Z
UID:11871571778497200.0achurchnearyou
CATEGORIES:
DESCRIPTION:Join us for a time of informal prayer for our communities.\nMo
 ndays 12noon\, cycling through the following churches:\n1st Monday of the 
 month -  Allensmore\n2nd	Monday of the month - Clehonger\n3rd	Monday of th
 e month - Eaton Bishop\n4th	Monday of the month - Thruxton
GEO:-2.779281;52.018719
LOCATION:Allensmore:  St Andrew's\nClehonger: All Saints\nEaton Bishop: St
  Michael & All Angels\nThruxton: St Bartholomew
URL:https://www.achurchnearyou.com/church/10394/service-and-events/events/
 1187157/
END:VEVENT
BEGIN:VEVENT
SUMMARY:Evening Prayer
DTSTART;TZID=Europe/London:20260512T173000
DTEND;TZID=Europe/London:20260512T183000
DTSTAMP:20260425T023740Z
UID:11871621778603400.0achurchnearyou
CATEGORIES:
DESCRIPTION:Join us for a time of informal prayer as we pray for our commu
 nities.\nTuesdays at 5.30pm\, cycling through the following churches:\n2nd
  Tuesday -	Kilpeck\n3rd Tuesday -	Wormbridge\n4th Tuesday - 	St Devereux
LOCATION:Kilpeck\, St Devereux\, and Wormbridge
URL:https://www.achurchnearyou.com/church/10394/service-and-events/events/
 1187162/
END:VEVENT
BEGIN:VEVENT
SUMMARY:Morning Prayer
DTSTART;TZID=Europe/London:20260514T093000
DTEND;TZID=Europe/London:20260514T103000
DTSTAMP:20260425T023740Z
UID:11895881778747400.0achurchnearyou
CATEGORIES:
DESCRIPTION:Join us for Morning Prayer using the Common Worship Daily Offi
 ces.
LOCATION:Kingstone: St Michael & All Angels
URL:https://www.churchofengland.org/prayer-and-worship/join-us-service-dai
 ly-prayer
END:VEVENT
BEGIN:VEVENT
SUMMARY:Prayer 4 Ukraine
DTSTART;TZID=Europe/London:20260516T090000
DTEND;TZID=Europe/London:20260516T100000
DTSTAMP:20260425T023740Z
UID:11871431778918400.0achurchnearyou
CATEGORIES:
DESCRIPTION:Join us on Saturday morning between 9:00 and 10:00am in Eaton 
 Bishop Church for our informal prayer service for peace in Ukraine. Drop i
 n and out as you please
LOCATION:Eaton Bishop: St Michael & All Angels
URL:https://www.achurchnearyou.com/church/10394/service-and-events/events/
 1187143/
END:VEVENT
BEGIN:VEVENT
SUMMARY:Midday Prayer
DTSTART;TZID=Europe/London:20260518T120000
DTEND;TZID=Europe/London:20260518T123000
DTSTAMP:20260425T023740Z
UID:11871571779102000.0achurchnearyou
CATEGORIES:
DESCRIPTION:Join us for a time of informal prayer for our communities.\nMo
 ndays 12noon\, cycling through the following churches:\n1st Monday of the 
 month -  Allensmore\n2nd	Monday of the month - Clehonger\n3rd	Monday of th
 e month - Eaton Bishop\n4th	Monday of the month - Thruxton
GEO:-2.779281;52.018719
LOCATION:Allensmore:  St Andrew's\nClehonger: All Saints\nEaton Bishop: St
  Michael & All Angels\nThruxton: St Bartholomew
URL:https://www.achurchnearyou.com/church/10394/service-and-events/events/
 1187157/
END:VEVENT
BEGIN:VEVENT
SUMMARY:Evening Prayer
DTSTART;TZID=Europe/London:20260519T173000
DTEND;TZID=Europe/London:20260519T183000
DTSTAMP:20260425T023740Z
UID:11871621779208200.0achurchnearyou
CATEGORIES:
DESCRIPTION:Join us for a time of informal prayer as we pray for our commu
 nities.\nTuesdays at 5.30pm\, cycling through the following churches:\n2nd
  Tuesday -	Kilpeck\n3rd Tuesday -	Wormbridge\n4th Tuesday - 	St Devereux
LOCATION:Kilpeck\, St Devereux\, and Wormbridge
URL:https://www.achurchnearyou.com/church/10394/service-and-events/events/
 1187162/
END:VEVENT
BEGIN:VEVENT
SUMMARY:Morning Prayer
DTSTART;TZID=Europe/London:20260521T093000
DTEND;TZID=Europe/London:20260521T103000
DTSTAMP:20260425T023740Z
UID:11895881779352200.0achurchnearyou
CATEGORIES:
DESCRIPTION:Join us for Morning Prayer using the Common Worship Daily Offi
 ces.
LOCATION:Kingstone: St Michael & All Angels
URL:https://www.churchofengland.org/prayer-and-worship/join-us-service-dai
 ly-prayer
END:VEVENT
BEGIN:VEVENT
SUMMARY:Prayer 4 Ukraine
DTSTART;TZID=Europe/London:20260523T090000
DTEND;TZID=Europe/London:20260523T100000
DTSTAMP:20260425T023740Z
UID:11871431779523200.0achurchnearyou
CATEGORIES:
DESCRIPTION:Join us on Saturday morning between 9:00 and 10:00am in Eaton 
 Bishop Church for our informal prayer service for peace in Ukraine. Drop i
 n and out as you please
LOCATION:Eaton Bishop: St Michael & All Angels
URL:https://www.achurchnearyou.com/church/10394/service-and-events/events/
 1187143/
END:VEVENT
BEGIN:VEVENT
SUMMARY:Midday Prayer
DTSTART;TZID=Europe/London:20260525T120000
DTEND;TZID=Europe/London:20260525T123000
DTSTAMP:20260425T023740Z
UID:11871571779706800.0achurchnearyou
CATEGORIES:
DESCRIPTION:Join us for a time of informal prayer for our communities.\nMo
 ndays 12noon\, cycling through the following churches:\n1st Monday of the 
 month -  Allensmore\n2nd	Monday of the month - Clehonger\n3rd	Monday of th
 e month - Eaton Bishop\n4th	Monday of the month - Thruxton
GEO:-2.779281;52.018719
LOCATION:Allensmore:  St Andrew's\nClehonger: All Saints\nEaton Bishop: St
  Michael & All Angels\nThruxton: St Bartholomew
URL:https://www.achurchnearyou.com/church/10394/service-and-events/events/
 1187157/
END:VEVENT
BEGIN:VEVENT
SUMMARY:Evening Prayer
DTSTART;TZID=Europe/London:20260526T173000
DTEND;TZID=Europe/London:20260526T183000
DTSTAMP:20260425T023740Z
UID:11871621779813000.0achurchnearyou
CATEGORIES:
DESCRIPTION:Join us for a time of informal prayer as we pray for our commu
 nities.\nTuesdays at 5.30pm\, cycling through the following churches:\n2nd
  Tuesday -	Kilpeck\n3rd Tuesday -	Wormbridge\n4th Tuesday - 	St Devereux
LOCATION:Kilpeck\, St Devereux\, and Wormbridge
URL:https://www.achurchnearyou.com/church/10394/service-and-events/events/
 1187162/
END:VEVENT
BEGIN:VEVENT
SUMMARY:Morning Prayer
DTSTART;TZID=Europe/London:20260528T093000
DTEND;TZID=Europe/London:20260528T103000
DTSTAMP:20260425T023740Z
UID:11895881779957000.0achurchnearyou
CATEGORIES:
DESCRIPTION:Join us for Morning Prayer using the Common Worship Daily Offi
 ces.
LOCATION:Kingstone: St Michael & All Angels
URL:https://www.churchofengland.org/prayer-and-worship/join-us-service-dai
 ly-prayer
END:VEVENT
BEGIN:VEVENT
SUMMARY:Prayer 4 Ukraine
DTSTART;TZID=Europe/London:20260530T090000
DTEND;TZID=Europe/London:20260530T100000
DTSTAMP:20260425T023740Z
UID:11871431780128000.0achurchnearyou
CATEGORIES:
DESCRIPTION:Join us on Saturday morning between 9:00 and 10:00am in Eaton 
 Bishop Church for our informal prayer service for peace in Ukraine. Drop i
 n and out as you please
LOCATION:Eaton Bishop: St Michael & All Angels
URL:https://www.achurchnearyou.com/church/10394/service-and-events/events/
 1187143/
END:VEVENT
END:VCALENDAR
